Workbook
Name EDD: '[1]Pricing & Length'!$A$8:$A$26
Name EDDNY: '[1]Pricing & Length'!$A$8:$A$26
Name Lower_Upper: #REF!
Name Lower_Upper: #REF!
Name NYPrograms: #REF!
Name NYPrograms: #REF!
Name Pgms: '[2]Pricing & Length CY'!$A$8:$A$34
Name Places: '[2]Sites & Schools'!$B$4:$B$13
Name Programs: #REF!
Name Programs: #REF!
Name Sites: #REF!
Name Sites: #REF!
Name Update: '5 Next Year'!#REF!

Sheet Instructions
G2: Version 2025.1
B4: S U M M A R Y I N S T R U C T I O N S
C6: 1 | D6: On the '1 Pricing Length' tab, enter the institution name, current year-end date and program abreviation (3 to 5 spaces in length).
D7: Also, enter the standard weeks that each program cohort consumes and the official (total) program pricing for each year.
C8: 2 | D8: Select the '2 Current Year' tab and enter the proposed 'Allowance' rate in cell S7. (10% recommended)
D9: Cohorts tend to lose students over time.
C10: 3 | D10: In columns A through H, enter carryover cohorts that will generate some revenue for the year being budgeted.
D11: A carryover cohort begins before the year starts. For those cohorts, enter in 'budg' and 'actual' enrollments as the same
D12: number. Also, enter in the "Budget' and 'Actual" start dates as identical times and enter the 'End Date'.
C13: 4 | D13: Enter 'Planned' start dates and 'Budg' cohort population for cohorts that are yet to start. Leave 'Actual' blank until they start.
C14: 5 | D14: As cohorts start, enter 'Actual' start date, end date and the cohort's actual starting population under the 'Begin' column.
C15: 6 | D15: For starts that wind up Cancelled, enter a 'C' in column H.
C16: 7 | D16: At the bottom of column U, enter in estimates for non-cohort style programs.
C17: 8 | D17: After a cohort has started (or was carried over), update current cohort population using the tab labeled '3 CY Interim'.
D18: In that worksheet, enter the dates of measurement for up to eight points in time (M1 - M8) within the fiscal year
C19: 9 | D19: While budgeted revenues should remain unchanged during the year, variances will be tracked and totalled ('N8')
D20: and a current projection of revenues reported ('P8').
C21: 10 | D21: The tab '4 CY Summ' provides summary data by program, school and location, along with variances and projections.
C22: 11 | D22: You can begin work on the following fiscal year by pressing the button "Update" on tab '5 Next Year'
C23: 12 | D23: When you have finished being concerned about carryover cohorts, enter next year's new starts in '5 Next Year'
D25: AFTER ENTERING DATA IN COLUMNS A THROUGH H, DO NOT CHANGE THOSE VALUES DURING THE YEAR.
D26: CHANGES IN CY POPULATIONS CAN BE MADE IN TAB '3 CY Interim', WITH VARIANCES RECORDED.
G30: http://cfocolleague.com

Sheet 1 Pricing Length
E1: Example College
E2: Pricing & Length Grid | I2: =Instructions!G2 -> Version 2025.1
E3: enter in | F3: Blue Cells
E5: P R I C I N G
A6: Program | B6: School | C6: standard | D6: Attrition | E6: f o r t h e y e a r s e n d e d | M6: S I T E S | R6: S C H O O L S
A7: (enter in alpha order) | C7: weeks | D7: Factor % | E7: =DATE(YEAR(F7)-1,MONTH(F7),DAY(F7)) -> 44742 | F7: =DATE(YEAR(G7)-1,MONTH(G7),DAY(G7)) -> 45107 | G7: =DATE(YEAR(H7)-1,MONTH(H7),DAY(H7)) -> 45473 | H7: 45838 | I7: =DATE(YEAR(H7)+1,MONTH(H7),DAY(H7)) -> 46203 | M7: Code | O7: Name | R7: Code | T7: Name
A8: AA | B8: LRT | C8: 88 | D8: 0.1 | E8: 15000 | F8: 15500 | G8: 16000 | H8: 16500 | I8: 17000 | M8: AKR | O8: Akron | R8: BUS | T8: Business
A9: BBA | B9: BUS | C9: 68 | D9: 0.125 | E9: 18000 | F9: 18500 | G9: 19000 | H9: 19500 | I9: 20000 | M9: CAM | O9: Main Campus | R9: EDU | T9: Education
A10: BSN | B10: NUR | C10: 72 | D10: 0.05 | E10: 19000 | F10: 19500 | G10: 20000 | H10: 20500 | I10: 21000 | M10: ONL | O10: Online | R10: LRT | T10: Liberal Arts
A11: CRJ | B11: LRT | C11: 65 | D11: 0.04 | E11: 20000 | F11: 20500 | G11: 21000 | H11: 21500 | I11: 22000 | M11: CLV | O11: Cleveland | R11: NUR | T11: Nursing
A12: EDM | B12: EDU | C12: 72 | D12: 0.06 | E12: 21000 | F12: 21500 | G12: 22000 | H12: 22500 | I12: 23000 | M12: DET | O12: Detroit | R12: REL | T12: Religion
A13: MBA | B13: BUS | C13: 75 | D13: 0.03 | E13: 24000 | F13: 24500 | G13: 25000 | H13: 25500 | I13: 26000 | M13: TOL | O13: Toledo
A14: REL | B14: REL | C14: 60 | D14: 0.07 | E14: 12000 | F14: 12500 | G14: 13000 | H14: 13600 | I14: 14000
A52: note that the standard number of weeks should include anticipated breaks and holidays

Sheet 2 Current Year
A2: ='1 Pricing Length'!E1 -> Example College | L2: Weeks / Tuition | O2: Variances | T2: Calculations (outputs) | AD2: Intermediate Calculated Data
Z3: =Instructions!G2 -> Version 2025.1
A4: Forecast FYE | B4: 1 | C4: Only columns 'A' through 'H' should be entered in or erased. | L4: Length (weeks) | N4: Program | O4: Cohort Size | R4: Start | S4: Total | X4: Fiscal Year-End when Revenues are Recognized | AB4: FTE | AD4: First FYE | AE4: Tuition | AF4: Weeks in session for each FY ending
A5: =W5 -> 45838 | B5: 2 | C5: Entering "C" in column 'H' means Cancelled | L5: Budg | M5: Act | N5: Tuition | O5: Beginning | P5: CY Interim | Q5: Length | R5: Date | S5: Variance | T5: ='1 Pricing Length'!E7 -> 44742 | U5: ='1 Pricing Length'!F7 -> 45107 | V5: ='1 Pricing Length'!G7 -> 45473 | W5: ='1 Pricing Length'!H7 -> 45838 | X5: ='1 Pricing Length'!I7 -> 46203 | Y5: =DATE(YEAR(X5)+1,MONTH(X5),DAY(X5)) -> 46568 | Z5: =DATE(YEAR(Y5)+1,MONTH(Y5),DAY(Y5)) -> 46934 | AA5: Total | AB5: =W5 -> 45838 | AE5: per week | AF5: =T5 -> 44742 | AG5: =U5 -> 45107 | AH5: =V5 -> 45473 | AI5: =W5 -> 45838 | AJ5: =X5 -> 46203 | AK5: =Y5 -> 46568 | AL5: =Z5 -> 46934
A6: Current Year | B6: 3 | C6: During the year, enter changes in cohort size on tab '3 CY Interim' | O6: =AO253-AM253 -> 0.3238095 | V6: Gross | W6: =W257 -> 5997853.1 | AU6: =SUBTOTAL(9,AU10:AU263) -> 0 | AV6: =SUBTOTAL(9,AV10:AV263) -> 981989.59 | AW6: =SUBTOTAL(9,AW10:AW263) -> 4028364.6
A7: Identifier | B7: Program | C7: Site | D7: Start Dates | F7: End Dates | G7: Population | O7: =O252 -> -442527.92 | P7: =P252 -> 337710.74 | Q7: =Q252 -> 4556089.3 | R7: =R252 -> -39392.424 | S7: =+S8-W8 -> 4771246.5 | V7: (Allowance) | W7: ='4 CY Summ'!D50 -> -359366.8 | X7: =-W7/W6 -> 0.059915906 | AB7: =SUBTOTAL(9,AB10:AB395) -> 402.22802 | AM7: Overall | AN7: Started Cohorts
D8: Planned | E8: Actual | F8: Actual | G8: Budg | H8: CYstart | I8: Interim | J8: Ostart | K8: Ret % | P8: CY variance | Q8: =O7+P7+Q7+R7 -> 4411879.7 | R8: Projected Rev | S8: =W6+Q8 -> 10409733 | V8: Budget | W8: =W6+W7 -> 5638486.3 | AM8: Budget | AN8: Actual | AO8: Budget | AP8: Variance
B10: AA | C10: CAM | D10: 45501 | E10: 45501 | F10: 46465 | G10: 30 | H10: 16 | L10: =IF(B10<>"",IF(D10>0,IF(D10<=V$5,IF(M10>0,M10,VLOOKUP(B10,'1 Pricing Length'!A$8:C$50,3)),VLOOKUP(B10,'1 Pricing Length'!A$8:C$50,3)),0),0) -> 88 | M10: =IF(E10<>"",IF(F10<>"",(F10-E10)/7,0),0) -> 137.71429 | N10: =IF(B10<>"",IF(D10<>0,IF(AD10<Y$5,IF(AD10<X$5,IF(AD10<W$5,IF(AD10<V$5,IF(AD10<U$5,VLOOKUP(B10,'1 Pricing Length'!A$8:I$64,4),VLOOKUP(B10,'1 Pricing Length'!A$8:I$64,5)),VLOOKUP(B10,'1 Pricing Length'!A$8:I$64,6)),VLOOKUP(B10,'1 Pricing Length'!A$8:I$64,7)),VLOOKUP(B10,'1 Pricing Length'!A$8:I$64,8)),0),0),0) -> 16000 | O10: =IF(H10<>"c",IF(H10<>"",IF(G10>0,W10*H10/G10-W10,IF(E10>V$5,IF(F10>W$5,ROUND((W$5-E10)/7,0)*AE10*H10,ROUND((F10-E10)/7,0)*AE10*H10),"enter budget")),0),-W10) -> -124727.27 | P10: ='3 CY Interim'!P10 -> -29012.987 | Q10: =IF(G10>0,IF(H10<>"C",IF(H10<>"",IF(E10>0,IF(F10>0,IF(M10>0,(W10/(M10/L10)-W10),(O10/(M10/L10)-O10)),0),0),0),0),0) -> -96484.346 | R10: =IF(H10<>"c",IF(E10>0,IF(AD10=W$5,IF(H10>0,IF(E10>AH$5,(AQ10-AI10)*G10*AE10,(52-AI10)*G10*AE10),0),0),0),0) -> 0 | S10: =SUM(O10:R10) -> -250224.61 | T10: =$G10*$AE10*AF10 -> 0 | U10: =$G10*$AE10*AG10 -> 0 | V10: =$G10*$AE10*AH10 -> 0 | W10: =$G10*$AE10*AI10 -> 267272.73 | X10: =IF(H10<>"c",$G10*$AE10*AJ10,0) -> 212727.27 | Y10: =IF(H10<>"c",$G10*$AE10*AK10,0) -> 0 | Z10: =IF(H10<>"c",$G10*$AE10*AL10,0) -> 0 | AA10: =SUM(T10:Z10) -> 480000 | AB10: =G10*AI10/52 -> 28.269231 | AD10: =IF(D10<=X$5,IF(D10<=W$5,IF(D10<=V$5,IF(D10<U$5,IF(D10<T$5,T$5,U$5),V$5),W$5),X$5),Y$5) -> 45838 | AE10: =IF(L10>1,N10/L10,0) -> 181.81818 | AF10: =IF(D10>0,IF($AD10=T$5,IF(E10=0,ROUND(($AD10-$D10)/7+0.5,0),ROUND(($AD10-$E10)/7+0.5,0)),0),0) -> 0 | AG10: =IF($D10>0,IF($AD10<=U$5,IF(SUM($AF10:AF10)>0,IF($L10-SUM($AF10:AF10)>52,52,$L10-SUM($AF10:AF10)),IF($AD10=U$5,IF(($D10+($L10*7))>=U$5,ROUND(($AD10-$D10)/7+0.5,0),$L10))),0),0) -> 0 | AH10: =IF($D10>0,IF($AD10<=V$5,IF(SUM($AF10:AG10)>0,IF($L10-SUM($AF10:AG10)>52,52,$L10-SUM($AF10:AG10)),IF($AD10=V$5,IF(($D10+($L10*7))>=V$5,ROUND(($AD10-$D10)/7+0.5,0),$L10))),0),0) -> 0 | AI10: =IF($D10>0,IF($AD10<=W$5,IF(SUM($AF10:AH10)>0,IF($L10-SUM($AF10:AH10)>52,52,$L10-SUM($AF10:AH10)),IF($AD10=W$5,IF(($D10+($L10*7))>=W$5,ROUND(($AD10-$D10)/7+0.5,0),$L10))),0),0) -> 49 | AJ10: =IF($D10>0,IF($AD10<=X$5,IF(SUM($AF10:AI10)>0,IF($L10-SUM($AF10:AI10)>52,52,$L10-SUM($AF10:AI10)),IF($AD10=X$5,IF(($D10+($L10*7))>=X$5,ROUND(($AD10-$D10)/7+0.5,0),$L10))),0),0) -> 39 | AK10: =IF($D10>0,IF($AD10<=Y$5,IF(SUM($AF10:AJ10)>0,IF($L10-SUM($AF10:AJ10)>52,52,$L10-SUM($AF10:AJ10)),IF($AD10=Y$5,IF(($D10+($L10*7))>=Y$5,ROUND(($AD10-$D10)/7+0.5,0),$L10))),0),0) -> 0 | AL10: =IF($D10>0,IF($AD10<=Z$5,IF(SUM($AF10:AK10)>0,IF($L10-SUM($AF10:AK10)>52,52,$L10-SUM($AF10:AK10)),IF($AD10=Z$5,IF(($D10+($L10*7))>=Z$5,ROUND(($AD10-$D10)/7+0.5,0),$L10))),0),0) -> 0 | AM10: =IF(W10<>0,IF(D10<>"",G10,0),IF(O10>0,G10,"")) -> 30 | AN10: =IF(W10<>0,IF(H10<>"c",IF(E10<>"",H10,""),""),IF(O10>0,H10,"")) -> 16 | AO10: =IF(AN10<>"",AM10,"") -> 30 | AP10: =IF(AN10<>"",AN10-AO10,"") -> -14 | AQ10: =IF(E10<>0,IF(E10>V$5,IF(E10<=W$5,IF(D10>V$5,ROUND(((D10-E10)/7+AI10+0.4),0),ROUND(((V$5-E10)/7+AI10+0.4),0)),0),52),AI10) -> 49 | AR10: =IF(D10<=V$5,IF(E10>V$5,IF(E10<=W$5,W$5,X$5),0),0) -> 0 | AS10: =IF(AR10>AD10,IF(E10<=W$5,ROUND(((V$5-E10)/7),0)*AE10*G10,-W10),0) -> 0 | AT10: =IF(H10<>" ",IF(H10<>"c",IF(H10<>0,H10-G10,0),-G10),0) -> -14 | AU10: =IF($AD10=T$5,$W10,0) -> 0 | AV10: =IF($AD10=V$5,$W10,0) -> 0 | AW10: =IF($AD10=W$5,$W10,0) -> 267272.73 | AX10: =IF(E10>0,E10,D10) -> 45501 | AY10: =IF(H10<>"C",IF(H10>0,H10,G10),0) -> 16 | AZ10: =W10+S10 -> 17048.122 | BA10: =IF(B10<>"",VLOOKUP(B10,'1 Pricing Length'!A$8:B$50,2),"") -> LRT
B11: AA | C11: ONL | D11: 45529 | E11: 45529 | F11: 46500 | G11: 30 | H11: 23 | L11: =IF(B11<>"",IF(D11>0,IF(D11<=V$5,IF(M11>0,M11,VLOOKUP(B11,'1 Pricing Length'!A$8:C$50,3)),VLOOKUP(B11,'1 Pricing Length'!A$8:C$50,3)),0),0) -> 88 | M11: =IF(E11<>"",IF(F11<>"",(F11-E11)/7,0),0) -> 138.71429 | N11: =IF(B11<>"",IF(D11<>0,IF(AD11<Y$5,IF(AD11<X$5,IF(AD11<W$5,IF(AD11<V$5,IF(AD11<U$5,VLOOKUP(B11,'1 Pricing Length'!A$8:I$50,4),VLOOKUP(B11,'1 Pricing Length'!A$8:I$50,5)),VLOOKUP(B11,'1 Pricing Length'!A$8:I$50,6)),VLOOKUP(B11,'1 Pricing Length'!A$8:I$50,7)),VLOOKUP(B11,'1 Pricing Length'!A$8:I$50,8)),0),0),0) -> 16000 | O11: =IF(H11<>"c",IF(H11<>"",IF(G11>0,W11*H11/G11-W11,IF(E11>V$5,IF(F11>W$5,ROUND((W$5-E11)/7,0)*AE11*H11,ROUND((F11-E11)/7,0)*AE11*H11),"enter budget")),0),-W11) -> -57272.727 | P11: ='3 CY Interim'!P11 -> 0 | Q11: =IF(G11>0,IF(H11<>"C",IF(H11<>"",IF(E11>0,IF(F11>0,IF(M11>0,(W11/(M11/L11)-W11),(O11/(M11/L11)-O11)),0),0),0),0),0) -> -89738.789 | R11: =IF(H11<>"c",IF(E11>0,IF(AD11=W$5,IF(H11>0,IF(E11>AH$5,(AQ11-AI11)*G11*AE11,(52-AI11)*G11*AE11),0),0),0),0) -> 0 | S11: =SUM(O11:R11) -> -147011.52 | T11: =$G11*$AE11*AF11 -> 0 | U11: =$G11*$AE11*AG11 -> 0 | V11: =$G11*$AE11*AH11 -> 0 | W11: =$G11*$AE11*AI11 -> 245454.55 | X11: =IF(H11<>"c",$G11*$AE11*AJ11,0) -> 234545.45 | Y11: =IF(H11<>"c",$G11*$AE11*AK11,0) -> 0 | Z11: =IF(H11<>"c",$G11*$AE11*AL11,0) -> 0 | AA11: =SUM(T11:Z11) -> 480000 | AB11: =G11*AI11/52 -> 25.961538 | AD11: =IF(D11<=X$5,IF(D11<=W$5,IF(D11<=V$5,IF(D11<U$5,IF(D11<T$5,T$5,U$5),V$5),W$5),X$5),Y$5) -> 45838 | AE11: =IF(L11>1,N11/L11,0) -> 181.81818 | AF11: =IF(D11>0,IF($AD11=T$5,IF(E11=0,ROUND(($AD11-$D11)/7+0.5,0),ROUND(($AD11-$E11)/7+0.5,0)),0),0) -> 0 | AG11: =IF($D11>0,IF($AD11<=U$5,IF(SUM($AF11:AF11)>0,IF($L11-SUM($AF11:AF11)>52,52,$L11-SUM($AF11:AF11)),IF($AD11=U$5,IF(($D11+($L11*7))>=U$5,ROUND(($AD11-$D11)/7+0.5,0),$L11))),0),0) -> 0 | AH11: =IF($D11>0,IF($AD11<=V$5,IF(SUM($AF11:AG11)>0,IF($L11-SUM($AF11:AG11)>52,52,$L11-SUM($AF11:AG11)),IF($AD11=V$5,IF(($D11+($L11*7))>=V$5,ROUND(($AD11-$D11)/7+0.5,0),$L11))),0),0) -> 0 | AI11: =IF($D11>0,IF($AD11<=W$5,IF(SUM($AF11:AH11)>0,IF($L11-SUM($AF11:AH11)>52,52,$L11-SUM($AF11:AH11)),IF($AD11=W$5,IF(($D11+($L11*7))>=W$5,ROUND(($AD11-$D11)/7+0.5,0),$L11))),0),0) -> 45 | AJ11: =IF($D11>0,IF($AD11<=X$5,IF(SUM($AF11:AI11)>0,IF($L11-SUM($AF11:AI11)>52,52,$L11-SUM($AF11:AI11)),IF($AD11=X$5,IF(($D11+($L11*7))>=X$5,ROUND(($AD11-$D11)/7+0.5,0),$L11))),0),0) -> 43 | AK11: =IF($D11>0,IF($AD11<=Y$5,IF(SUM($AF11:AJ11)>0,IF($L11-SUM($AF11:AJ11)>52,52,$L11-SUM($AF11:AJ11)),IF($AD11=Y$5,IF(($D11+($L11*7))>=Y$5,ROUND(($AD11-$D11)/7+0.5,0),$L11))),0),0) -> 0 | AL11: =IF($D11>0,IF($AD11<=Z$5,IF(SUM($AF11:AK11)>0,IF($L11-SUM($AF11:AK11)>52,52,$L11-SUM($AF11:AK11)),IF($AD11=Z$5,IF(($D11+($L11*7))>=Z$5,ROUND(($AD11-$D11)/7+0.5,0),$L11))),0),0) -> 0 | AM11: =IF(W11<>0,IF(D11<>"",G11,0),IF(O11>0,G11,"")) -> 30 | AN11: =IF(W11<>0,IF(H11<>"c",IF(E11<>"",H11,""),""),IF(O11>0,H11,"")) -> 23 | AO11: =IF(AN11<>"",AM11,"") -> 30 | AP11: =IF(AN11<>"",AN11-AO11,"") -> -7 | AQ11: =IF(E11<>0,IF(E11>V$5,IF(E11<=W$5,IF(D11>V$5,ROUND(((D11-E11)/7+AI11+0.4),0),ROUND(((V$5-E11)/7+AI11+0.4),0)),0),52),AI11) -> 45 | AR11: =IF(D11<=V$5,IF(E11>V$5,IF(E11<=W$5,W$5,X$5),0),0) -> 0 | AS11: =IF(AR11>AD11,IF(E11<=W$5,ROUND(((V$5-E11)/7),0)*AE11*G11,-W11),0) -> 0 | AT11: =IF(H11<>" ",IF(H11<>"c",IF(H11<>0,H11-G11,0),-G11),0) -> -7 | AU11: =IF($AD11=T$5,$W11,0) -> 0 | AV11: =IF($AD11=V$5,$W11,0) -> 0 | AW11: =IF($AD11=W$5,$W11,0) -> 245454.55 | AX11: =IF(E11>0,E11,D11) -> 45529 | AY11: =IF(H11<>"C",IF(H11>0,H11,G11),0) -> 23 | AZ11: =W11+S11 -> 98443.03 | BA11: =IF(B11<>"",VLOOKUP(B11,'1 Pricing Length'!A$8:B$50,2),"") -> LRT
B12: AA | C12: CLV | D12: 45564 | E12: 45564 | F12: 46173 | G12: 30 | H12: 32 | L12: =IF(B12<>"",IF(D12>0,IF(D12<=V$5,IF(M12>0,M12,VLOOKUP(B12,'1 Pricing Length'!A$8:C$50,3)),VLOOKUP(B12,'1 Pricing Length'!A$8:C$50,3)),0),0) -> 88 | M12: =IF(E12<>"",IF(F12<>"",(F12-E12)/7,0),0) -> 87 | N12: =IF(B12<>"",IF(D12<>0,IF(AD12<Y$5,IF(AD12<X$5,IF(AD12<W$5,IF(AD12<V$5,IF(AD12<U$5,VLOOKUP(B12,'1 Pricing Length'!A$8:I$50,4),VLOOKUP(B12,'1 Pricing Length'!A$8:I$50,5)),VLOOKUP(B12,'1 Pricing Length'!A$8:I$50,6)),VLOOKUP(B12,'1 Pricing Length'!A$8:I$50,7)),VLOOKUP(B12,'1 Pricing Length'!A$8:I$50,8)),0),0),0) -> 16000 | O12: =IF(H12<>"c",IF(H12<>"",IF(G12>0,W12*H12/G12-W12,IF(E12>V$5,IF(F12>W$5,ROUND((W$5-E12)/7,0)*AE12*H12,ROUND((F12-E12)/7,0)*AE12*H12),"enter budget")),0),-W12) -> 14545.455 | P12: ='3 CY Interim'!P12 -> 0 | Q12: =IF(G12>0,IF(H12<>"C",IF(H12<>"",IF(E12>0,IF(F12>0,IF(M12>0,(W12/(M12/L12)-W12),(O12/(M12/L12)-O12)),0),0),0),0),0) -> 2507.837 | R12: =IF(H12<>"c",IF(E12>0,IF(AD12=W$5,IF(H12>0,IF(E12>AH$5,(AQ12-AI12)*G12*AE12,(52-AI12)*G12*AE12),0),0),0),0) -> 0 | S12: =SUM(O12:R12) -> 17053.292 | T12: =$G12*$AE12*AF12 -> 0 | U12: =$G12*$AE12*AG12 -> 0 | V12: =$G12*$AE12*AH12 -> 0 | W12: =$G12*$AE12*AI12 -> 218181.82 | X12: =IF(H12<>"c",$G12*$AE12*AJ12,0) -> 261818.18 | Y12: =IF(H12<>"c",$G12*$AE12*AK12,0) -> 0 | Z12: =IF(H12<>"c",$G12*$AE12*AL12,0) -> 0 | AA12: =SUM(T12:Z12) -> 480000 | AB12: =G12*AI12/52 -> 23.076923 | AD12: =IF(D12<=X$5,IF(D12<=W$5,IF(D12<=V$5,IF(D12<U$5,IF(D12<T$5,T$5,U$5),V$5),W$5),X$5),Y$5) -> 45838 | AE12: =IF(L12>1,N12/L12,0) -> 181.81818 | AF12: =IF(D12>0,IF($AD12=T$5,IF(E12=0,ROUND(($AD12-$D12)/7+0.5,0),ROUND(($AD12-$E12)/7+0.5,0)),0),0) -> 0 | AG12: =IF($D12>0,IF($AD12<=U$5,IF(SUM($AF12:AF12)>0,IF($L12-SUM($AF12:AF12)>52,52,$L12-SUM($AF12:AF12)),IF($AD12=U$5,IF(($D12+($L12*7))>=U$5,ROUND(($AD12-$D12)/7+0.5,0),$L12))),0),0) -> 0 | AH12: =IF($D12>0,IF($AD12<=V$5,IF(SUM($AF12:AG12)>0,IF($L12-SUM($AF12:AG12)>52,52,$L12-SUM($AF12:AG12)),IF($AD12=V$5,IF(($D12+($L12*7))>=V$5,ROUND(($AD12-$D12)/7+0.5,0),$L12))),0),0) -> 0 | AI12: =IF($D12>0,IF($AD12<=W$5,IF(SUM($AF12:AH12)>0,IF($L12-SUM($AF12:AH12)>52,52,$L12-SUM($AF12:AH12)),IF($AD12=W$5,IF(($D12+($L12*7))>=W$5,ROUND(($AD12-$D12)/7+0.5,0),$L12))),0),0) -> 40 | AJ12: =IF($D12>0,IF($AD12<=X$5,IF(SUM($AF12:AI12)>0,IF($L12-SUM($AF12:AI12)>52,52,$L12-SUM($AF12:AI12)),IF($AD12=X$5,IF(($D12+($L12*7))>=X$5,ROUND(($AD12-$D12)/7+0.5,0),$L12))),0),0) -> 48 | AK12: =IF($D12>0,IF($AD12<=Y$5,IF(SUM($AF12:AJ12)>0,IF($L12-SUM($AF12:AJ12)>52,52,$L12-SUM($AF12:AJ12)),IF($AD12=Y$5,IF(($D12+($L12*7))>=Y$5,ROUND(($AD12-$D12)/7+0.5,0),$L12))),0),0) -> 0 | AL12: =IF($D12>0,IF($AD12<=Z$5,IF(SUM($AF12:AK12)>0,IF($L12-SUM($AF12:AK12)>52,52,$L12-SUM($AF12:AK12)),IF($AD12=Z$5,IF(($D12+($L12*7))>=Z$5,ROUND(($AD12-$D12)/7+0.5,0),$L12))),0),0) -> 0 | AM12: =IF(W12<>0,IF(D12<>"",G12,0),IF(O12>0,G12,"")) -> 30 | AN12: =IF(W12<>0,IF(H12<>"c",IF(E12<>"",H12,""),""),IF(O12>0,H12,"")) -> 32 | AO12: =IF(AN12<>"",AM12,"") -> 30 | AP12: =IF(AN12<>"",AN12-AO12,"") -> 2 | AQ12: =IF(E12<>0,IF(E12>V$5,IF(E12<=W$5,IF(D12>V$5,ROUND(((D12-E12)/7+AI12+0.4),0),ROUND(((V$5-E12)/7+AI12+0.4),0)),0),52),AI12) -> 40 | AR12: =IF(D12<=V$5,IF(E12>V$5,IF(E12<=W$5,W$5,X$5),0),0) -> 0 | AS12: =IF(AR12>AD12,IF(E12<=W$5,ROUND(((V$5-E12)/7),0)*AE12*G12,-W12),0) -> 0 | AT12: =IF(H12<>" ",IF(H12<>"c",IF(H12<>0,H12-G12,0),-G12),0) -> 2 | AU12: =IF($AD12=T$5,$W12,0) -> 0 | AV12: =IF($AD12=V$5,$W12,0) -> 0 | AW12: =IF($AD12=W$5,$W12,0) -> 218181.82 | AX12: =IF(E12>0,E12,D12) -> 45564 | AY12: =IF(H12<>"C",IF(H12>0,H12,G12),0) -> 32 | AZ12: =W12+S12 -> 235235.11 | BA12: =IF(B12<>"",VLOOKUP(B12,'1 Pricing Length'!A$8:B$50,2),"") -> LRT
B13: AA | C13: DET | D13: 45592 | E13: 45592 | F13: =E13+30 -> 45622 | G13: 30 | H13: 29 | L13: =IF(B13<>"",IF(D13>0,IF(D13<=V$5,IF(M13>0,M13,VLOOKUP(B13,'1 Pricing Length'!A$8:C$50,3)),VLOOKUP(B13,'1 Pricing Length'!A$8:C$50,3)),0),0) -> 88 | M13: =IF(E13<>"",IF(F13<>"",(F13-E13)/7,0),0) -> 4.2857143 | N13: =IF(B13<>"",IF(D13<>0,IF(AD13<Y$5,IF(AD13<X$5,IF(AD13<W$5,IF(AD13<V$5,IF(AD13<U$5,VLOOKUP(B13,'1 Pricing Length'!A$8:I$50,4),VLOOKUP(B13,'1 Pricing Length'!A$8:I$50,5)),VLOOKUP(B13,'1 Pricing Length'!A$8:I$50,6)),VLOOKUP(B13,'1 Pricing Length'!A$8:I$50,7)),VLOOKUP(B13,'1 Pricing Length'!A$8:I$50,8)),0),0),0) -> 16000 | O13: =IF(H13<>"c",IF(H13<>"",IF(G13>0,W13*H13/G13-W13,IF(E13>V$5,IF(F13>W$5,ROUND((W$5-E13)/7,0)*AE13*H13,ROUND((F13-E13)/7,0)*AE13*H13),"enter budget")),0),-W13) -> -6545.4545 | P13: ='3 CY Interim'!P13 -> 0 | Q13: =IF(G13>0,IF(H13<>"C",IF(H13<>"",IF(E13>0,IF(F13>0,IF(M13>0,(W13/(M13/L13)-W13),(O13/(M13/L13)-O13)),0),0),0),0),0) -> 3835636.4 | R13: =IF(H13<>"c",IF(E13>0,IF(AD13=W$5,IF(H13>0,IF(E13>AH$5,(AQ13-AI13)*G13*AE13,(52-AI13)*G13*AE13),0),0),0),0) -> 0 | S13: =SUM(O13:R13) -> 3829090.9 | T13: =$G13*$AE13*AF13 -> 0 | U13: =$G13*$AE13*AG13 -> 0 | V13: =$G13*$AE13*AH13 -> 0 | W13: =$G13*$AE13*AI13 -> 196363.64 | X13: =IF(H13<>"c",$G13*$AE13*AJ13,0) -> 283636.36 | Y13: =IF(H13<>"c",$G13*$AE13*AK13,0) -> 0 | Z13: =IF(H13<>"c",$G13*$AE13*AL13,0) -> 0 | AA13: =SUM(T13:Z13) -> 480000 | AB13: =G13*AI13/52 -> 20.769231 | AD13: =IF(D13<=X$5,IF(D13<=W$5,IF(D13<=V$5,IF(D13<U$5,IF(D13<T$5,T$5,U$5),V$5),W$5),X$5),Y$5) -> 45838 | AE13: =IF(L13>1,N13/L13,0) -> 181.81818 | AF13: =IF(D13>0,IF($AD13=T$5,IF(E13=0,ROUND(($AD13-$D13)/7+0.5,0),ROUND(($AD13-$E13)/7+0.5,0)),0),0) -> 0 | AG13: =IF($D13>0,IF($AD13<=U$5,IF(SUM($AF13:AF13)>0,IF($L13-SUM($AF13:AF13)>52,52,$L13-SUM($AF13:AF13)),IF($AD13=U$5,IF(($D13+($L13*7))>=U$5,ROUND(($AD13-$D13)/7+0.5,0),$L13))),0),0) -> 0 | AH13: =IF($D13>0,IF($AD13<=V$5,IF(SUM($AF13:AG13)>0,IF($L13-SUM($AF13:AG13)>52,52,$L13-SUM($AF13:AG13)),IF($AD13=V$5,IF(($D13+($L13*7))>=V$5,ROUND(($AD13-$D13)/7+0.5,0),$L13))),0),0) -> 0 | AI13: =IF($D13>0,IF($AD13<=W$5,IF(SUM($AF13:AH13)>0,IF($L13-SUM($AF13:AH13)>52,52,$L13-SUM($AF13:AH13)),IF($AD13=W$5,IF(($D13+($L13*7))>=W$5,ROUND(($AD13-$D13)/7+0.5,0),$L13))),0),0) -> 36 | AJ13: =IF($D13>0,IF($AD13<=X$5,IF(SUM($AF13:AI13)>0,IF($L13-SUM($AF13:AI13)>52,52,$L13-SUM($AF13:AI13)),IF($AD13=X$5,IF(($D13+($L13*7))>=X$5,ROUND(($AD13-$D13)/7+0.5,0),$L13))),0),0) -> 52 | AK13: =IF($D13>0,IF($AD13<=Y$5,IF(SUM($AF13:AJ13)>0,IF($L13-SUM($AF13:AJ13)>52,52,$L13-SUM($AF13:AJ13)),IF($AD13=Y$5,IF(($D13+($L13*7))>=Y$5,ROUND(($AD13-$D13)/7+0.5,0),$L13))),0),0) -> 0 | AL13: =IF($D13>0,IF($AD13<=Z$5,IF(SUM($AF13:AK13)>0,IF($L13-SUM($AF13:AK13)>52,52,$L13-SUM($AF13:AK13)),IF($AD13=Z$5,IF(($D13+($L13*7))>=Z$5,ROUND(($AD13-$D13)/7+0.5,0),$L13))),0),0) -> 0 | AM13: =IF(W13<>0,IF(D13<>"",G13,0),IF(O13>0,G13,"")) -> 30 | AN13: =IF(W13<>0,IF(H13<>"c",IF(E13<>"",H13,""),""),IF(O13>0,H13,"")) -> 29 | AO13: =IF(AN13<>"",AM13,"") -> 30 | AP13: =IF(AN13<>"",AN13-AO13,"") -> -1 | AQ13: =IF(E13<>0,IF(E13>V$5,IF(E13<=W$5,IF(D13>V$5,ROUND(((D13-E13)/7+AI13+0.4),0),ROUND(((V$5-E13)/7+AI13+0.4),0)),0),52),AI13) -> 36 | AR13: =IF(D13<=V$5,IF(E13>V$5,IF(E13<=W$5,W$5,X$5),0),0) -> 0 | AS13: =IF(AR13>AD13,IF(E13<=W$5,ROUND(((V$5-E13)/7),0)*AE13*G13,-W13),0) -> 0 | AT13: =IF(H13<>" ",IF(H13<>"c",IF(H13<>0,H13-G13,0),-G13),0) -> -1 | AU13: =IF($AD13=T$5,$W13,0) -> 0 | AV13: =IF($AD13=V$5,$W13,0) -> 0 | AW13: =IF($AD13=W$5,$W13,0) -> 196363.64 | AX13: =IF(E13>0,E13,D13) -> 45592 | AY13: =IF(H13<>"C",IF(H13>0,H13,G13),0) -> 29 | AZ13: =W13+S13 -> 4025454.5 | BA13: =IF(B13<>"",VLOOKUP(B13,'1 Pricing Length'!A$8:B$50,2),"") -> LRT
B14: AA | C14: TOL | D14: 45634 | E14: 45641 | F14: =E14+30*7 -> 45851 | G14: 30 | H14: 28 | L14: =IF(B14<>"",IF(D14>0,IF(D14<=V$5,IF(M14>0,M14,VLOOKUP(B14,'1 Pricing Length'!A$8:C$50,3)),VLOOKUP(B14,'1 Pricing Length'!A$8:C$50,3)),0),0) -> 88 | M14: =IF(E14<>"",IF(F14<>"",(F14-E14)/7,0),0) -> 30 | N14: =IF(B14<>"",IF(D14<>0,IF(AD14<Y$5,IF(AD14<X$5,IF(AD14<W$5,IF(AD14<V$5,IF(AD14<U$5,VLOOKUP(B14,'1 Pricing Length'!A$8:I$50,4),VLOOKUP(B14,'1 Pricing Length'!A$8:I$50,5)),VLOOKUP(B14,'1 Pricing Length'!A$8:I$50,6)),VLOOKUP(B14,'1 Pricing Length'!A$8:I$50,7)),VLOOKUP(B14,'1 Pricing Length'!A$8:I$50,8)),0),0),0) -> 16000 | O14: =IF(H14<>"c",IF(H14<>"",IF(G14>0,W14*H14/G14-W14,IF(E14>V$5,IF(F14>W$5,ROUND((W$5-E14)/7,0)*AE14*H14,ROUND((F14-E14)/7,0)*AE14*H14),"enter budget")),0),-W14) -> -10909.091 | P14: ='3 CY Interim'!P14 -> 0 | Q14: =IF(G14>0,IF(H14<>"C",IF(H14<>"",IF(E14>0,IF(F14>0,IF(M14>0,(W14/(M14/L14)-W14),(O14/(M14/L14)-O14)),0),0),0),0),0) -> 316363.64 | R14: =IF(H14<>"c",IF(E14>0,IF(AD14=W$5,IF(H14>0,IF(E14>AH$5,(AQ14-AI14)*G14*AE14,(52-AI14)*G14*AE14),0),0),0),0) -> -5454.5455 | S14: =SUM(O14:R14) -> 300000 | T14: =$G14*$AE14*AF14 -> 0 | U14: =$G14*$AE14*AG14 -> 0 | V14: =$G14*$AE14*AH14 -> 0 | W14: =$G14*$AE14*AI14 -> 163636.36 | X14: =IF(H14<>"c",$G14*$AE14*AJ14,0) -> 283636.36 | Y14: =IF(H14<>"c",$G14*$AE14*AK14,0) -> 32727.273 | Z14: =IF(H14<>"c",$G14*$AE14*AL14,0) -> 0 | AA14: =SUM(T14:Z14) -> 480000 | AB14: =G14*AI14/52 -> 17.307692 | AD14: =IF(D14<=X$5,IF(D14<=W$5,IF(D14<=V$5,IF(D14<U$5,IF(D14<T$5,T$5,U$5),V$5),W$5),X$5),Y$5) -> 45838 | AE14: =IF(L14>1,N14/L14,0) -> 181.81818 | AF14: =IF(D14>0,IF($AD14=T$5,IF(E14=0,ROUND(($AD14-$D14)/7+0.5,0),ROUND(($AD14-$E14)/7+0.5,0)),0),0) -> 0 | AG14: =IF($D14>0,IF($AD14<=U$5,IF(SUM($AF14:AF14)>0,IF($L14-SUM($AF14:AF14)>52,52,$L14-SUM($AF14:AF14)),IF($AD14=U$5,IF(($D14+($L14*7))>=U$5,ROUND(($AD14-$D14)/7+0.5,0),$L14))),0),0) -> 0 | AH14: =IF($D14>0,IF($AD14<=V$5,IF(SUM($AF14:AG14)>0,IF($L14-SUM($AF14:AG14)>52,52,$L14-SUM($AF14:AG14)),IF($AD14=V$5,IF(($D14+($L14*7))>=V$5,ROUND(($AD14-$D14)/7+0.5,0),$L14))),0),0) -> 0 | AI14: =IF($D14>0,IF($AD14<=W$5,IF(SUM($AF14:AH14)>0,IF($L14-SUM($AF14:AH14)>52,52,$L14-SUM($AF14:AH14)),IF($AD14=W$5,IF(($D14+($L14*7))>=W$5,ROUND(($AD14-$D14)/7+0.5,0),$L14))),0),0) -> 30 | AJ14: =IF($D14>0,IF($AD14<=X$5,IF(SUM($AF14:AI14)>0,IF($L14-SUM($AF14:AI14)>52,52,$L14-SUM($AF14:AI14)),IF($AD14=X$5,IF(($D14+($L14*7))>=X$5,ROUND(($AD14-$D14)/7+0.5,0),$L14))),0),0) -> 52 | AK14: =IF($D14>0,IF($AD14<=Y$5,IF(SUM($AF14:AJ14)>0,IF($L14-SUM($AF14:AJ14)>52,52,$L14-SUM($AF14:AJ14)),IF($AD14=Y$5,IF(($D14+($L14*7))>=Y$5,ROUND(($AD14-$D14)/7+0.5,0),$L14))),0),0) -> 6 | AL14: =IF($D14>0,IF($AD14<=Z$5,IF(SUM($AF14:AK14)>0,IF($L14-SUM($AF14:AK14)>52,52,$L14-SUM($AF14:AK14)),IF($AD14=Z$5,IF(($D14+($L14*7))>=Z$5,ROUND(($AD14-$D14)/7+0.5,0),$L14))),0),0) -> 0 | AM14: =IF(W14<>0,IF(D14<>"",G14,0),IF(O14>0,G14,"")) -> 30 | AN14: =IF(W14<>0,IF(H14<>"c",IF(E14<>"",H14,""),""),IF(O14>0,H14,"")) -> 28 | AO14: =IF(AN14<>"",AM14,"") -> 30 | AP14: =IF(AN14<>"",AN14-AO14,"") -> -2 | AQ14: =IF(E14<>0,IF(E14>V$5,IF(E14<=W$5,IF(D14>V$5,ROUND(((D14-E14)/7+AI14+0.4),0),ROUND(((V$5-E14)/7+AI14+0.4),0)),0),52),AI14) -> 29 | AR14: =IF(D14<=V$5,IF(E14>V$5,IF(E14<=W$5,W$5,X$5),0),0) -> 0 | AS14: =IF(AR14>AD14,IF(E14<=W$5,ROUND(((V$5-E14)/7),0)*AE14*G14,-W14),0) -> 0 | AT14: =IF(H14<>" ",IF(H14<>"c",IF(H14<>0,H14-G14,0),-G14),0) -> -2 | AU14: =IF($AD14=T$5,$W14,0) -> 0 | AV14: =IF($AD14=V$5,$W14,0) -> 0 | AW14: =IF($AD14=W$5,$W14,0) -> 163636.36 | AX14: =IF(E14>0,E14,D14) -> 45641 | AY14: =IF(H14<>"C",IF(H14>0,H14,G14),0) -> 28 | AZ14: =W14+S14 -> 463636.36 | BA14: =IF(B14<>"",VLOOKUP(B14,'1 Pricing Length'!A$8:B$50,2),"") -> LRT
B15: AA | C15: AKR | D15: 45683 | E15: 45692 | F15: =E15+30*7 -> 45902 | G15: 30 | H15: 32 | L15: =IF(B15<>"",IF(D15>0,IF(D15<=V$5,IF(M15>0,M15,VLOOKUP(B15,'1 Pricing Length'!A$8:C$50,3)),VLOOKUP(B15,'1 Pricing Length'!A$8:C$50,3)),0),0) -> 88 | M15: =IF(E15<>"",IF(F15<>"",(F15-E15)/7,0),0) -> 30 | N15: =IF(B15<>"",IF(D15<>0,IF(AD15<Y$5,IF(AD15<X$5,IF(AD15<W$5,IF(AD15<V$5,IF(AD15<U$5,VLOOKUP(B15,'1 Pricing Length'!A$8:I$50,4),VLOOKUP(B15,'1 Pricing Length'!A$8:I$50,5)),VLOOKUP(B15,'1 Pricing Length'!A$8:I$50,6)),VLOOKUP(B15,'1 Pricing Length'!A$8:I$50,7)),VLOOKUP(B15,'1 Pricing Length'!A$8:I$50,8)),0),0),0) -> 16000 | O15: =IF(H15<>"c",IF(H15<>"",IF(G15>0,W15*H15/G15-W15,IF(E15>V$5,IF(F15>W$5,ROUND((W$5-E15)/7,0)*AE15*H15,ROUND((F15-E15)/7,0)*AE15*H15),"enter budget")),0),-W15) -> 8363.6364 | P15: ='3 CY Interim'!P15 -> 0 | Q15: =IF(G15>0,IF(H15<>"C",IF(H15<>"",IF(E15>0,IF(F15>0,IF(M15>0,(W15/(M15/L15)-W15),(O15/(M15/L15)-O15)),0),0),0),0),0) -> 242545.45 | R15: =IF(H15<>"c",IF(E15>0,IF(AD15=W$5,IF(H15>0,IF(E15>AH$5,(AQ15-AI15)*G15*AE15,(52-AI15)*G15*AE15),0),0),0),0) -> -5454.5455 | S15: =SUM(O15:R15) -> 245454.55 | T15: =$G15*$AE15*AF15 -> 0 | U15: =$G15*$AE15*AG15 -> 0 | V15: =$G15*$AE15*AH15 -> 0 | W15: =$G15*$AE15*AI15 -> 125454.55 | X15: =IF(H15<>"c",$G15*$AE15*AJ15,0) -> 283636.36 | Y15: =IF(H15<>"c",$G15*$AE15*AK15,0) -> 70909.091 | Z15: =IF(H15<>"c",$G15*$AE15*AL15,0) -> 0 | AA15: =SUM(T15:Z15) -> 480000 | AB15: =G15*AI15/52 -> 13.269231 | AD15: =IF(D15<=X$5,IF(D15<=W$5,IF(D15<=V$5,IF(D15<U$5,IF(D15<T$5,T$5,U$5),V$5),W$5),X$5),Y$5) -> 45838 | AE15: =IF(L15>1,N15/L15,0) -> 181.81818 | AF15: =IF(D15>0,IF($AD15=T$5,IF(E15=0,ROUND(($AD15-$D15)/7+0.5,0),ROUND(($AD15-$E15)/7+0.5,0)),0),0) -> 0 | AG15: =IF($D15>0,IF($AD15<=U$5,IF(SUM($AF15:AF15)>0,IF($L15-SUM($AF15:AF15)>52,52,$L15-SUM($AF15:AF15)),IF($AD15=U$5,IF(($D15+($L15*7))>=U$5,ROUND(($AD15-$D15)/7+0.5,0),$L15))),0),0) -> 0 | AH15: =IF($D15>0,IF($AD15<=V$5,IF(SUM($AF15:AG15)>0,IF($L15-SUM($AF15:AG15)>52,52,$L15-SUM($AF15:AG15)),IF($AD15=V$5,IF(($D15+($L15*7))>=V$5,ROUND(($AD15-$D15)/7+0.5,0),$L15))),0),0) -> 0 | AI15: =IF($D15>0,IF($AD15<=W$5,IF(SUM($AF15:AH15)>0,IF($L15-SUM($AF15:AH15)>52,52,$L15-SUM($AF15:AH15)),IF($AD15=W$5,IF(($D15+($L15*7))>=W$5,ROUND(($AD15-$D15)/7+0.5,0),$L15))),0),0) -> 23 | AJ15: =IF($D15>0,IF($AD15<=X$5,IF(SUM($AF15:AI15)>0,IF($L15-SUM($AF15:AI15)>52,52,$L15-SUM($AF15:AI15)),IF($AD15=X$5,IF(($D15+($L15*7))>=X$5,ROUND(($AD15-$D15)/7+0.5,0),$L15))),0),0) -> 52 | AK15: =IF($D15>0,IF($AD15<=Y$5,IF(SUM($AF15:AJ15)>0,IF($L15-SUM($AF15:AJ15)>52,52,$L15-SUM($AF15:AJ15)),IF($AD15=Y$5,IF(($D15+($L15*7))>=Y$5,ROUND(($AD15-$D15)/7+0.5,0),$L15))),0),0) -> 13 | AL15: =IF($D15>0,IF($AD15<=Z$5,IF(SUM($AF15:AK15)>0,IF($L15-SUM($AF15:AK15)>52,52,$L15-SUM($AF15:AK15)),IF($AD15=Z$5,IF(($D15+($L15*7))>=Z$5,ROUND(($AD15-$D15)/7+0.5,0),$L15))),0),0) -> 0 | AM15: =IF(W15<>0,IF(D15<>"",G15,0),IF(O15>0,G15,"")) -> 30 | AN15: =IF(W15<>0,IF(H15<>"c",IF(E15<>"",H15,""),""),IF(O15>0,H15,"")) -> 32 | AO15: =IF(AN15<>"",AM15,"") -> 30 | AP15: =IF(AN15<>"",AN15-AO15,"") -> 2 | AQ15: =IF(E15<>0,IF(E15>V$5,IF(E15<=W$5,IF(D15>V$5,ROUND(((D15-E15)/7+AI15+0.4),0),ROUND(((V$5-E15)/7+AI15+0.4),0)),0),52),AI15) -> 22 | AR15: =IF(D15<=V$5,IF(E15>V$5,IF(E15<=W$5,W$5,X$5),0),0) -> 0 | AS15: =IF(AR15>AD15,IF(E15<=W$5,ROUND(((V$5-E15)/7),0)*AE15*G15,-W15),0) -> 0 | AT15: =IF(H15<>" ",IF(H15<>"c",IF(H15<>0,H15-G15,0),-G15),0) -> 2 | AU15: =IF($AD15=T$5,$W15,0) -> 0 | AV15: =IF($AD15=V$5,$W15,0) -> 0 | AW15: =IF($AD15=W$5,$W15,0) -> 125454.55 | AX15: =IF(E15>0,E15,D15) -> 45692 | AY15: =IF(H15<>"C",IF(H15>0,H15,G15),0) -> 32 | AZ15: =W15+S15 -> 370909.09 | BA15: =IF(B15<>"",VLOOKUP(B15,'1 Pricing Length'!A$8:B$50,2),"") -> LRT
B16: BBA | C16: CAM | D16: 45711 | E16: 45711 | F16: =E16+30*7 -> 45921 | G16: 30 | H16: 34 | L16: =IF(B16<>"",IF(D16>0,IF(D16<=V$5,IF(M16>0,M16,VLOOKUP(B16,'1 Pricing Length'!A$8:C$50,3)),VLOOKUP(B16,'1 Pricing Length'!A$8:C$50,3)),0),0) -> 68 | M16: =IF(E16<>"",IF(F16<>"",(F16-E16)/7,0),0) -> 30 | N16: =IF(B16<>"",IF(D16<>0,IF(AD16<Y$5,IF(AD16<X$5,IF(AD16<W$5,IF(AD16<V$5,IF(AD16<U$5,VLOOKUP(B16,'1 Pricing Length'!A$8:I$50,4),VLOOKUP(B16,'1 Pricing Length'!A$8:I$50,5)),VLOOKUP(B16,'1 Pricing Length'!A$8:I$50,6)),VLOOKUP(B16,'1 Pricing Length'!A$8:I$50,7)),VLOOKUP(B16,'1 Pricing Length'!A$8:I$50,8)),0),0),0) -> 19000 | O16: =IF(H16<>"c",IF(H16<>"",IF(G16>0,W16*H16/G16-W16,IF(E16>V$5,IF(F16>W$5,ROUND((W$5-E16)/7,0)*AE16*H16,ROUND((F16-E16)/7,0)*AE16*H16),"enter budget")),0),-W16) -> 21235.294 | P16: ='3 CY Interim'!P16 -> 0 | Q16: =IF(G16>0,IF(H16<>"C",IF(H16<>"",IF(E16>0,IF(F16>0,IF(M16>0,(W16/(M16/L16)-W16),(O16/(M16/L16)-O16)),0),0),0),0),0) -> 201735.29 | R16: =IF(H16<>"c",IF(E16>0,IF(AD16=W$5,IF(H16>0,IF(E16>AH$5,(AQ16-AI16)*G16*AE16,(52-AI16)*G16*AE16),0),0),0),0) -> 0 | S16: =SUM(O16:R16) -> 222970.59 | T16: =$G16*$AE16*AF16 -> 0 | U16: =$G16*$AE16*AG16 -> 0 | V16: =$G16*$AE16*AH16 -> 0 | W16: =$G16*$AE16*AI16 -> 159264.71 | X16: =IF(H16<>"c",$G16*$AE16*AJ16,0) -> 410735.29 | Y16: =IF(H16<>"c",$G16*$AE16*AK16,0) -> 0 | Z16: =IF(H16<>"c",$G16*$AE16*AL16,0) -> 0 | AA16: =SUM(T16:Z16) -> 570000 | AB16: =G16*AI16/52 -> 10.961538 | AD16: =IF(D16<=X$5,IF(D16<=W$5,IF(D16<=V$5,IF(D16<U$5,IF(D16<T$5,T$5,U$5),V$5),W$5),X$5),Y$5) -> 45838 | AE16: =IF(L16>1,N16/L16,0) -> 279.41176 | AF16: =IF(D16>0,IF($AD16=T$5,IF(E16=0,ROUND(($AD16-$D16)/7+0.5,0),ROUND(($AD16-$E16)/7+0.5,0)),0),0) -> 0 | AG16: =IF($D16>0,IF($AD16<=U$5,IF(SUM($AF16:AF16)>0,IF($L16-SUM($AF16:AF16)>52,52,$L16-SUM($AF16:AF16)),IF($AD16=U$5,IF(($D16+($L16*7))>=U$5,ROUND(($AD16-$D16)/7+0.5,0),$L16))),0),0) -> 0 | AH16: =IF($D16>0,IF($AD16<=V$5,IF(SUM($AF16:AG16)>0,IF($L16-SUM($AF16:AG16)>52,52,$L16-SUM($AF16:AG16)),IF($AD16=V$5,IF(($D16+($L16*7))>=V$5,ROUND(($AD16-$D16)/7+0.5,0),$L16))),0),0) -> 0 | AI16: =IF($D16>0,IF($AD16<=W$5,IF(SUM($AF16:AH16)>0,IF($L16-SUM($AF16:AH16)>52,52,$L16-SUM($AF16:AH16)),IF($AD16=W$5,IF(($D16+($L16*7))>=W$5,ROUND(($AD16-$D16)/7+0.5,0),$L16))),0),0) -> 19 | AJ16: =IF($D16>0,IF($AD16<=X$5,IF(SUM($AF16:AI16)>0,IF($L16-SUM($AF16:AI16)>52,52,$L16-SUM($AF16:AI16)),IF($AD16=X$5,IF(($D16+($L16*7))>=X$5,ROUND(($AD16-$D16)/7+0.5,0),$L16))),0),0) -> 49 | AK16: =IF($D16>0,IF($AD16<=Y$5,IF(SUM($AF16:AJ16)>0,IF($L16-SUM($AF16:AJ16)>52,52,$L16-SUM($AF16:AJ16)),IF($AD16=Y$5,IF(($D16+($L16*7))>=Y$5,ROUND(($AD16-$D16)/7+0.5,0),$L16))),0),0) -> 0 | AL16: =IF($D16>0,IF($AD16<=Z$5,IF(SUM($AF16:AK16)>0,IF($L16-SUM($AF16:AK16)>52,52,$L16-SUM($AF16:AK16)),IF($AD16=Z$5,IF(($D16+($L16*7))>=Z$5,ROUND(($AD16-$D16)/7+0.5,0),$L16))),0),0) -> 0 | AM16: =IF(W16<>0,IF(D16<>"",G16,0),IF(O16>0,G16,"")) -> 30 | AN16: =IF(W16<>0,IF(H16<>"c",IF(E16<>"",H16,""),""),IF(O16>0,H16,"")) -> 34 | AO16: =IF(AN16<>"",AM16,"") -> 30 | AP16: =IF(AN16<>"",AN16-AO16,"") -> 4 | AQ16: =IF(E16<>0,IF(E16>V$5,IF(E16<=W$5,IF(D16>V$5,ROUND(((D16-E16)/7+AI16+0.4),0),ROUND(((V$5-E16)/7+AI16+0.4),0)),0),52),AI16) -> 19 | AR16: =IF(D16<=V$5,IF(E16>V$5,IF(E16<=W$5,W$5,X$5),0),0) -> 0 | AS16: =IF(AR16>AD16,IF(E16<=W$5,ROUND(((V$5-E16)/7),0)*AE16*G16,-W16),0) -> 0 | AT16: =IF(H16<>" ",IF(H16<>"c",IF(H16<>0,H16-G16,0),-G16),0) -> 4 | AU16: =IF($AD16=T$5,$W16,0) -> 0 | AV16: =IF($AD16=V$5,$W16,0) -> 0 | AW16: =IF($AD16=W$5,$W16,0) -> 159264.71 | AX16: =IF(E16>0,E16,D16) -> 45711 | AY16: =IF(H16<>"C",IF(H16>0,H16,G16),0) -> 34 | AZ16: =W16+S16 -> 382235.29 | BA16: =IF(B16<>"",VLOOKUP(B16,'1 Pricing Length'!A$8:B$50,2),"") -> BUS
B17: BBA | C17: ONL | D17: 45745 | E17: 45745 | F17: =E17+30*7 -> 45955 | G17: 30 | H17: 25 | L17: =IF(B17<>"",IF(D17>0,IF(D17<=V$5,IF(M17>0,M17,VLOOKUP(B17,'1 Pricing Length'!A$8:C$50,3)),VLOOKUP(B17,'1 Pricing Length'!A$8:C$50,3)),0),0) -> 68 | M17: =IF(E17<>"",IF(F17<>"",(F17-E17)/7,0),0) -> 30 | N17: =IF(B17<>"",IF(D17<>0,IF(AD17<Y$5,IF(AD17<X$5,IF(AD17<W$5,IF(AD17<V$5,IF(AD17<U$5,VLOOKUP(B17,'1 Pricing Length'!A$8:I$50,4),VLOOKUP(B17,'1 Pricing Length'!A$8:I$50,5)),VLOOKUP(B17,'1 Pricing Length'!A$8:I$50,6)),VLOOKUP(B17,'1 Pricing Length'!A$8:I$50,7)),VLOOKUP(B17,'1 Pricing Length'!A$8:I$50,8)),0),0),0) -> 19000 | O17: =IF(H17<>"c",IF(H17<>"",IF(G17>0,W17*H17/G17-W17,IF(E17>V$5,IF(F17>W$5,ROUND((W$5-E17)/7,0)*AE17*H17,ROUND((F17-E17)/7,0)*AE17*H17),"enter budget")),0),-W17) -> -19558.824 | P17: ='3 CY Interim'!P17 -> 0 | Q17: =IF(G17>0,IF(H17<>"C",IF(H17<>"",IF(E17>0,IF(F17>0,IF(M17>0,(W17/(M17/L17)-W17),(O17/(M17/L17)-O17)),0),0),0),0),0) -> 148647.06 | R17: =IF(H17<>"c",IF(E17>0,IF(AD17=W$5,IF(H17>0,IF(E17>AH$5,(AQ17-AI17)*G17*AE17,(52-AI17)*G17*AE17),0),0),0),0) -> 0 | S17: =SUM(O17:R17) -> 129088.24 | T17: =$G17*$AE17*AF17 -> 0 | U17: =$G17*$AE17*AG17 -> 0 | V17: =$G17*$AE17*AH17 -> 0 | W17: =$G17*$AE17*AI17 -> 117352.94 | X17: =IF(H17<>"c",$G17*$AE17*AJ17,0) -> 435882.35 | Y17: =IF(H17<>"c",$G17*$AE17*AK17,0) -> 16764.706 | Z17: =IF(H17<>"c",$G17*$AE17*AL17,0) -> 0 | AA17: =SUM(T17:Z17) -> 570000 | AB17: =G17*AI17/52 -> 8.0769231 | AD17: =IF(D17<=X$5,IF(D17<=W$5,IF(D17<=V$5,IF(D17<U$5,IF(D17<T$5,T$5,U$5),V$5),W$5),X$5),Y$5) -> 45838 | AE17: =IF(L17>1,N17/L17,0) -> 279.41176 | AF17: =IF(D17>0,IF($AD17=T$5,IF(E17=0,ROUND(($AD17-$D17)/7+0.5,0),ROUND(($AD17-$E17)/7+0.5,0)),0),0) -> 0 | AG17: =IF($D17>0,IF($AD17<=U$5,IF(SUM($AF17:AF17)>0,IF($L17-SUM($AF17:AF17)>52,52,$L17-SUM($AF17:AF17)),IF($AD17=U$5,IF(($D17+($L17*7))>=U$5,ROUND(($AD17-$D17)/7+0.5,0),$L17))),0),0) -> 0 | AH17: =IF($D17>0,IF($AD17<=V$5,IF(SUM($AF17:AG17)>0,IF($L17-SUM($AF17:AG17)>52,52,$L17-SUM($AF17:AG17)),IF($AD17=V$5,IF(($D17+($L17*7))>=V$5,ROUND(($AD17-$D17)/7+0.5,0),$L17))),0),0) -> 0 | AI17: =IF($D17>0,IF($AD17<=W$5,IF(SUM($AF17:AH17)>0,IF($L17-SUM($AF17:AH17)>52,52,$L17-SUM($AF17:AH17)),IF($AD17=W$5,IF(($D17+($L17*7))>=W$5,ROUND(($AD17-$D17)/7+0.5,0),$L17))),0),0) -> 14 | AJ17: =IF($D17>0,IF($AD17<=X$5,IF(SUM($AF17:AI17)>0,IF($L17-SUM($AF17:AI17)>52,52,$L17-SUM($AF17:AI17)),IF($AD17=X$5,IF(($D17+($L17*7))>=X$5,ROUND(($AD17-$D17)/7+0.5,0),$L17))),0),0) -> 52 | AK17: =IF($D17>0,IF($AD17<=Y$5,IF(SUM($AF17:AJ17)>0,IF($L17-SUM($AF17:AJ17)>52,52,$L17-SUM($AF17:AJ17)),IF($AD17=Y$5,IF(($D17+($L17*7))>=Y$5,ROUND(($AD17-$D17)/7+0.5,0),$L17))),0),0) -> 2 | AL17: =IF($D17>0,IF($AD17<=Z$5,IF(SUM($AF17:AK17)>0,IF($L17-SUM($AF17:AK17)>52,52,$L17-SUM($AF17:AK17)),IF($AD17=Z$5,IF(($D17+($L17*7))>=Z$5,ROUND(($AD17-$D17)/7+0.5,0),$L17))),0),0) -> 0 | AM17: =IF(W17<>0,IF(D17<>"",G17,0),IF(O17>0,G17,"")) -> 30 | AN17: =IF(W17<>0,IF(H17<>"c",IF(E17<>"",H17,""),""),IF(O17>0,H17,"")) -> 25 | AO17: =IF(AN17<>"",AM17,"") -> 30 | AP17: =IF(AN17<>"",AN17-AO17,"") -> -5 | AQ17: =IF(E17<>0,IF(E17>V$5,IF(E17<=W$5,IF(D17>V$5,ROUND(((D17-E17)/7+AI17+0.4),0),ROUND(((V$5-E17)/7+AI17+0.4),0)),0),52),AI17) -> 14 | AR17: =IF(D17<=V$5,IF(E17>V$5,IF(E17<=W$5,W$5,X$5),0),0) -> 0 | AS17: =IF(AR17>AD17,IF(E17<=W$5,ROUND(((V$5-E17)/7),0)*AE17*G17,-W17),0) -> 0 | AT17: =IF(H17<>" ",IF(H17<>"c",IF(H17<>0,H17-G17,0),-G17),0) -> -5 | AU17: =IF($AD17=T$5,$W17,0) -> 0 | AV17: =IF($AD17=V$5,$W17,0) -> 0 | AW17: =IF($AD17=W$5,$W17,0) -> 117352.94 | AX17: =IF(E17>0,E17,D17) -> 45745 | AY17: =IF(H17<>"C",IF(H17>0,H17,G17),0) -> 25 | AZ17: =W17+S17 -> 246441.18 | BA17: =IF(B17<>"",VLOOKUP(B17,'1 Pricing Length'!A$8:B$50,2),"") -> BUS
B18: BBA | C18: CLV | D18: 45773 | G18: 30 | L18: =IF(B18<>"",IF(D18>0,IF(D18<=V$5,IF(M18>0,M18,VLOOKUP(B18,'1 Pricing Length'!A$8:C$50,3)),VLOOKUP(B18,'1 Pricing Length'!A$8:C$50,3)),0),0) -> 68 | M18: =IF(E18<>"",IF(F18<>"",(F18-E18)/7,0),0) -> 0 | N18: =IF(B18<>"",IF(D18<>0,IF(AD18<Y$5,IF(AD18<X$5,IF(AD18<W$5,IF(AD18<V$5,IF(AD18<U$5,VLOOKUP(B18,'1 Pricing Length'!A$8:I$50,4),VLOOKUP(B18,'1 Pricing Length'!A$8:I$50,5)),VLOOKUP(B18,'1 Pricing Length'!A$8:I$50,6)),VLOOKUP(B18,'1 Pricing Length'!A$8:I$50,7)),VLOOKUP(B18,'1 Pricing Length'!A$8:I$50,8)),0),0),0) -> 19000 | O18: =IF(H18<>"c",IF(H18<>"",IF(G18>0,W18*H18/G18-W18,IF(E18>V$5,IF(F18>W$5,ROUND((W$5-E18)/7,0)*AE18*H18,ROUND((F18-E18)/7,0)*AE18*H18),"enter budget")),0),-W18) -> 0 | P18: ='3 CY Interim'!P18 -> 0 | Q18: =IF(G18>0,IF(H18<>"C",IF(H18<>"",IF(E18>0,IF(F18>0,IF(M18>0,(W18/(M18/L18)-W18),(O18/(M18/L18)-O18)),0),0),0),0),0) -> 0 | R18: =IF(H18<>"c",IF(E18>0,IF(AD18=W$5,IF(H18>0,IF(E18>AH$5,(AQ18-AI18)*G18*AE18,(52-AI18)*G18*AE18),0),0),0),0) -> 0 | S18: =SUM(O18:R18) -> 0 | T18: =$G18*$AE18*AF18 -> 0 | U18: =$G18*$AE18*AG18 -> 0 | V18: =$G18*$AE18*AH18 -> 0 | W18: =$G18*$AE18*AI18 -> 83823.529 | X18: =IF(H18<>"c",$G18*$AE18*AJ18,0) -> 435882.35 | Y18: =IF(H18<>"c",$G18*$AE18*AK18,0) -> 50294.118 | Z18: =IF(H18<>"c",$G18*$AE18*AL18,0) -> 0 | AA18: =SUM(T18:Z18) -> 570000 | AB18: =G18*AI18/52 -> 5.7692308 | AD18: =IF(D18<=X$5,IF(D18<=W$5,IF(D18<=V$5,IF(D18<U$5,IF(D18<T$5,T$5,U$5),V$5),W$5),X$5),Y$5) -> 45838 | AE18: =IF(L18>1,N18/L18,0) -> 279.41176 | AF18: =IF(D18>0,IF($AD18=T$5,IF(E18=0,ROUND(($AD18-$D18)/7+0.5,0),ROUND(($AD18-$E18)/7+0.5,0)),0),0) -> 0 | AG18: =IF($D18>0,IF($AD18<=U$5,IF(SUM($AF18:AF18)>0,IF($L18-SUM($AF18:AF18)>52,52,$L18-SUM($AF18:AF18)),IF($AD18=U$5,IF(($D18+($L18*7))>=U$5,ROUND(($AD18-$D18)/7+0.5,0),$L18))),0),0) -> 0 | AH18: =IF($D18>0,IF($AD18<=V$5,IF(SUM($AF18:AG18)>0,IF($L18-SUM($AF18:AG18)>52,52,$L18-SUM($AF18:AG18)),IF($AD18=V$5,IF(($D18+($L18*7))>=V$5,ROUND(($AD18-$D18)/7+0.5,0),$L18))),0),0) -> 0 | AI18: =IF($D18>0,IF($AD18<=W$5,IF(SUM($AF18:AH18)>0,IF($L18-SUM($AF18:AH18)>52,52,$L18-SUM($AF18:AH18)),IF($AD18=W$5,IF(($D18+($L18*7))>=W$5,ROUND(($AD18-$D18)/7+0.5,0),$L18))),0),0) -> 10 | AJ18: =IF($D18>0,IF($AD18<=X$5,IF(SUM($AF18:AI18)>0,IF($L18-SUM($AF18:AI18)>52,52,$L18-SUM($AF18:AI18)),IF($AD18=X$5,IF(($D18+($L18*7))>=X$5,ROUND(($AD18-$D18)/7+0.5,0),$L18))),0),0) -> 52 | AK18: =IF($D18>0,IF($AD18<=Y$5,IF(SUM($AF18:AJ18)>0,IF($L18-SUM($AF18:AJ18)>52,52,$L18-SUM($AF18:AJ18)),IF($AD18=Y$5,IF(($D18+($L18*7))>=Y$5,ROUND(($AD18-$D18)/7+0.5,0),$L18))),0),0) -> 6 | AL18: =IF($D18>0,IF($AD18<=Z$5,IF(SUM($AF18:AK18)>0,IF($L18-SUM($AF18:AK18)>52,52,$L18-SUM($AF18:AK18)),IF($AD18=Z$5,IF(($D18+($L18*7))>=Z$5,ROUND(($AD18-$D18)/7+0.5,0),$L18))),0),0) -> 0 | AM18: =IF(W18<>0,IF(D18<>"",G18,0),IF(O18>0,G18,"")) -> 30 | AN18: =IF(W18<>0,IF(H18<>"c",IF(E18<>"",H18,""),""),IF(O18>0,H18,"")) | AO18: =IF(AN18<>"",AM18,"") | AP18: =IF(AN18<>"",AN18-AO18,"") | AQ18: =IF(E18<>0,IF(E18>V$5,IF(E18<=W$5,IF(D18>V$5,ROUND(((D18-E18)/7+AI18+0.4),0),ROUND(((V$5-E18)/7+AI18+0.4),0)),0),52),AI18) -> 10 | AR18: =IF(D18<=V$5,IF(E18>V$5,IF(E18<=W$5,W$5,X$5),0),0) -> 0 | AS18: =IF(AR18>AD18,IF(E18<=W$5,ROUND(((V$5-E18)/7),0)*AE18*G18,-W18),0) -> 0 | AT18: =IF(H18<>" ",IF(H18<>"c",IF(H18<>0,H18-G18,0),-G18),0) -> 0 | AU18: =IF($AD18=T$5,$W18,0) -> 0 | AV18: =IF($AD18=V$5,$W18,0) -> 0 | AW18: =IF($AD18=W$5,$W18,0) -> 83823.529 | AX18: =IF(E18>0,E18,D18) -> 45773 | AY18: =IF(H18<>"C",IF(H18>0,H18,G18),0) -> 30 | AZ18: =W18+S18 -> 83823.529 | BA18: =IF(B18<>"",VLOOKUP(B18,'1 Pricing Length'!A$8:B$50,2),"") -> BUS
B19: BBA | C19: DET | D19: 45791 | G19: 30 | L19: =IF(B19<>"",IF(D19>0,IF(D19<=V$5,IF(M19>0,M19,VLOOKUP(B19,'1 Pricing Length'!A$8:C$50,3)),VLOOKUP(B19,'1 Pricing Length'!A$8:C$50,3)),0),0) -> 68 | M19: =IF(E19<>"",IF(F19<>"",(F19-E19)/7,0),0) -> 0 | N19: =IF(B19<>"",IF(D19<>0,IF(AD19<Y$5,IF(AD19<X$5,IF(AD19<W$5,IF(AD19<V$5,IF(AD19<U$5,VLOOKUP(B19,'1 Pricing Length'!A$8:I$50,4),VLOOKUP(B19,'1 Pricing Length'!A$8:I$50,5)),VLOOKUP(B19,'1 Pricing Length'!A$8:I$50,6)),VLOOKUP(B19,'1 Pricing Length'!A$8:I$50,7)),VLOOKUP(B19,'1 Pricing Length'!A$8:I$50,8)),0),0),0) -> 19000 | O19: =IF(H19<>"c",IF(H19<>"",IF(G19>0,W19*H19/G19-W19,IF(E19>V$5,IF(F19>W$5,ROUND((W$5-E19)/7,0)*AE19*H19,ROUND((F19-E19)/7,0)*AE19*H19),"enter budget")),0),-W19) -> 0 | P19: ='3 CY Interim'!P19 -> 0 | Q19: =IF(G19>0,IF(H19<>"C",IF(H19<>"",IF(E19>0,IF(F19>0,IF(M19>0,(W19/(M19/L19)-W19),(O19/(M19/L19)-O19)),0),0),0),0),0) -> 0 | R19: =IF(H19<>"c",IF(E19>0,IF(AD19=W$5,IF(H19>0,IF(E19>AH$5,(AQ19-AI19)*G19*AE19,(52-AI19)*G19*AE19),0),0),0),0) -> 0 | S19: =SUM(O19:R19) -> 0 | T19: =$G19*$AE19*AF19 -> 0 | U19: =$G19*$AE19*AG19 -> 0 | V19: =$G19*$AE19*AH19 -> 0 | W19: =$G19*$AE19*AI19 -> 58676.471 | X19: =IF(H19<>"c",$G19*$AE19*AJ19,0) -> 435882.35 | Y19: =IF(H19<>"c",$G19*$AE19*AK19,0) -> 75441.176 | Z19: =IF(H19<>"c",$G19*$AE19*AL19,0) -> 0 | AA19: =SUM(T19:Z19) -> 570000 | AB19: =G19*AI19/52 -> 4.0384615 | AD19: =IF(D19<=X$5,IF(D19<=W$5,IF(D19<=V$5,IF(D19<U$5,IF(D19<T$5,T$5,U$5),V$5),W$5),X$5),Y$5) -> 45838 | AE19: =IF(L19>1,N19/L19,0) -> 279.41176 | AF19: =IF(D19>0,IF($AD19=T$5,IF(E19=0,ROUND(($AD19-$D19)/7+0.5,0),ROUND(($AD19-$E19)/7+0.5,0)),0),0) -> 0 | AG19: =IF($D19>0,IF($AD19<=U$5,IF(SUM($AF19:AF19)>0,IF($L19-SUM($AF19:AF19)>52,52,$L19-SUM($AF19:AF19)),IF($AD19=U$5,IF(($D19+($L19*7))>=U$5,ROUND(($AD19-$D19)/7+0.5,0),$L19))),0),0) -> 0 | AH19: =IF($D19>0,IF($AD19<=V$5,IF(SUM($AF19:AG19)>0,IF($L19-SUM($AF19:AG19)>52,52,$L19-SUM($AF19:AG19)),IF($AD19=V$5,IF(($D19+($L19*7))>=V$5,ROUND(($AD19-$D19)/7+0.5,0),$L19))),0),0) -> 0 | AI19: =IF($D19>0,IF($AD19<=W$5,IF(SUM($AF19:AH19)>0,IF($L19-SUM($AF19:AH19)>52,52,$L19-SUM($AF19:AH19)),IF($AD19=W$5,IF(($D19+($L19*7))>=W$5,ROUND(($AD19-$D19)/7+0.5,0),$L19))),0),0) -> 7 | AJ19: =IF($D19>0,IF($AD19<=X$5,IF(SUM($AF19:AI19)>0,IF($L19-SUM($AF19:AI19)>52,52,$L19-SUM($AF19:AI19)),IF($AD19=X$5,IF(($D19+($L19*7))>=X$5,ROUND(($AD19-$D19)/7+0.5,0),$L19))),0),0) -> 52 | AK19: =IF($D19>0,IF($AD19<=Y$5,IF(SUM($AF19:AJ19)>0,IF($L19-SUM($AF19:AJ19)>52,52,$L19-SUM($AF19:AJ19)),IF($AD19=Y$5,IF(($D19+($L19*7))>=Y$5,ROUND(($AD19-$D19)/7+0.5,0),$L19))),0),0) -> 9 | AL19: =IF($D19>0,IF($AD19<=Z$5,IF(SUM($AF19:AK19)>0,IF($L19-SUM($AF19:AK19)>52,52,$L19-SUM($AF19:AK19)),IF($AD19=Z$5,IF(($D19+($L19*7))>=Z$5,ROUND(($AD19-$D19)/7+0.5,0),$L19))),0),0) -> 0 | AM19: =IF(W19<>0,IF(D19<>"",G19,0),IF(O19>0,G19,"")) -> 30 | AN19: =IF(W19<>0,IF(H19<>"c",IF(E19<>"",H19,""),""),IF(O19>0,H19,"")) | AO19: =IF(AN19<>"",AM19,"") | AP19: =IF(AN19<>"",AN19-AO19,"") | AQ19: =IF(E19<>0,IF(E19>V$5,IF(E19<=W$5,IF(D19>V$5,ROUND(((D19-E19)/7+AI19+0.4),0),ROUND(((V$5-E19)/7+AI19+0.4),0)),0),52),AI19) -> 7 | AR19: =IF(D19<=V$5,IF(E19>V$5,IF(E19<=W$5,W$5,X$5),0),0) -> 0 | AS19: =IF(AR19>AD19,IF(E19<=W$5,ROUND(((V$5-E19)/7),0)*AE19*G19,-W19),0) -> 0 | AT19: =IF(H19<>" ",IF(H19<>"c",IF(H19<>0,H19-G19,0),-G19),0) -> 0 | AU19: =IF($AD19=T$5,$W19,0) -> 0 | AV19: =IF($AD19=V$5,$W19,0) -> 0 | AW19: =IF($AD19=W$5,$W19,0) -> 58676.471 | AX19: =IF(E19>0,E19,D19) -> 45791 | AY19: =IF(H19<>"C",IF(H19>0,H19,G19),0) -> 30 | AZ19: =W19+S19 -> 58676.471 | BA19: =IF(B19<>"",VLOOKUP(B19,'1 Pricing Length'!A$8:B$50,2),"") -> BUS
B20: BBA | C20: TOL | D20: 45170 | E20: 45170 | F20: 45291 | G20: 9 | H20: 9 | L20: =IF(B20<>"",IF(D20>0,IF(D20<=V$5,IF(M20>0,M20,VLOOKUP(B20,'1 Pricing Length'!A$8:C$50,3)),VLOOKUP(B20,'1 Pricing Length'!A$8:C$50,3)),0),0) -> 17.285714 | M20: =IF(E20<>"",IF(F20<>"",(F20-E20)/7,0),0) -> 17.285714 | N20: =IF(B20<>"",IF(D20<>0,IF(AD20<Y$5,IF(AD20<X$5,IF(AD20<W$5,IF(AD20<V$5,IF(AD20<U$5,VLOOKUP(B20,'1 Pricing Length'!A$8:I$50,4),VLOOKUP(B20,'1 Pricing Length'!A$8:I$50,5)),VLOOKUP(B20,'1 Pricing Length'!A$8:I$50,6)),VLOOKUP(B20,'1 Pricing Length'!A$8:I$50,7)),VLOOKUP(B20,'1 Pricing Length'!A$8:I$50,8)),0),0),0) -> 18500 | O20: =IF(H20<>"c",IF(H20<>"",IF(G20>0,W20*H20/G20-W20,IF(E20>V$5,IF(F20>W$5,ROUND((W$5-E20)/7,0)*AE20*H20,ROUND((F20-E20)/7,0)*AE20*H20),"enter budget")),0),-W20) -> 0 | P20: ='3 CY Interim'!P20 -> 0 | Q20: =IF(G20>0,IF(H20<>"C",IF(H20<>"",IF(E20>0,IF(F20>0,IF(M20>0,(W20/(M20/L20)-W20),(O20/(M20/L20)-O20)),0),0),0),0),0) -> 0 | R20: =IF(H20<>"c",IF(E20>0,IF(AD20=W$5,IF(H20>0,IF(E20>AH$5,(AQ20-AI20)*G20*AE20,(52-AI20)*G20*AE20),0),0),0),0) -> 0 | S20: =SUM(O20:R20) -> 0 | T20: =$G20*$AE20*AF20 -> 0 | U20: =$G20*$AE20*AG20 -> 0 | V20: =$G20*$AE20*AH20 -> 166500 | W20: =$G20*$AE20*AI20 -> 0 | X20: =IF(H20<>"c",$G20*$AE20*AJ20,0) -> 0 | Y20: =IF(H20<>"c",$G20*$AE20*AK20,0) -> 0 | Z20: =IF(H20<>"c",$G20*$AE20*AL20,0) -> 0 | AA20: =SUM(T20:Z20) -> 166500 | AB20: =G20*AI20/52 -> 0 | AD20: =IF(D20<=X$5,IF(D20<=W$5,IF(D20<=V$5,IF(D20<U$5,IF(D20<T$5,T$5,U$5),V$5),W$5),X$5),Y$5) -> 45473 | AE20: =IF(L20>1,N20/L20,0) -> 1070.2479 | AF20: =IF(D20>0,IF($AD20=T$5,IF(E20=0,ROUND(($AD20-$D20)/7+0.5,0),ROUND(($AD20-$E20)/7+0.5,0)),0),0) -> 0 | AG20: =IF($D20>0,IF($AD20<=U$5,IF(SUM($AF20:AF20)>0,IF($L20-SUM($AF20:AF20)>52,52,$L20-SUM($AF20:AF20)),IF($AD20=U$5,IF(($D20+($L20*7))>=U$5,ROUND(($AD20-$D20)/7+0.5,0),$L20))),0),0) -> 0 | AH20: =IF($D20>0,IF($AD20<=V$5,IF(SUM($AF20:AG20)>0,IF($L20-SUM($AF20:AG20)>52,52,$L20-SUM($AF20:AG20)),IF($AD20=V$5,IF(($D20+($L20*7))>=V$5,ROUND(($AD20-$D20)/7+0.5,0),$L20))),0),0) -> 17.285714 | AI20: =IF($D20>0,IF($AD20<=W$5,IF(SUM($AF20:AH20)>0,IF($L20-SUM($AF20:AH20)>52,52,$L20-SUM($AF20:AH20)),IF($AD20=W$5,IF(($D20+($L20*7))>=W$5,ROUND(($AD20-$D20)/7+0.5,0),$L20))),0),0) -> 0 | AJ20: =IF($D20>0,IF($AD20<=X$5,IF(SUM($AF20:AI20)>0,IF($L20-SUM($AF20:AI20)>52,52,$L20-SUM($AF20:AI20)),IF($AD20=X$5,IF(($D20+($L20*7))>=X$5,ROUND(($AD20-$D20)/7+0.5,0),$L20))),0),0) -> 0 | AK20: =IF($D20>0,IF($AD20<=Y$5,IF(SUM($AF20:AJ20)>0,IF($L20-SUM($AF20:AJ20)>52,52,$L20-SUM($AF20:AJ20)),IF($AD20=Y$5,IF(($D20+($L20*7))>=Y$5,ROUND(($AD20-$D20)/7+0.5,0),$L20))),0),0) -> 0 | AL20: =IF($D20>0,IF($AD20<=Z$5,IF(SUM($AF20:AK20)>0,IF($L20-SUM($AF20:AK20)>52,52,$L20-SUM($AF20:AK20)),IF($AD20=Z$5,IF(($D20+($L20*7))>=Z$5,ROUND(($AD20-$D20)/7+0.5,0),$L20))),0),0) -> 0 | AM20: =IF(W20<>0,IF(D20<>"",G20,0),IF(O20>0,G20,"")) | AN20: =IF(W20<>0,IF(H20<>"c",IF(E20<>"",H20,""),""),IF(O20>0,H20,"")) | AO20: =IF(AN20<>"",AM20,"") | AP20: =IF(AN20<>"",AN20-AO20,"") | AQ20: =IF(E20<>0,IF(E20>V$5,IF(E20<=W$5,IF(D20>V$5,ROUND(((D20-E20)/7+AI20+0.4),0),ROUND(((V$5-E20)/7+AI20+0.4),0)),0),52),AI20) -> 52 | AR20: =IF(D20<=V$5,IF(E20>V$5,IF(E20<=W$5,W$5,X$5),0),0) -> 0 | AS20: =IF(AR20>AD20,IF(E20<=W$5,ROUND(((V$5-E20)/7),0)*AE20*G20,-W20),0) -> 0 | AT20: =IF(H20<>" ",IF(H20<>"c",IF(H20<>0,H20-G20,0),-G20),0) -> 0 | AU20: =IF($AD20=T$5,$W20,0) -> 0 | AV20: =IF($AD20=V$5,$W20,0) -> 0 | AW20: =IF($AD20=W$5,$W20,0) -> 0 | AX20: =IF(E20>0,E20,D20) -> 45170 | AY20: =IF(H20<>"C",IF(H20>0,H20,G20),0) -> 9 | AZ20: =W20+S20 -> 0 | BA20: =IF(B20<>"",VLOOKUP(B20,'1 Pricing Length'!A$8:B$50,2),"") -> BUS
B21: BBA | C21: AKR | D21: 45350 | E21: 45350 | F21: 45792 | G21: 12 | H21: 10 | L21: =IF(B21<>"",IF(D21>0,IF(D21<=V$5,IF(M21>0,M21,VLOOKUP(B21,'1 Pricing Length'!A$8:C$50,3)),VLOOKUP(B21,'1 Pricing Length'!A$8:C$50,3)),0),0) -> 63.142857 | M21: =IF(E21<>"",IF(F21<>"",(F21-E21)/7,0),0) -> 63.142857 | N21: =IF(B21<>"",IF(D21<>0,IF(AD21<Y$5,IF(AD21<X$5,IF(AD21<W$5,IF(AD21<V$5,IF(AD21<U$5,VLOOKUP(B21,'1 Pricing Length'!A$8:I$50,4),VLOOKUP(B21,'1 Pricing Length'!A$8:I$50,5)),VLOOKUP(B21,'1 Pricing Length'!A$8:I$50,6)),VLOOKUP(B21,'1 Pricing Length'!A$8:I$50,7)),VLOOKUP(B21,'1 Pricing Length'!A$8:I$50,8)),0),0),0) -> 18500 | O21: =IF(H21<>"c",IF(H21<>"",IF(G21>0,W21*H21/G21-W21,IF(E21>V$5,IF(F21>W$5,ROUND((W$5-E21)/7,0)*AE21*H21,ROUND((F21-E21)/7,0)*AE21*H21),"enter budget")),0),-W21) -> -26452.489 | P21: ='3 CY Interim'!P21 -> -10714.932 | Q21: =IF(G21>0,IF(H21<>"C",IF(H21<>"",IF(E21>0,IF(F21>0,IF(M21>0,(W21/(M21/L21)-W21),(O21/(M21/L21)-O21)),0),0),0),0),0) -> 0 | R21: =IF(H21<>"c",IF(E21>0,IF(AD21=W$5,IF(H21>0,IF(E21>AH$5,(AQ21-AI21)*G21*AE21,(52-AI21)*G21*AE21),0),0),0),0) -> 0 | S21: =SUM(O21:R21) -> -37167.421 | T21: =$G21*$AE21*AF21 -> 0 | U21: =$G21*$AE21*AG21 -> 0 | V21: =$G21*$AE21*AH21 -> 63285.068 | W21: =$G21*$AE21*AI21 -> 158714.93 | X21: =IF(H21<>"c",$G21*$AE21*AJ21,0) -> 0 | Y21: =IF(H21<>"c",$G21*$AE21*AK21,0) -> 0 | Z21: =IF(H21<>"c",$G21*$AE21*AL21,0) -> 0 | AA21: =SUM(T21:Z21) -> 222000 | AB21: =G21*AI21/52 -> 10.417582 | AD21: =IF(D21<=X$5,IF(D21<=W$5,IF(D21<=V$5,IF(D21<U$5,IF(D21<T$5,T$5,U$5),V$5),W$5),X$5),Y$5) -> 45473 | AE21: =IF(L21>1,N21/L21,0) -> 292.98643 | AF21: =IF(D21>0,IF($AD21=T$5,IF(E21=0,ROUND(($AD21-$D21)/7+0.5,0),ROUND(($AD21-$E21)/7+0.5,0)),0),0) -> 0 | AG21: =IF($D21>0,IF($AD21<=U$5,IF(SUM($AF21:AF21)>0,IF($L21-SUM($AF21:AF21)>52,52,$L21-SUM($AF21:AF21)),IF($AD21=U$5,IF(($D21+($L21*7))>=U$5,ROUND(($AD21-$D21)/7+0.5,0),$L21))),0),0) -> 0 | AH21: =IF($D21>0,IF($AD21<=V$5,IF(SUM($AF21:AG21)>0,IF($L21-SUM($AF21:AG21)>52,52,$L21-SUM($AF21:AG21)),IF($AD21=V$5,IF(($D21+($L21*7))>=V$5,ROUND(($AD21-$D21)/7+0.5,0),$L21))),0),0) -> 18 | AI21: =IF($D21>0,IF($AD21<=W$5,IF(SUM($AF21:AH21)>0,IF($L21-SUM($AF21:AH21)>52,52,$L21-SUM($AF21:AH21)),IF($AD21=W$5,IF(($D21+($L21*7))>=W$5,ROUND(($AD21-$D21)/7+0.5,0),$L21))),0),0) -> 45.142857 | AJ21: =IF($D21>0,IF($AD21<=X$5,IF(SUM($AF21:AI21)>0,IF($L21-SUM($AF21:AI21)>52,52,$L21-SUM($AF21:AI21)),IF($AD21=X$5,IF(($D21+($L21*7))>=X$5,ROUND(($AD21-$D21)/7+0.5,0),$L21))),0),0) -> 0 | AK21: =IF($D21>0,IF($AD21<=Y$5,IF(SUM($AF21:AJ21)>0,IF($L21-SUM($AF21:AJ21)>52,52,$L21-SUM($AF21:AJ21)),IF($AD21=Y$5,IF(($D21+($L21*7))>=Y$5,ROUND(($AD21-$D21)/7+0.5,0),$L21))),0),0) -> 0 | AL21: =IF($D21>0,IF($AD21<=Z$5,IF(SUM($AF21:AK21)>0,IF($L21-SUM($AF21:AK21)>52,52,$L21-SUM($AF21:AK21)),IF($AD21=Z$5,IF(($D21+($L21*7))>=Z$5,ROUND(($AD21-$D21)/7+0.5,0),$L21))),0),0) -> 0 | AM21: =IF(W21<>0,IF(D21<>"",G21,0),IF(O21>0,G21,"")) -> 12 | AN21: =IF(W21<>0,IF(H21<>"c",IF(E21<>"",H21,""),""),IF(O21>0,H21,"")) -> 10 | AO21: =IF(AN21<>"",AM21,"") -> 12 | AP21: =IF(AN21<>"",AN21-AO21,"") -> -2 | AQ21: =IF(E21<>0,IF(E21>V$5,IF(E21<=W$5,IF(D21>V$5,ROUND(((D21-E21)/7+AI21+0.4),0),ROUND(((V$5-E21)/7+AI21+0.4),0)),0),52),AI21) -> 52 | AR21: =IF(D21<=V$5,IF(E21>V$5,IF(E21<=W$5,W$5,X$5),0),0) -> 0 | AS21: =IF(AR21>AD21,IF(E21<=W$5,ROUND(((V$5-E21)/7),0)*AE21*G21,-W21),0) -> 0 | AT21: =IF(H21<>" ",IF(H21<>"c",IF(H21<>0,H21-G21,0),-G21),0) -> -2 | AU21: =IF($AD21=T$5,$W21,0) -> 0 | AV21: =IF($AD21=V$5,$W21,0) -> 158714.93 | AW21: =IF($AD21=W$5,$W21,0) -> 0 | AX21: =IF(E21>0,E21,D21) -> 45350 | AY21: =IF(H21<>"C",IF(H21>0,H21,G21),0) -> 10 | AZ21: =W21+S21 -> 121547.51 | BA21: =IF(B21<>"",VLOOKUP(B21,'1 Pricing Length'!A$8:B$50,2),"") -> BUS
B22: BSN | C22: CAM | D22: 45529 | G22: 12 | H22: C | L22: =IF(B22<>"",IF(D22>0,IF(D22<=V$5,IF(M22>0,M22,VLOOKUP(B22,'1 Pricing Length'!A$8:C$50,3)),VLOOKUP(B22,'1 Pricing Length'!A$8:C$50,3)),0),0) -> 72 | M22: =IF(E22<>"",IF(F22<>"",(F22-E22)/7,0),0) -> 0 | N22: =IF(B22<>"",IF(D22<>0,IF(AD22<Y$5,IF(AD22<X$5,IF(AD22<W$5,IF(AD22<V$5,IF(AD22<U$5,VLOOKUP(B22,'1 Pricing Length'!A$8:I$50,4),VLOOKUP(B22,'1 Pricing Length'!A$8:I$50,5)),VLOOKUP(B22,'1 Pricing Length'!A$8:I$50,6)),VLOOKUP(B22,'1 Pricing Length'!A$8:I$50,7)),VLOOKUP(B22,'1 Pricing Length'!A$8:I$50,8)),0),0),0) -> 20000 | O22: =IF(H22<>"c",IF(H22<>"",IF(G22>0,W22*H22/G22-W22,IF(E22>V$5,IF(F22>W$5,ROUND((W$5-E22)/7,0)*AE22*H22,ROUND((F22-E22)/7,0)*AE22*H22),"enter budget")),0),-W22) -> -150000 | P22: ='3 CY Interim'!P22 -> 0 | Q22: =IF(G22>0,IF(H22<>"C",IF(H22<>"",IF(E22>0,IF(F22>0,IF(M22>0,(W22/(M22/L22)-W22),(O22/(M22/L22)-O22)),0),0),0),0),0) -> 0 | R22: =IF(H22<>"c",IF(E22>0,IF(AD22=W$5,IF(H22>0,IF(E22>AH$5,(AQ22-AI22)*G22*AE22,(52-AI22)*G22*AE22),0),0),0),0) -> 0 | S22: =SUM(O22:R22) -> -150000 | T22: =$G22*$AE22*AF22 -> 0 | U22: =$G22*$AE22*AG22 -> 0 | V22: =$G22*$AE22*AH22 -> 0 | W22: =$G22*$AE22*AI22 -> 150000 | X22: =IF(H22<>"c",$G22*$AE22*AJ22,0) -> 0 | Y22: =IF(H22<>"c",$G22*$AE22*AK22,0) -> 0 | Z22: =IF(H22<>"c",$G22*$AE22*AL22,0) -> 0 | AA22: =SUM(T22:Z22) -> 150000 | AB22: =G22*AI22/52 -> 10.384615 | AD22: =IF(D22<=X$5,IF(D22<=W$5,IF(D22<=V$5,IF(D22<U$5,IF(D22<T$5,T$5,U$5),V$5),W$5),X$5),Y$5) -> 45838 | AE22: =IF(L22>1,N22/L22,0) -> 277.77778 | AF22: =IF(D22>0,IF($AD22=T$5,IF(E22=0,ROUND(($AD22-$D22)/7+0.5,0),ROUND(($AD22-$E22)/7+0.5,0)),0),0) -> 0 | AG22: =IF($D22>0,IF($AD22<=U$5,IF(SUM($AF22:AF22)>0,IF($L22-SUM($AF22:AF22)>52,52,$L22-SUM($AF22:AF22)),IF($AD22=U$5,IF(($D22+($L22*7))>=U$5,ROUND(($AD22-$D22)/7+0.5,0),$L22))),0),0) -> 0 | AH22: =IF($D22>0,IF($AD22<=V$5,IF(SUM($AF22:AG22)>0,IF($L22-SUM($AF22:AG22)>52,52,$L22-SUM($AF22:AG22)),IF($AD22=V$5,IF(($D22+($L22*7))>=V$5,ROUND(($AD22-$D22)/7+0.5,0),$L22))),0),0) -> 0 | AI22: =IF($D22>0,IF($AD22<=W$5,IF(SUM($AF22:AH22)>0,IF($L22-SUM($AF22:AH22)>52,52,$L22-SUM($AF22:AH22)),IF($AD22=W$5,IF(($D22+($L22*7))>=W$5,ROUND(($AD22-$D22)/7+0.5,0),$L22))),0),0) -> 45 | AJ22: =IF($D22>0,IF($AD22<=X$5,IF(SUM($AF22:AI22)>0,IF($L22-SUM($AF22:AI22)>52,52,$L22-SUM($AF22:AI22)),IF($AD22=X$5,IF(($D22+($L22*7))>=X$5,ROUND(($AD22-$D22)/7+0.5,0),$L22))),0),0) -> 27 | AK22: =IF($D22>0,IF($AD22<=Y$5,IF(SUM($AF22:AJ22)>0,IF($L22-SUM($AF22:AJ22)>52,52,$L22-SUM($AF22:AJ22)),IF($AD22=Y$5,IF(($D22+($L22*7))>=Y$5,ROUND(($AD22-$D22)/7+0.5,0),$L22))),0),0) -> 0 | AL22: =IF($D22>0,IF($AD22<=Z$5,IF(SUM($AF22:AK22)>0,IF($L22-SUM($AF22:AK22)>52,52,$L22-SUM($AF22:AK22)),IF($AD22=Z$5,IF(($D22+($L22*7))>=Z$5,ROUND(($AD22-$D22)/7+0.5,0),$L22))),0),0) -> 0 | AM22: =IF(W22<>0,IF(D22<>"",G22,0),IF(O22>0,G22,"")) -> 12 | AN22: =IF(W22<>0,IF(H22<>"c",IF(E22<>"",H22,""),""),IF(O22>0,H22,"")) | AO22: =IF(AN22<>"",AM22,"") | AP22: =IF(AN22<>"",AN22-AO22,"") | AQ22: =IF(E22<>0,IF(E22>V$5,IF(E22<=W$5,IF(D22>V$5,ROUND(((D22-E22)/7+AI22+0.4),0),ROUND(((V$5-E22)/7+AI22+0.4),0)),0),52),AI22) -> 45 | AR22: =IF(D22<=V$5,IF(E22>V$5,IF(E22<=W$5,W$5,X$5),0),0) -> 0 | AS22: =IF(AR22>AD22,IF(E22<=W$5,ROUND(((V$5-E22)/7),0)*AE22*G22,-W22),0) -> 0 | AT22: =IF(H22<>" ",IF(H22<>"c",IF(H22<>0,H22-G22,0),-G22),0) -> -12 | AU22: =IF($AD22=T$5,$W22,0) -> 0 | AV22: =IF($AD22=V$5,$W22,0) -> 0 | AW22: =IF($AD22=W$5,$W22,0) -> 150000 | AX22: =IF(E22>0,E22,D22) -> 45529 | AY22: =IF(H22<>"C",IF(H22>0,H22,G22),0) -> 0 | AZ22: =W22+S22 -> 0 | BA22: =IF(B22<>"",VLOOKUP(B22,'1 Pricing Length'!A$8:B$50,2),"") -> NUR
B23: BSN | C23: ONL | D23: 45515 | E23: 45529 | F23: 46026 | G23: 12 | H23: 11 | L23: =IF(B23<>"",IF(D23>0,IF(D23<=V$5,IF(M23>0,M23,VLOOKUP(B23,'1 Pricing Length'!A$8:C$50,3)),VLOOKUP(B23,'1 Pricing Length'!A$8:C$50,3)),0),0) -> 72 | M23: =IF(E23<>"",IF(F23<>"",(F23-E23)/7,0),0) -> 71 | N23: =IF(B23<>"",IF(D23<>0,IF(AD23<Y$5,IF(AD23<X$5,IF(AD23<W$5,IF(AD23<V$5,IF(AD23<U$5,VLOOKUP(B23,'1 Pricing Length'!A$8:I$50,4),VLOOKUP(B23,'1 Pricing Length'!A$8:I$50,5)),VLOOKUP(B23,'1 Pricing Length'!A$8:I$50,6)),VLOOKUP(B23,'1 Pricing Length'!A$8:I$50,7)),VLOOKUP(B23,'1 Pricing Length'!A$8:I$50,8)),0),0),0) -> 20000 | O23: =IF(H23<>"c",IF(H23<>"",IF(G23>0,W23*H23/G23-W23,IF(E23>V$5,IF(F23>W$5,ROUND((W$5-E23)/7,0)*AE23*H23,ROUND((F23-E23)/7,0)*AE23*H23),"enter budget")),0),-W23) -> -13055.556 | P23: ='3 CY Interim'!P23 -> 0 | Q23: =IF(G23>0,IF(H23<>"C",IF(H23<>"",IF(E23>0,IF(F23>0,IF(M23>0,(W23/(M23/L23)-W23),(O23/(M23/L23)-O23)),0),0),0),0),0) -> 2206.5728 | R23: =IF(H23<>"c",IF(E23>0,IF(AD23=W$5,IF(H23>0,IF(E23>AH$5,(AQ23-AI23)*G23*AE23,(52-AI23)*G23*AE23),0),0),0),0) -> -6666.6667 | S23: =SUM(O23:R23) -> -17515.649 | T23: =$G23*$AE23*AF23 -> 0 | U23: =$G23*$AE23*AG23 -> 0 | V23: =$G23*$AE23*AH23 -> 0 | W23: =$G23*$AE23*AI23 -> 156666.67 | X23: =IF(H23<>"c",$G23*$AE23*AJ23,0) -> 83333.333 | Y23: =IF(H23<>"c",$G23*$AE23*AK23,0) -> 0 | Z23: =IF(H23<>"c",$G23*$AE23*AL23,0) -> 0 | AA23: =SUM(T23:Z23) -> 240000 | AB23: =G23*AI23/52 -> 10.846154 | AD23: =IF(D23<=X$5,IF(D23<=W$5,IF(D23<=V$5,IF(D23<U$5,IF(D23<T$5,T$5,U$5),V$5),W$5),X$5),Y$5) -> 45838 | AE23: =IF(L23>1,N23/L23,0) -> 277.77778 | AF23: =IF(D23>0,IF($AD23=T$5,IF(E23=0,ROUND(($AD23-$D23)/7+0.5,0),ROUND(($AD23-$E23)/7+0.5,0)),0),0) -> 0 | AG23: =IF($D23>0,IF($AD23<=U$5,IF(SUM($AF23:AF23)>0,IF($L23-SUM($AF23:AF23)>52,52,$L23-SUM($AF23:AF23)),IF($AD23=U$5,IF(($D23+($L23*7))>=U$5,ROUND(($AD23-$D23)/7+0.5,0),$L23))),0),0) -> 0 | AH23: =IF($D23>0,IF($AD23<=V$5,IF(SUM($AF23:AG23)>0,IF($L23-SUM($AF23:AG23)>52,52,$L23-SUM($AF23:AG23)),IF($AD23=V$5,IF(($D23+($L23*7))>=V$5,ROUND(($AD23-$D23)/7+0.5,0),$L23))),0),0) -> 0 | AI23: =IF($D23>0,IF($AD23<=W$5,IF(SUM($AF23:AH23)>0,IF($L23-SUM($AF23:AH23)>52,52,$L23-SUM($AF23:AH23)),IF($AD23=W$5,IF(($D23+($L23*7))>=W$5,ROUND(($AD23-$D23)/7+0.5,0),$L23))),0),0) -> 47 | AJ23: =IF($D23>0,IF($AD23<=X$5,IF(SUM($AF23:AI23)>0,IF($L23-SUM($AF23:AI23)>52,52,$L23-SUM($AF23:AI23)),IF($AD23=X$5,IF(($D23+($L23*7))>=X$5,ROUND(($AD23-$D23)/7+0.5,0),$L23))),0),0) -> 25 | AK23: =IF($D23>0,IF($AD23<=Y$5,IF(SUM($AF23:AJ23)>0,IF($L23-SUM($AF23:AJ23)>52,52,$L23-SUM($AF23:AJ23)),IF($AD23=Y$5,IF(($D23+($L23*7))>=Y$5,ROUND(($AD23-$D23)/7+0.5,0),$L23))),0),0) -> 0 | AL23: =IF($D23>0,IF($AD23<=Z$5,IF(SUM($AF23:AK23)>0,IF($L23-SUM($AF23:AK23)>52,52,$L23-SUM($AF23:AK23)),IF($AD23=Z$5,IF(($D23+($L23*7))>=Z$5,ROUND(($AD23-$D23)/7+0.5,0),$L23))),0),0) -> 0 | AM23: =IF(W23<>0,IF(D23<>"",G23,0),IF(O23>0,G23,"")) -> 12 | AN23: =IF(W23<>0,IF(H23<>"c",IF(E23<>"",H23,""),""),IF(O23>0,H23,"")) -> 11 | AO23: =IF(AN23<>"",AM23,"") -> 12 | AP23: =IF(AN23<>"",AN23-AO23,"") -> -1 | AQ23: =IF(E23<>0,IF(E23>V$5,IF(E23<=W$5,IF(D23>V$5,ROUND(((D23-E23)/7+AI23+0.4),0),ROUND(((V$5-E23)/7+AI23+0.4),0)),0),52),AI23) -> 45 | AR23: =IF(D23<=V$5,IF(E23>V$5,IF(E23<=W$5,W$5,X$5),0),0) -> 0 | AS23: =IF(AR23>AD23,IF(E23<=W$5,ROUND(((V$5-E23)/7),0)*AE23*G23,-W23),0) -> 0 | AT23: =IF(H23<>" ",IF(H23<>"c",IF(H23<>0,H23-G23,0),-G23),0) -> -1 | AU23: =IF($AD23=T$5,$W23,0) -> 0 | AV23: =IF($AD23=V$5,$W23,0) -> 0 | AW23: =IF($AD23=W$5,$W23,0) -> 156666.67 | AX23: =IF(E23>0,E23,D23) -> 45529 | AY23: =IF(H23<>"C",IF(H23>0,H23,G23),0) -> 11 | AZ23: =W23+S23 -> 139151.02 | BA23: =IF(B23<>"",VLOOKUP(B23,'1 Pricing Length'!A$8:B$50,2),"") -> NUR
