Workbook
Name EDD: '[1]Pricing & Length'!$A$8:$A$26
Name EDDNY: '[1]Pricing & Length'!$A$8:$A$26
Name Lower_Upper: #REF!
Name Lower_Upper: #REF!
Name NYPrograms: #REF!
Name NYPrograms: #REF!
Name Pgms: '[2]Pricing & Length CY'!$A$8:$A$34
Name Places: '[2]Sites & Schools'!$B$4:$B$13
Name Programs: #REF!
Name Programs: #REF!
Name Sites: #REF!
Name Sites: #REF!
Name Update: '5 Next Year'!#REF!

Sheet Instructions
G2: Version 2025.1
B4: S U M M A R Y I N S T R U C T I O N S
C6: 1 | D6: On the '1 Pricing Length' tab, enter the institution name, current year-end date and program abreviation (3 to 5 spaces in length).
D7: Also, enter the standard weeks that each program cohort consumes and the official (total) program pricing for each year.
C8: 2 | D8: Select the '2 Current Year' tab and enter the proposed 'Allowance' rate in cell S7. (10% recommended)
D9: Cohorts tend to lose students over time.
C10: 3 | D10: In columns A through H, enter carryover cohorts that will generate some revenue for the year being budgeted.
D11: A carryover cohort begins before the year starts. For those cohorts, enter in 'budg' and 'actual' enrollments as the same
D12: number. Also, enter in the "Budget' and 'Actual" start dates as identical times and enter the 'End Date'.
C13: 4 | D13: Enter 'Planned' start dates and 'Budg' cohort population for cohorts that are yet to start. Leave 'Actual' blank until they start.
C14: 5 | D14: As cohorts start, enter 'Actual' start date, end date and the cohort's actual starting population under the 'Begin' column.
C15: 6 | D15: For starts that wind up Cancelled, enter a 'C' in column H.
C16: 7 | D16: At the bottom of column U, enter in estimates for non-cohort style programs.
C17: 8 | D17: After a cohort has started (or was carried over), update current cohort population using the tab labeled '3 CY Interim'.
D18: In that worksheet, enter the dates of measurement for up to eight points in time (M1 - M8) within the fiscal year
C19: 9 | D19: While budgeted revenues should remain unchanged during the year, variances will be tracked and totalled ('N8')
D20: and a current projection of revenues reported ('P8').
C21: 10 | D21: The tab '4 CY Summ' provides summary data by program, school and location, along with variances and projections.
C22: 11 | D22: You can begin work on the following fiscal year by pressing the button "Update" on tab '5 Next Year'
C23: 12 | D23: When you have finished being concerned about carryover cohorts, enter next year's new starts in '5 Next Year'
D25: AFTER ENTERING DATA IN COLUMNS A THROUGH H, DO NOT CHANGE THOSE VALUES DURING THE YEAR.
D26: CHANGES IN CY POPULATIONS CAN BE MADE IN TAB '3 CY Interim', WITH VARIANCES RECORDED.
G30: http://cfocolleague.com

Sheet 1 Pricing Length
E1: Example College
E2: Pricing & Length Grid | I2: =Instructions!G2 -> Version 2025.1
E3: enter in | F3: Blue Cells
E5: P R I C I N G
A6: Program | B6: School | C6: standard | D6: Attrition | E6: f o r t h e y e a r s e n d e d | M6: S I T E S | R6: S C H O O L S
A7: (enter in alpha order) | C7: weeks | D7: Factor % | E7: =DATE(YEAR(F7)-1,MONTH(F7),DAY(F7)) -> 44742 | F7: =DATE(YEAR(G7)-1,MONTH(G7),DAY(G7)) -> 45107 | G7: =DATE(YEAR(H7)-1,MONTH(H7),DAY(H7)) -> 45473 | H7: 45838 | I7: =DATE(YEAR(H7)+1,MONTH(H7),DAY(H7)) -> 46203 | M7: Code | O7: Name | R7: Code | T7: Name
A8: AA | B8: LRT | C8: 88 | D8: 0.1 | E8: 15000 | F8: 15500 | G8: 16000 | H8: 16500 | I8: 17000 | M8: AKR | O8: Akron | R8: BUS | T8: Business
A9: BBA | B9: BUS | C9: 68 | D9: 0.125 | E9: 18000 | F9: 18500 | G9: 19000 | H9: 19500 | I9: 20000 | M9: CAM | O9: Main Campus | R9: EDU | T9: Education
A10: BSN | B10: NUR | C10: 72 | D10: 0.05 | E10: 19000 | F10: 19500 | G10: 20000 | H10: 20500 | I10: 21000 | M10: ONL | O10: Online | R10: LRT | T10: Liberal Arts
A11: CRJ | B11: LRT | C11: 65 | D11: 0.04 | E11: 20000 | F11: 20500 | G11: 21000 | H11: 21500 | I11: 22000 | M11: CLV | O11: Cleveland | R11: NUR | T11: Nursing
A12: EDM | B12: EDU | C12: 72 | D12: 0.06 | E12: 21000 | F12: 21500 | G12: 22000 | H12: 22500 | I12: 23000 | M12: DET | O12: Detroit | R12: REL | T12: Religion
A13: MBA | B13: BUS | C13: 75 | D13: 0.03 | E13: 24000 | F13: 24500 | G13: 25000 | H13: 25500 | I13: 26000 | M13: TOL | O13: Toledo
A14: REL | B14: REL | C14: 60 | D14: 0.07 | E14: 12000 | F14: 12500 | G14: 13000 | H14: 13600 | I14: 14000
A52: note that the standard number of weeks should include anticipated breaks and holidays

Sheet 2 Current Year
A2: ='1 Pricing Length'!E1 -> Example College | L2: Weeks / Tuition | O2: Variances | T2: Calculations (outputs) | AD2: Intermediate Calculated Data
Z3: =Instructions!G2 -> Version 2025.1
A4: Forecast FYE | B4: 1 | C4: Only columns 'A' through 'H' should be entered in or erased. | L4: Length (weeks) | N4: Program | O4: Cohort Size | R4: Start | S4: Total | X4: Fiscal Year-End when Revenues are Recognized | AB4: FTE | AD4: First FYE | AE4: Tuition | AF4: Weeks in session for each FY ending
A5: =W5 -> 45838 | B5: 2 | C5: Entering "C" in column 'H' means Cancelled | L5: Budg | M5: Act | N5: Tuition | O5: Beginning | P5: CY Interim | Q5: Length | R5: Date | S5: Variance | T5: ='1 Pricing Length'!E7 -> 44742 | U5: ='1 Pricing Length'!F7 -> 45107 | V5: ='1 Pricing Length'!G7 -> 45473 | W5: ='1 Pricing Length'!H7 -> 45838 | X5: ='1 Pricing Length'!I7 -> 46203 | Y5: =DATE(YEAR(X5)+1,MONTH(X5),DAY(X5)) -> 46568 | Z5: =DATE(YEAR(Y5)+1,MONTH(Y5),DAY(Y5)) -> 46934 | AA5: Total | AB5: =W5 -> 45838 | AE5: per week | AF5: =T5 -> 44742 | AG5: =U5 -> 45107 | AH5: =V5 -> 45473 | AI5: =W5 -> 45838 | AJ5: =X5 -> 46203 | AK5: =Y5 -> 46568 | AL5: =Z5 -> 46934
A6: Current Year | B6: 3 | C6: During the year, enter changes in cohort size on tab '3 CY Interim' | O6: =AO253-AM253 -> 0.3238095 | V6: Gross | W6: =W257 -> 5997853.1 | AU6: =SUBTOTAL(9,AU10:AU263) -> 0 | AV6: =SUBTOTAL(9,AV10:AV263) -> 981989.59 | AW6: =SUBTOTAL(9,AW10:AW263) -> 4028364.6
A7: Identifier | B7: Program | C7: Site | D7: Start Dates | F7: End Dates | G7: Population | O7: =O252 -> -442527.92 | P7: =P252 -> 337710.74 | Q7: =Q252 -> 4556089.3 | R7: =R252 -> -39392.424 | S7: =+S8-W8 -> 4771246.5 | V7: (Allowance) | W7: ='4 CY Summ'!D50 -> -359366.8 | X7: =-W7/W6 -> 0.059915906 | AB7: =SUBTOTAL(9,AB10:AB395) -> 402.22802 | AM7: Overall | AN7: Started Cohorts
D8: Planned | E8: Actual | F8: Actual | G8: Budg | H8: CYstart | I8: Interim | J8: Ostart | K8: Ret % | P8: CY variance | Q8: =O7+P7+Q7+R7 -> 4411879.7 | R8: Projected Rev | S8: =W6+Q8 -> 10409733 | V8: Budget | W8: =W6+W7 -> 5638486.3 | AM8: Budget | AN8: Actual | AO8: Budget | AP8: Variance
B10: AA | C10: CAM | D10: 45501 | E10: 45501 | F10: 46465 | G10: 30 | H10: 16 | L10: =IF(B10<>"",IF(D10>0,IF(D10<=V$5,IF(M10>0,M10,VLOOKUP(B10,'1 Pricing Length'!A$8:C$50,3)),VLOOKUP(B10,'1 Pricing Length'!A$8:C$50,3)),0),0) -> 88 | M10: =IF(E10<>"",IF(F10<>"",(F10-E10)/7,0),0) -> 137.71429 | N10: =IF(B10<>"",IF(D10<>0,IF(AD10<Y$5,IF(AD10<X$5,IF(AD10<W$5,IF(AD10<V$5,IF(AD10<U$5,VLOOKUP(B10,'1 Pricing Length'!A$8:I$64,4),VLOOKUP(B10,'1 Pricing Length'!A$8:I$64,5)),VLOOKUP(B10,'1 Pricing Length'!A$8:I$64,6)),VLOOKUP(B10,'1 Pricing Length'!A$8:I$64,7)),VLOOKUP(B10,'1 Pricing Length'!A$8:I$64,8)),0),0),0) -> 16000 | O10: =IF(H10<>"c",IF(H10<>"",IF(G10>0,W10*H10/G10-W10,IF(E10>V$5,IF(F10>W$5,ROUND((W$5-E10)/7,0)*AE10*H10,ROUND((F10-E10)/7,0)*AE10*H10),"enter budget")),0),-W10) -> -124727.27 | P10: ='3 CY Interim'!P10 -> -29012.987 | Q10: =IF(G10>0,IF(H10<>"C",IF(H10<>"",IF(E10>0,IF(F10>0,IF(M10>0,(W10/(M10/L10)-W10),(O10/(M10/L10)-O10)),0),0),0),0),0) -> -96484.346 | R10: =IF(H10<>"c",IF(E10>0,IF(AD10=W$5,IF(H10>0,IF(E10>AH$5,(AQ10-AI10)*G10*AE10,(52-AI10)*G10*AE10),0),0),0),0) -> 0 | S10: =SUM(O10:R10) -> -250224.61 | T10: =$G10*$AE10*AF10 -> 0 | U10: =$G10*$AE10*AG10 -> 0 | V10: =$G10*$AE10*AH10 -> 0 | W10: =$G10*$AE10*AI10 -> 267272.73 | X10: =IF(H10<>"c",$G10*$AE10*AJ10,0) -> 212727.27 | Y10: =IF(H10<>"c",$G10*$AE10*AK10,0) -> 0 | Z10: =IF(H10<>"c",$G10*$AE10*AL10,0) -> 0 | AA10: =SUM(T10:Z10) -> 480000 | AB10: =G10*AI10/52 -> 28.269231 | AD10: =IF(D10<=X$5,IF(D10<=W$5,IF(D10<=V$5,IF(D10<U$5,IF(D10<T$5,T$5,U$5),V$5),W$5),X$5),Y$5) -> 45838 | AE10: =IF(L10>1,N10/L10,0) -> 181.81818 | AF10: =IF(D10>0,IF($AD10=T$5,IF(E10=0,ROUND(($AD10-$D10)/7+0.5,0),ROUND(($AD10-$E10)/7+0.5,0)),0),0) -> 0 | AG10: =IF($D10>0,IF($AD10<=U$5,IF(SUM($AF10:AF10)>0,IF($L10-SUM($AF10:AF10)>52,52,$L10-SUM($AF10:AF10)),IF($AD10=U$5,IF(($D10+($L10*7))>=U$5,ROUND(($AD10-$D10)/7+0.5,0),$L10))),0),0) -> 0 | AH10: =IF($D10>0,IF($AD10<=V$5,IF(SUM($AF10:AG10)>0,IF($L10-SUM($AF10:AG10)>52,52,$L10-SUM($AF10:AG10)),IF($AD10=V$5,IF(($D10+($L10*7))>=V$5,ROUND(($AD10-$D10)/7+0.5,0),$L10))),0),0) -> 0 | AI10: =IF($D10>0,IF($AD10<=W$5,IF(SUM($AF10:AH10)>0,IF($L10-SUM($AF10:AH10)>52,52,$L10-SUM($AF10:AH10)),IF($AD10=W$5,IF(($D10+($L10*7))>=W$5,ROUND(($AD10-$D10)/7+0.5,0),$L10))),0),0) -> 49 | AJ10: =IF($D10>0,IF($AD10<=X$5,IF(SUM($AF10:AI10)>0,IF($L10-SUM($AF10:AI10)>52,52,$L10-SUM($AF10:AI10)),IF($AD10=X$5,IF(($D10+($L10*7))>=X$5,ROUND(($AD10-$D10)/7+0.5,0),$L10))),0),0) -> 39 | AK10: =IF($D10>0,IF($AD10<=Y$5,IF(SUM($AF10:AJ10)>0,IF($L10-SUM($AF10:AJ10)>52,52,$L10-SUM($AF10:AJ10)),IF($AD10=Y$5,IF(($D10+($L10*7))>=Y$5,ROUND(($AD10-$D10)/7+0.5,0),$L10))),0),0) -> 0 | AL10: =IF($D10>0,IF($AD10<=Z$5,IF(SUM($AF10:AK10)>0,IF($L10-SUM($AF10:AK10)>52,52,$L10-SUM($AF10:AK10)),IF($AD10=Z$5,IF(($D10+($L10*7))>=Z$5,ROUND(($AD10-$D10)/7+0.5,0),$L10))),0),0) -> 0 | AM10: =IF(W10<>0,IF(D10<>"",G10,0),IF(O10>0,G10,"")) -> 30 | AN10: =IF(W10<>0,IF(H10<>"c",IF(E10<>"",H10,""),""),IF(O10>0,H10,"")) -> 16 | AO10: =IF(AN10<>"",AM10,"") -> 30 | AP10: =IF(AN10<>"",AN10-AO10,"") -> -14 | AQ10: =IF(E10<>0,IF(E10>V$5,IF(E10<=W$5,IF(D10>V$5,ROUND(((D10-E10)/7+AI10+0.4),0),ROUND(((V$5-E10)/7+AI10+0.4),0)),0),52),AI10) -> 49 | AR10: =IF(D10<=V$5,IF(E10>V$5,IF(E10<=W$5,W$5,X$5),0),0) -> 0 | AS10: =IF(AR10>AD10,IF(E10<=W$5,ROUND(((V$5-E10)/7),0)*AE10*G10,-W10),0) -> 0 | AT10: =IF(H10<>" ",IF(H10<>"c",IF(H10<>0,H10-G10,0),-G10),0) -> -14 | AU10: =IF($AD10=T$5,$W10,0) -> 0 | AV10: =IF($AD10=V$5,$W10,0) -> 0 | AW10: =IF($AD10=W$5,$W10,0) -> 267272.73 | AX10: =IF(E10>0,E10,D10) -> 45501 | AY10: =IF(H10<>"C",IF(H10>0,H10,G10),0) -> 16 | AZ10: =W10+S10 -> 17048.122 | BA10: =IF(B10<>"",VLOOKUP(B10,'1 Pricing Length'!A$8:B$50,2),"") -> LRT
B11: AA | C11: ONL | D11: 45529 | E11: 45529 | F11: 46500 | G11: 30 | H11: 23 | L11: =IF(B11<>"",IF(D11>0,IF(D11<=V$5,IF(M11>0,M11,VLOOKUP(B11,'1 Pricing Length'!A$8:C$50,3)),VLOOKUP(B11,'1 Pricing Length'!A$8:C$50,3)),0),0) -> 88 | M11: =IF(E11<>"",IF(F11<>"",(F11-E11)/7,0),0) -> 138.71429 | N11: =IF(B11<>"",IF(D11<>0,IF(AD11<Y$5,IF(AD11<X$5,IF(AD11<W$5,IF(AD11<V$5,IF(AD11<U$5,VLOOKUP(B11,'1 Pricing Length'!A$8:I$50,4),VLOOKUP(B11,'1 Pricing Length'!A$8:I$50,5)),VLOOKUP(B11,'1 Pricing Length'!A$8:I$50,6)),VLOOKUP(B11,'1 Pricing Length'!A$8:I$50,7)),VLOOKUP(B11,'1 Pricing Length'!A$8:I$50,8)),0),0),0) -> 16000 | O11: =IF(H11<>"c",IF(H11<>"",IF(G11>0,W11*H11/G11-W11,IF(E11>V$5,IF(F11>W$5,ROUND((W$5-E11)/7,0)*AE11*H11,ROUND((F11-E11)/7,0)*AE11*H11),"enter budget")),0),-W11) -> -57272.727 | P11: ='3 CY Interim'!P11 -> 0 | Q11: =IF(G11>0,IF(H11<>"C",IF(H11<>"",IF(E11>0,IF(F11>0,IF(M11>0,(W11/(M11/L11)-W11),(O11/(M11/L11)-O11)),0),0),0),0),0) -> -89738.789 | R11: =IF(H11<>"c",IF(E11>0,IF(AD11=W$5,IF(H11>0,IF(E11>AH$5,(AQ11-AI11)*G11*AE11,(52-AI11)*G11*AE11),0),0),0),0) -> 0 | S11: =SUM(O11:R11) -> -147011.52 | T11: =$G11*$AE11*AF11 -> 0 | U11: =$G11*$AE11*AG11 -> 0 | V11: =$G11*$AE11*AH11 -> 0 | W11: =$G11*$AE11*AI11 -> 245454.55 | X11: =IF(H11<>"c",$G11*$AE11*AJ11,0) -> 234545.45 | Y11: =IF(H11<>"c",$G11*$AE11*AK11,0) -> 0 | Z11: =IF(H11<>"c",$G11*$AE11*AL11,0) -> 0 | AA11: =SUM(T11:Z11) -> 480000 | AB11: =G11*AI11/52 -> 25.961538 | AD11: =IF(D11<=X$5,IF(D11<=W$5,IF(D11<=V$5,IF(D11<U$5,IF(D11<T$5,T$5,U$5),V$5),W$5),X$5),Y$5) -> 45838 | AE11: =IF(L11>1,N11/L11,0) -> 181.81818 | AF11: =IF(D11>0,IF($AD11=T$5,IF(E11=0,ROUND(($AD11-$D11)/7+0.5,0),ROUND(($AD11-$E11)/7+0.5,0)),0),0) -> 0 | AG11: =IF($D11>0,IF($AD11<=U$5,IF(SUM($AF11:AF11)>0,IF($L11-SUM($AF11:AF11)>52,52,$L11-SUM($AF11:AF11)),IF($AD11=U$5,IF(($D11+($L11*7))>=U$5,ROUND(($AD11-$D11)/7+0.5,0),$L11))),0),0) -> 0 | AH11: =IF($D11>0,IF($AD11<=V$5,IF(SUM($AF11:AG11)>0,IF($L11-SUM($AF11:AG11)>52,52,$L11-SUM($AF11:AG11)),IF($AD11=V$5,IF(($D11+($L11*7))>=V$5,ROUND(($AD11-$D11)/7+0.5,0),$L11))),0),0) -> 0 | AI11: =IF($D11>0,IF($AD11<=W$5,IF(SUM($AF11:AH11)>0,IF($L11-SUM($AF11:AH11)>52,52,$L11-SUM($AF11:AH11)),IF($AD11=W$5,IF(($D11+($L11*7))>=W$5,ROUND(($AD11-$D11)/7+0.5,0),$L11))),0),0) -> 45 | AJ11: =IF($D11>0,IF($AD11<=X$5,IF(SUM($AF11:AI11)>0,IF($L11-SUM($AF11:AI11)>52,52,$L11-SUM($AF11:AI11)),IF($AD11=X$5,IF(($D11+($L11*7))>=X$5,ROUND(($AD11-$D11)/7+0.5,0),$L11))),0),0) -> 43 | AK11: =IF($D11>0,IF($AD11<=Y$5,IF(SUM($AF11:AJ11)>0,IF($L11-SUM($AF11:AJ11)>52,52,$L11-SUM($AF11:AJ11)),IF($AD11=Y$5,IF(($D11+($L11*7))>=Y$5,ROUND(($AD11-$D11)/7+0.5,0),$L11))),0),0) -> 0 | AL11: =IF($D11>0,IF($AD11<=Z$5,IF(SUM($AF11:AK11)>0,IF($L11-SUM($AF11:AK11)>52,52,$L11-SUM($AF11:AK11)),IF($AD11=Z$5,IF(($D11+($L11*7))>=Z$5,ROUND(($AD11-$D11)/7+0.5,0),$L11))),0),0) -> 0 | AM11: =IF(W11<>0,IF(D11<>"",G11,0),IF(O11>0,G11,"")) -> 30 | AN11: =IF(W11<>0,IF(H11<>"c",IF(E11<>"",H11,""),""),IF(O11>0,H11,"")) -> 23 | AO11: =IF(AN11<>"",AM11,"") -> 30 | AP11: =IF(AN11<>"",AN11-AO11,"") -> -7 | AQ11: =IF(E11<>0,IF(E11>V$5,IF(E11<=W$5,IF(D11>V$5,ROUND(((D11-E11)/7+AI11+0.4),0),ROUND(((V$5-E11)/7+AI11+0.4),0)),0),52),AI11) -> 45 | AR11: =IF(D11<=V$5,IF(E11>V$5,IF(E11<=W$5,W$5,X$5),0),0) -> 0 | AS11: =IF(AR11>AD11,IF(E11<=W$5,ROUND(((V$5-E11)/7),0)*AE11*G11,-W11),0) -> 0 | AT11: =IF(H11<>" ",IF(H11<>"c",IF(H11<>0,H11-G11,0),-G11),0) -> -7 | AU11: =IF($AD11=T$5,$W11,0) -> 0 | AV11: =IF($AD11=V$5,$W11,0) -> 0 | AW11: =IF($AD11=W$5,$W11,0) -> 245454.55 | AX11: =IF(E11>0,E11,D11) -> 45529 | AY11: =IF(H11<>"C",IF(H11>0,H11,G11),0) -> 23 | AZ11: =W11+S11 -> 98443.03 | BA11: =IF(B11<>"",VLOOKUP(B11,'1 Pricing Length'!A$8:B$50,2),"") -> LRT
B12: AA | C12: CLV | D12: 45564 | E12: 45564 | F12: 46173 | G12: 30 | H12: 32 | L12: =IF(B12<>"",IF(D12>0,IF(D12<=V$5,IF(M12>0,M12,VLOOKUP(B12,'1 Pricing Length'!A$8:C$50,3)),VLOOKUP(B12,'1 Pricing Length'!A$8:C$50,3)),0),0) -> 88 | M12: =IF(E12<>"",IF(F12<>"",(F12-E12)/7,0),0) -> 87 | N12: =IF(B12<>"",IF(D12<>0,IF(AD12<Y$5,IF(AD12<X$5,IF(AD12<W$5,IF(AD12<V$5,IF(AD12<U$5,VLOOKUP(B12,'1 Pricing Length'!A$8:I$50,4),VLOOKUP(B12,'1 Pricing Length'!A$8:I$50,5)),VLOOKUP(B12,'1 Pricing Length'!A$8:I$50,6)),VLOOKUP(B12,'1 Pricing Length'!A$8:I$50,7)),VLOOKUP(B12,'1 Pricing Length'!A$8:I$50,8)),0),0),0) -> 16000 | O12: =IF(H12<>"c",IF(H12<>"",IF(G12>0,W12*H12/G12-W12,IF(E12>V$5,IF(F12>W$5,ROUND((W$5-E12)/7,0)*AE12*H12,ROUND((F12-E12)/7,0)*AE12*H12),"enter budget")),0),-W12) -> 14545.455 | P12: ='3 CY Interim'!P12 -> 0 | Q12: =IF(G12>0,IF(H12<>"C",IF(H12<>"",IF(E12>0,IF(F12>0,IF(M12>0,(W12/(M12/L12)-W12),(O12/(M12/L12)-O12)),0),0),0),0),0) -> 2507.837 | R12: =IF(H12<>"c",IF(E12>0,IF(AD12=W$5,IF(H12>0,IF(E12>AH$5,(AQ12-AI12)*G12*AE12,(52-AI12)*G12*AE12),0),0),0),0) -> 0 | S12: =SUM(O12:R12) -> 17053.292 | T12: =$G12*$AE12*AF12 -> 0 | U12: =$G12*$AE12*AG12 -> 0 | V12: =$G12*$AE12*AH12 -> 0 | W12: =$G12*$AE12*AI12 -> 218181.82 | X12: =IF(H12<>"c",$G12*$AE12*AJ12,0) -> 261818.18 | Y12: =IF(H12<>"c",$G12*$AE12*AK12,0) -> 0 | Z12: =IF(H12<>"c",$G12*$AE12*AL12,0) -> 0 | AA12: =SUM(T12:Z12) -> 480000 | AB12: =G12*AI12/52 -> 23.076923 | AD12: =IF(D12<=X$5,IF(D12<=W$5,IF(D12<=V$5,IF(D12<U$5,IF(D12<T$5,T$5,U$5),V$5),W$5),X$5),Y$5) -> 45838 | AE12: =IF(L12>1,N12/L12,0) -> 181.81818 | AF12: =IF(D12>0,IF($AD12=T$5,IF(E12=0,ROUND(($AD12-$D12)/7+0.5,0),ROUND(($AD12-$E12)/7+0.5,0)),0),0) -> 0 | AG12: =IF($D12>0,IF($AD12<=U$5,IF(SUM($AF12:AF12)>0,IF($L12-SUM($AF12:AF12)>52,52,$L12-SUM($AF12:AF12)),IF($AD12=U$5,IF(($D12+($L12*7))>=U$5,ROUND(($AD12-$D12)/7+0.5,0),$L12))),0),0) -> 0 | AH12: =IF($D12>0,IF($AD12<=V$5,IF(SUM($AF12:AG12)>0,IF($L12-SUM($AF12:AG12)>52,52,$L12-SUM($AF12:AG12)),IF($AD12=V$5,IF(($D12+($L12*7))>=V$5,ROUND(($AD12-$D12)/7+0.5,0),$L12))),0),0) -> 0 | AI12: =IF($D12>0,IF($AD12<=W$5,IF(SUM($AF12:AH12)>0,IF($L12-SUM($AF12:AH12)>52,52,$L12-SUM($AF12:AH12)),IF($AD12=W$5,IF(($D12+($L12*7))>=W$5,ROUND(($AD12-$D12)/7+0.5,0),$L12))),0),0) -> 40 | AJ12: =IF($D12>0,IF($AD12<=X$5,IF(SUM($AF12:AI12)>0,IF($L12-SUM($AF12:AI12)>52,52,$L12-SUM($AF12:AI12)),IF($AD12=X$5,IF(($D12+($L12*7))>=X$5,ROUND(($AD12-$D12)/7+0.5,0),$L12))),0),0) -> 48 | AK12: =IF($D12>0,IF($AD12<=Y$5,IF(SUM($AF12:AJ12)>0,IF($L12-SUM($AF12:AJ12)>52,52,$L12-SUM($AF12:AJ12)),IF($AD12=Y$5,IF(($D12+($L12*7))>=Y$5,ROUND(($AD12-$D12)/7+0.5,0),$L12))),0),0) -> 0 | AL12: =IF($D12>0,IF($AD12<=Z$5,IF(SUM($AF12:AK12)>0,IF($L12-SUM($AF12:AK12)>52,52,$L12-SUM($AF12:AK12)),IF($AD12=Z$5,IF(($D12+($L12*7))>=Z$5,ROUND(($AD12-$D12)/7+0.5,0),$L12))),0),0) -> 0 | AM12: =IF(W12<>0,IF(D12<>"",G12,0),IF(O12>0,G12,"")) -> 30 | AN12: =IF(W12<>0,IF(H12<>"c",IF(E12<>"",H12,""),""),IF(O12>0,H12,"")) -> 32 | AO12: =IF(AN12<>"",AM12,"") -> 30 | AP12: =IF(AN12<>"",AN12-AO12,"") -> 2 | AQ12: =IF(E12<>0,IF(E12>V$5,IF(E12<=W$5,IF(D12>V$5,ROUND(((D12-E12)/7+AI12+0.4),0),ROUND(((V$5-E12)/7+AI12+0.4),0)),0),52),AI12) -> 40 | AR12: =IF(D12<=V$5,IF(E12>V$5,IF(E12<=W$5,W$5,X$5),0),0) -> 0 | AS12: =IF(AR12>AD12,IF(E12<=W$5,ROUND(((V$5-E12)/7),0)*AE12*G12,-W12),0) -> 0 | AT12: =IF(H12<>" ",IF(H12<>"c",IF(H12<>0,H12-G12,0),-G12),0) -> 2 | AU12: =IF($AD12=T$5,$W12,0) -> 0 | AV12: =IF($AD12=V$5,$W12,0) -> 0 | AW12: =IF($AD12=W$5,$W12,0) -> 218181.82 | AX12: =IF(E12>0,E12,D12) -> 45564 | AY12: =IF(H12<>"C",IF(H12>0,H12,G12),0) -> 32 | AZ12: =W12+S12 -> 235235.11 | BA12: =IF(B12<>"",VLOOKUP(B12,'1 Pricing Length'!A$8:B$50,2),"") -> LRT
B13: AA | C13: DET | D13: 45592 | E13: 45592 | F13: =E13+30 -> 45622 | G13: 30 | H13: 29 | L13: =IF(B13<>"",IF(D13>0,IF(D13<=V$5,IF(M13>0,M13,VLOOKUP(B13,'1 Pricing Length'!A$8:C$50,3)),VLOOKUP(B13,'1 Pricing Length'!A$8:C$50,3)),0),0) -> 88 | M13: =IF(E13<>"",IF(F13<>"",(F13-E13)/7,0),0) -> 4.2857143 | N13: =IF(B13<>"",IF(D13<>0,IF(AD13<Y$5,IF(AD13<X$5,IF(AD13<W$5,IF(AD13<V$5,IF(AD13<U$5,VLOOKUP(B13,'1 Pricing Length'!A$8:I$50,4),VLOOKUP(B13,'1 Pricing Length'!A$8:I$50,5)),VLOOKUP(B13,'1 Pricing Length'!A$8:I$50,6)),VLOOKUP(B13,'1 Pricing Length'!A$8:I$50,7)),VLOOKUP(B13,'1 Pricing Length'!A$8:I$50,8)),0),0),0) -> 16000 | O13: =IF(H13<>"c",IF(H13<>"",IF(G13>0,W13*H13/G13-W13,IF(E13>V$5,IF(F13>W$5,ROUND((W$5-E13)/7,0)*AE13*H13,ROUND((F13-E13)/7,0)*AE13*H13),"enter budget")),0),-W13) -> -6545.4545 | P13: ='3 CY Interim'!P13 -> 0 | Q13: =IF(G13>0,IF(H13<>"C",IF(H13<>"",IF(E13>0,IF(F13>0,IF(M13>0,(W13/(M13/L13)-W13),(O13/(M13/L13)-O13)),0),0),0),0),0) -> 3835636.4 | R13: =IF(H13<>"c",IF(E13>0,IF(AD13=W$5,IF(H13>0,IF(E13>AH$5,(AQ13-AI13)*G13*AE13,(52-AI13)*G13*AE13),0),0),0),0) -> 0 | S13: =SUM(O13:R13) -> 3829090.9 | T13: =$G13*$AE13*AF13 -> 0 | U13: =$G13*$AE13*AG13 -> 0 | V13: =$G13*$AE13*AH13 -> 0 | W13: =$G13*$AE13*AI13 -> 196363.64 | X13: =IF(H13<>"c",$G13*$AE13*AJ13,0) -> 283636.36 | Y13: =IF(H13<>"c",$G13*$AE13*AK13,0) -> 0 | Z13: =IF(H13<>"c",$G13*$AE13*AL13,0) -> 0 | AA13: =SUM(T13:Z13) -> 480000 | AB13: =G13*AI13/52 -> 20.769231 | AD13: =IF(D13<=X$5,IF(D13<=W$5,IF(D13<=V$5,IF(D13<U$5,IF(D13<T$5,T$5,U$5),V$5),W$5),X$5),Y$5) -> 45838 | AE13: =IF(L13>1,N13/L13,0) -> 181.81818 | AF13: =IF(D13>0,IF($AD13=T$5,IF(E13=0,ROUND(($AD13-$D13)/7+0.5,0),ROUND(($AD13-$E13)/7+0.5,0)),0),0) -> 0 | AG13: =IF($D13>0,IF($AD13<=U$5,IF(SUM($AF13:AF13)>0,IF($L13-SUM($AF13:AF13)>52,52,$L13-SUM($AF13:AF13)),IF($AD13=U$5,IF(($D13+($L13*7))>=U$5,ROUND(($AD13-$D13)/7+0.5,0),$L13))),0),0) -> 0 | AH13: =IF($D13>0,IF($AD13<=V$5,IF(SUM($AF13:AG13)>0,IF($L13-SUM($AF13:AG13)>52,52,$L13-SUM($AF13:AG13)),IF($AD13=V$5,IF(($D13+($L13*7))>=V$5,ROUND(($AD13-$D13)/7+0.5,0),$L13))),0),0) -> 0 | AI13: =IF($D13>0,IF($AD13<=W$5,IF(SUM($AF13:AH13)>0,IF($L13-SUM($AF13:AH13)>52,52,$L13-SUM($AF13:AH13)),IF($AD13=W$5,IF(($D13+($L13*7))>=W$5,ROUND(($AD13-$D13)/7+0.5,0),$L13))),0),0) -> 36 | AJ13: =IF($D13>0,IF($AD13<=X$5,IF(SUM($AF13:AI13)>0,IF($L13-SUM($AF13:AI13)>52,52,$L13-SUM($AF13:AI13)),IF($AD13=X$5,IF(($D13+($L13*7))>=X$5,ROUND(($AD13-$D13)/7+0.5,0),$L13))),0),0) -> 52 | AK13: =IF($D13>0,IF($AD13<=Y$5,IF(SUM($AF13:AJ13)>0,IF($L13-SUM($AF13:AJ13)>52,52,$L13-SUM($AF13:AJ13)),IF($AD13=Y$5,IF(($D13+($L13*7))>=Y$5,ROUND(($AD13-$D13)/7+0.5,0),$L13))),0),0) -> 0 | AL13: =IF($D13>0,IF($AD13<=Z$5,IF(SUM($AF13:AK13)>0,IF($L13-SUM($AF13:AK13)>52,52,$L13-SUM($AF13:AK13)),IF($AD13=Z$5,IF(($D13+($L13*7))>=Z$5,ROUND(($AD13-$D13)/7+0.5,0),$L13))),0),0) -> 0 | AM13: =IF(W13<>0,IF(D13<>"",G13,0),IF(O13>0,G13,"")) -> 30 | AN13: =IF(W13<>0,IF(H13<>"c",IF(E13<>"",H13,""),""),IF(O13>0,H13,"")) -> 29 | AO13: =IF(AN13<>"",AM13,"") -> 30 | AP13: =IF(AN13<>"",AN13-AO13,"") -> -1 | AQ13: =IF(E13<>0,IF(E13>V$5,IF(E13<=W$5,IF(D13>V$5,ROUND(((D13-E13)/7+AI13+0.4),0),ROUND(((V$5-E13)/7+AI13+0.4),0)),0),52),AI13) -> 36 | AR13: =IF(D13<=V$5,IF(E13>V$5,IF(E13<=W$5,W$5,X$5),0),0) -> 0 | AS13: =IF(AR13>AD13,IF(E13<=W$5,ROUND(((V$5-E13)/7),0)*AE13*G13,-W13),0) -> 0 | AT13: =IF(H13<>" ",IF(H13<>"c",IF(H13<>0,H13-G13,0),-G13),0) -> -1 | AU13: =IF($AD13=T$5,$W13,0) -> 0 | AV13: =IF($AD13=V$5,$W13,0) -> 0 | AW13: =IF($AD13=W$5,$W13,0) -> 196363.64 | AX13: =IF(E13>0,E13,D13) -> 45592 | AY13: =IF(H13<>"C",IF(H13>0,H13,G13),0) -> 29 | AZ13: =W13+S13 -> 4025454.5 | BA13: =IF(B13<>"",VLOOKUP(B13,'1 Pricing Length'!A$8:B$50,2),"") -> LRT
B14: AA | C14: TOL | D14: 45634 | E14: 45641 | F14: =E14+30*7 -> 45851 | G14: 30 | H14: 28 | L14: =IF(B14<>"",IF(D14>0,IF(D14<=V$5,IF(M14>0,M14,VLOOKUP(B14,'1 Pricing Length'!A$8:C$50,3)),VLOOKUP(B14,'1 Pricing Length'!A$8:C$50,3)),0),0) -> 88 | M14: =IF(E14<>"",IF(F14<>"",(F14-E14)/7,0),0) -> 30 | N14: =IF(B14<>"",IF(D14<>0,IF(AD14<Y$5,IF(AD14<X$5,IF(AD14<W$5,IF(AD14<V$5,IF(AD14<U$5,VLOOKUP(B14,'1 Pricing Length'!A$8:I$50,4),VLOOKUP(B14,'1 Pricing Length'!A$8:I$50,5)),VLOOKUP(B14,'1 Pricing Length'!A$8:I$50,6)),VLOOKUP(B14,'1 Pricing Length'!A$8:I$50,7)),VLOOKUP(B14,'1 Pricing Length'!A$8:I$50,8)),0),0),0) -> 16000 | O14: =IF(H14<>"c",IF(H14<>"",IF(G14>0,W14*H14/G14-W14,IF(E14>V$5,IF(F14>W$5,ROUND((W$5-E14)/7,0)*AE14*H14,ROUND((F14-E14)/7,0)*AE14*H14),"enter budget")),0),-W14) -> -10909.091 | P14: ='3 CY Interim'!P14 -> 0 | Q14: =IF(G14>0,IF(H14<>"C",IF(H14<>"",IF(E14>0,IF(F14>0,IF(M14>0,(W14/(M14/L14)-W14),(O14/(M14/L14)-O14)),0),0),0),0),0) -> 316363.64 | R14: =IF(H14<>"c",IF(E14>0,IF(AD14=W$5,IF(H14>0,IF(E14>AH$5,(AQ14-AI14)*G14*AE14,(52-AI14)*G14*AE14),0),0),0),0) -> -5454.5455 | S14: =SUM(O14:R14) -> 300000 | T14: =$G14*$AE14*AF14 -> 0 | U14: =$G14*$AE14*AG14 -> 0 | V14: =$G14*$AE14*AH14 -> 0 | W14: =$G14*$AE14*AI14 -> 163636.36 | X14: =IF(H14<>"c",$G14*$AE14*AJ14,0) -> 283636.36 | Y14: =IF(H14<>"c",$G14*$AE14*AK14,0) -> 32727.273 | Z14: =IF(H14<>"c",$G14*$AE14*AL14,0) -> 0 | AA14: =SUM(T14:Z14) -> 480000 | AB14: =G14*AI14/52 -> 17.307692 | AD14: =IF(D14<=X$5,IF(D14<=W$5,IF(D14<=V$5,IF(D14<U$5,IF(D14<T$5,T$5,U$5),V$5),W$5),X$5),Y$5) -> 45838 | AE14: =IF(L14>1,N14/L14,0) -> 181.81818 | AF14: =IF(D14>0,IF($AD14=T$5,IF(E14=0,ROUND(($AD14-$D14)/7+0.5,0),ROUND(($AD14-$E14)/7+0.5,0)),0),0) -> 0 | AG14: =IF($D14>0,IF($AD14<=U$5,IF(SUM($AF14:AF14)>0,IF($L14-SUM($AF14:AF14)>52,52,$L14-SUM($AF14:AF14)),IF($AD14=U$5,IF(($D14+($L14*7))>=U$5,ROUND(($AD14-$D14)/7+0.5,0),$L14))),0),0) -> 0 | AH14: =IF($D14>0,IF($AD14<=V$5,IF(SUM($AF14:AG14)>0,IF($L14-SUM($AF14:AG14)>52,52,$L14-SUM($AF14:AG14)),IF($AD14=V$5,IF(($D14+($L14*7))>=V$5,ROUND(($AD14-$D14)/7+0.5,0),$L14))),0),0) -> 0 | AI14: =IF($D14>0,IF($AD14<=W$5,IF(SUM($AF14:AH14)>0,IF($L14-SUM($AF14:AH14)>52,52,$L14-SUM($AF14:AH14)),IF($AD14=W$5,IF(($D14+($L14*7))>=W$5,ROUND(($AD14-$D14)/7+0.5,0),$L14))),0),0) -> 30 | AJ14: =IF($D14>0,IF($AD14<=X$5,IF(SUM($AF14:AI14)>0,IF($L14-SUM($AF14:AI14)>52,52,$L14-SUM($AF14:AI14)),IF($AD14=X$5,IF(($D14+($L14*7))>=X$5,ROUND(($AD14-$D14)/7+0.5,0),$L14))),0),0) -> 52 | AK14: =IF($D14>0,IF($AD14<=Y$5,IF(SUM($AF14:AJ14)>0,IF($L14-SUM($AF14:AJ14)>52,52,$L14-SUM($AF14:AJ14)),IF($AD14=Y$5,IF(($D14+($L14*7))>=Y$5,ROUND(($AD14-$D14)/7+0.5,0),$L14))),0),0) -> 6 | AL14: =IF($D14>0,IF($AD14<=Z$5,IF(SUM($AF14:AK14)>0,IF($L14-SUM($AF14:AK14)>52,52,$L14-SUM($AF14:AK14)),IF($AD14=Z$5,IF(($D14+($L14*7))>=Z$5,ROUND(($AD14-$D14)/7+0.5,0),$L14))),0),0) -> 0 | AM14: =IF(W14<>0,IF(D14<>"",G14,0),IF(O14>0,G14,"")) -> 30 | AN14: =IF(W14<>0,IF(H14<>"c",IF(E14<>"",H14,""),""),IF(O14>0,H14,"")) -> 28 | AO14: =IF(AN14<>"",AM14,"") -> 30 | AP14: =IF(AN14<>"",AN14-AO14,"") -> -2 | AQ14: =IF(E14<>0,IF(E14>V$5,IF(E14<=W$5,IF(D14>V$5,ROUND(((D14-E14)/7+AI14+0.4),0),ROUND(((V$5-E14)/7+AI14+0.4),0)),0),52),AI14) -> 29 | AR14: =IF(D14<=V$5,IF(E14>V$5,IF(E14<=W$5,W$5,X$5),0),0) -> 0 | AS14: =IF(AR14>AD14,IF(E14<=W$5,ROUND(((V$5-E14)/7),0)*AE14*G14,-W14),0) -> 0 | AT14: =IF(H14<>" ",IF(H14<>"c",IF(H14<>0,H14-G14,0),-G14),0) -> -2 | AU14: =IF($AD14=T$5,$W14,0) -> 0 | AV14: =IF($AD14=V$5,$W14,0) -> 0 | AW14: =IF($AD14=W$5,$W14,0) -> 163636.36 | AX14: =IF(E14>0,E14,D14) -> 45641 | AY14: =IF(H14<>"C",IF(H14>0,H14,G14),0) -> 28 | AZ14: =W14+S14 -> 463636.36 | BA14: =IF(B14<>"",VLOOKUP(B14,'1 Pricing Length'!A$8:B$50,2),"") -> LRT
B15: AA | C15: AKR | D15: 45683 | E15: 45692 | F15: =E15+30*7 -> 45902 | G15: 30 | H15: 32 | L15: =IF(B15<>"",IF(D15>0,IF(D15<=V$5,IF(M15>0,M15,VLOOKUP(B15,'1 Pricing Length'!A$8:C$50,3)),VLOOKUP(B15,'1 Pricing Length'!A$8:C$50,3)),0),0) -> 88 | M15: =IF(E15<>"",IF(F15<>"",(F15-E15)/7,0),0) -> 30 | N15: =IF(B15<>"",IF(D15<>0,IF(AD15<Y$5,IF(AD15<X$5,IF(AD15<W$5,IF(AD15<V$5,IF(AD15<U$5,VLOOKUP(B15,'1 Pricing Length'!A$8:I$50,4),VLOOKUP(B15,'1 Pricing Length'!A$8:I$50,5)),VLOOKUP(B15,'1 Pricing Length'!A$8:I$50,6)),VLOOKUP(B15,'1 Pricing Length'!A$8:I$50,7)),VLOOKUP(B15,'1 Pricing Length'!A$8:I$50,8)),0),0),0) -> 16000 | O15: =IF(H15<>"c",IF(H15<>"",IF(G15>0,W15*H15/G15-W15,IF(E15>V$5,IF(F15>W$5,ROUND((W$5-E15)/7,0)*AE15*H15,ROUND((F15-E15)/7,0)*AE15*H15),"enter budget")),0),-W15) -> 8363.6364 | P15: ='3 CY Interim'!P15 -> 0 | Q15: =IF(G15>0,IF(H15<>"C",IF(H15<>"",IF(E15>0,IF(F15>0,IF(M15>0,(W15/(M15/L15)-W15),(O15/(M15/L15)-O15)),0),0),0),0),0) -> 242545.45 | R15: =IF(H15<>"c",IF(E15>0,IF(AD15=W$5,IF(H15>0,IF(E15>AH$5,(AQ15-AI15)*G15*AE15,(52-AI15)*G15*AE15),0),0),0),0) -> -5454.5455 | S15: =SUM(O15:R15) -> 245454.55 | T15: =$G15*$AE15*AF15 -> 0 | U15: =$G15*$AE15*AG15 -> 0 | V15: =$G15*$AE15*AH15 -> 0 | W15: =$G15*$AE15*AI15 -> 125454.55 | X15: =IF(H15<>"c",$G15*$AE15*AJ15,0) -> 283636.36 | Y15: =IF(H15<>"c",$G15*$AE15*AK15,0) -> 70909.091 | Z15: =IF(H15<>"c",$G15*$AE15*AL15,0) -> 0 | AA15: =SUM(T15:Z15) -> 480000 | AB15: =G15*AI15/52 -> 13.269231 | AD15: =IF(D15<=X$5,IF(D15<=W$5,IF(D15<=V$5,IF(D15<U$5,IF(D15<T$5,T$5,U$5),V$5),W$5),X$5),Y$5) -> 45838 | AE15: =IF(L15>1,N15/L15,0) -> 181.81818 | AF15: =IF(D15>0,IF($AD15=T$5,IF(E15=0,ROUND(($AD15-$D15)/7+0.5,0),ROUND(($AD15-$E15)/7+0.5,0)),0),0) -> 0 | AG15: =IF($D15>0,IF($AD15<=U$5,IF(SUM($AF15:AF15)>0,IF($L15-SUM($AF15:AF15)>52,52,$L15-SUM($AF15:AF15)),IF($AD15=U$5,IF(($D15+($L15*7))>=U$5,ROUND(($AD15-$D15)/7+0.5,0),$L15))),0),0) -> 0 | AH15: =IF($D15>0,IF($AD15<=V$5,IF(SUM($AF15:AG15)>0,IF($L15-SUM($AF15:AG15)>52,52,$L15-SUM($AF15:AG15)),IF($AD15=V$5,IF(($D15+($L15*7))>=V$5,ROUND(($AD15-$D15)/7+0.5,0),$L15))),0),0) -> 0 | AI15: =IF($D15>0,IF($AD15<=W$5,IF(SUM($AF15:AH15)>0,IF($L15-SUM($AF15:AH15)>52,52,$L15-SUM($AF15:AH15)),IF($AD15=W$5,IF(($D15+($L15*7))>=W$5,ROUND(($AD15-$D15)/7+0.5,0),$L15))),0),0) -> 23 | AJ15: =IF($D15>0,IF($AD15<=X$5,IF(SUM($AF15:AI15)>0,IF($L15-SUM($AF15:AI15)>52,52,$L15-SUM($AF15:AI15)),IF($AD15=X$5,IF(($D15+($L15*7))>=X$5,ROUND(($AD15-$D15)/7+0.5,0),$L15))),0),0) -> 52 | AK15: =IF($D15>0,IF($AD15<=Y$5,IF(SUM($AF15:AJ15)>0,IF($L15-SUM($AF15:AJ15)>52,52,$L15-SUM($AF15:AJ15)),IF($AD15=Y$5,IF(($D15+($L15*7))>=Y$5,ROUND(($AD15-$D15)/7+0.5,0),$L15))),0),0) -> 13 | AL15: =IF($D15>0,IF($AD15<=Z$5,IF(SUM($AF15:AK15)>0,IF($L15-SUM($AF15:AK15)>52,52,$L15-SUM($AF15:AK15)),IF($AD15=Z$5,IF(($D15+($L15*7))>=Z$5,ROUND(($AD15-$D15)/7+0.5,0),$L15))),0),0) -> 0 | AM15: =IF(W15<>0,IF(D15<>"",G15,0),IF(O15>0,G15,"")) -> 30 | AN15: =IF(W15<>0,IF(H15<>"c",IF(E15<>"",H15,""),""),IF(O15>0,H15,"")) -> 32 | AO15: =IF(AN15<>"",AM15,"") -> 30 | AP15: =IF(AN15<>"",AN15-AO15,"") -> 2 | AQ15: =IF(E15<>0,IF(E15>V$5,IF(E15<=W$5,IF(D15>V$5,ROUND(((D15-E15)/7+AI15+0.4),0),ROUND(((V$5-E15)/7+AI15+0.4),0)),0),52),AI15) -> 22 | AR15: =IF(D15<=V$5,IF(E15>V$5,IF(E15<=W$5,W$5,X$5),0),0) -> 0 | AS15: =IF(AR15>AD15,IF(E15<=W$5,ROUND(((V$5-E15)/7),0)*AE15*G15,-W15),0) -> 0 | AT15: =IF(H15<>" ",IF(H15<>"c",IF(H15<>0,H15-G15,0),-G15),0) -> 2 | AU15: =IF($AD15=T$5,$W15,0) -> 0 | AV15: =IF($AD15=V$5,$W15,0) -> 0 | AW15: =IF($AD15=W$5,$W15,0) -> 125454.55 | AX15: =IF(E15>0,E15,D15) -> 45692 | AY15: =IF(H15<>"C",IF(H15>0,H15,G15),0) -> 32 | AZ15: =W15+S15 -> 370909.09 | BA15: =IF(B15<>"",VLOOKUP(B15,'1 Pricing Length'!A$8:B$50,2),"") -> LRT
B16: BBA | C16: CAM | D16: 45711 | E16: 45711 | F16: =E16+30*7 -> 45921 | G16: 30 | H16: 34 | L16: =IF(B16<>"",IF(D16>0,IF(D16<=V$5,IF(M16>0,M16,VLOOKUP(B16,'1 Pricing Length'!A$8:C$50,3)),VLOOKUP(B16,'1 Pricing Length'!A$8:C$50,3)),0),0) -> 68 | M16: =IF(E16<>"",IF(F16<>"",(F16-E16)/7,0),0) -> 30 | N16: =IF(B16<>"",IF(D16<>0,IF(AD16<Y$5,IF(AD16<X$5,IF(AD16<W$5,IF(AD16<V$5,IF(AD16<U$5,VLOOKUP(B16,'1 Pricing Length'!A$8:I$50,4),VLOOKUP(B16,'1 Pricing Length'!A$8:I$50,5)),VLOOKUP(B16,'1 Pricing Length'!A$8:I$50,6)),VLOOKUP(B16,'1 Pricing Length'!A$8:I$50,7)),VLOOKUP(B16,'1 Pricing Length'!A$8:I$50,8)),0),0),0) -> 19000 | O16: =IF(H16<>"c",IF(H16<>"",IF(G16>0,W16*H16/G16-W16,IF(E16>V$5,IF(F16>W$5,ROUND((W$5-E16)/7,0)*AE16*H16,ROUND((F16-E16)/7,0)*AE16*H16),"enter budget")),0),-W16) -> 21235.294 | P16: ='3 CY Interim'!P16 -> 0 | Q16: =IF(G16>0,IF(H16<>"C",IF(H16<>"",IF(E16>0,IF(F16>0,IF(M16>0,(W16/(M16/L16)-W16),(O16/(M16/L16)-O16)),0),0),0),0),0) -> 201735.29 | R16: =IF(H16<>"c",IF(E16>0,IF(AD16=W$5,IF(H16>0,IF(E16>AH$5,(AQ16-AI16)*G16*AE16,(52-AI16)*G16*AE16),0),0),0),0) -> 0 | S16: =SUM(O16:R16) -> 222970.59 | T16: =$G16*$AE16*AF16 -> 0 | U16: =$G16*$AE16*AG16 -> 0 | V16: =$G16*$AE16*AH16 -> 0 | W16: =$G16*$AE16*AI16 -> 159264.71 | X16: =IF(H16<>"c",$G16*$AE16*AJ16,0) -> 410735.29 | Y16: =IF(H16<>"c",$G16*$AE16*AK16,0) -> 0 | Z16: =IF(H16<>"c",$G16*$AE16*AL16,0) -> 0 | AA16: =SUM(T16:Z16) -> 570000 | AB16: =G16*AI16/52 -> 10.961538 | AD16: =IF(D16<=X$5,IF(D16<=W$5,IF(D16<=V$5,IF(D16<U$5,IF(D16<T$5,T$5,U$5),V$5),W$5),X$5),Y$5) -> 45838 | AE16: =IF(L16>1,N16/L16,0) -> 279.41176 | AF16: =IF(D16>0,IF($AD16=T$5,IF(E16=0,ROUND(($AD16-$D16)/7+0.5,0),ROUND(($AD16-$E16)/7+0.5,0)),0),0) -> 0 | AG16: =IF($D16>0,IF($AD16<=U$5,IF(SUM($AF16:AF16)>0,IF($L16-SUM($AF16:AF16)>52,52,$L16-SUM($AF16:AF16)),IF($AD16=U$5,IF(($D16+($L16*7))>=U$5,ROUND(($AD16-$D16)/7+0.5,0),$L16))),0),0) -> 0 | AH16: =IF($D16>0,IF($AD16<=V$5,IF(SUM($AF16:AG16)>0,IF($L16-SUM($AF16:AG16)>52,52,$L16-SUM($AF16:AG16)),IF($AD16=V$5,IF(($D16+($L16*7))>=V$5,ROUND(($AD16-$D16)/7+0.5,0),$L16))),0),0) -> 0 | AI16: =IF($D16>0,IF($AD16<=W$5,IF(SUM($AF16:AH16)>0,IF($L16-SUM($AF16:AH16)>52,52,$L16-SUM($AF16:AH16)),IF($AD16=W$5,IF(($D16+($L16*7))>=W$5,ROUND(($AD16-$D16)/7+0.5,0),$L16))),0),0) -> 19 | AJ16: =IF($D16>0,IF($AD16<=X$5,IF(SUM($AF16:AI16)>0,IF($L16-SUM($AF16:AI16)>52,52,$L16-SUM($AF16:AI16)),IF($AD16=X$5,IF(($D16+($L16*7))>=X$5,ROUND(($AD16-$D16)/7+0.5,0),$L16))),0),0) -> 49 | AK16: =IF($D16>0,IF($AD16<=Y$5,IF(SUM($AF16:AJ16)>0,IF($L16-SUM($AF16:AJ16)>52,52,$L16-SUM($AF16:AJ16)),IF($AD16=Y$5,IF(($D16+($L16*7))>=Y$5,ROUND(($AD16-$D16)/7+0.5,0),$L16))),0),0) -> 0 | AL16: =IF($D16>0,IF($AD16<=Z$5,IF(SUM($AF16:AK16)>0,IF($L16-SUM($AF16:AK16)>52,52,$L16-SUM($AF16:AK16)),IF($AD16=Z$5,IF(($D16+($L16*7))>=Z$5,ROUND(($AD16-$D16)/7+0.5,0),$L16))),0),0) -> 0 | AM16: =IF(W16<>0,IF(D16<>"",G16,0),IF(O16>0,G16,"")) -> 30 | AN16: =IF(W16<>0,IF(H16<>"c",IF(E16<>"",H16,""),""),IF(O16>0,H16,"")) -> 34 | AO16: =IF(AN16<>"",AM16,"") -> 30 | AP16: =IF(AN16<>"",AN16-AO16,"") -> 4 | AQ16: =IF(E16<>0,IF(E16>V$5,IF(E16<=W$5,IF(D16>V$5,ROUND(((D16-E16)/7+AI16+0.4),0),ROUND(((V$5-E16)/7+AI16+0.4),0)),0),52),AI16) -> 19 | AR16: =IF(D16<=V$5,IF(E16>V$5,IF(E16<=W$5,W$5,X$5),0),0) -> 0 | AS16: =IF(AR16>AD16,IF(E16<=W$5,ROUND(((V$5-E16)/7),0)*AE16*G16,-W16),0) -> 0 | AT16: =IF(H16<>" ",IF(H16<>"c",IF(H16<>0,H16-G16,0),-G16),0) -> 4 | AU16: =IF($AD16=T$5,$W16,0) -> 0 | AV16: =IF($AD16=V$5,$W16,0) -> 0 | AW16: =IF($AD16=W$5,$W16,0) -> 159264.71 | AX16: =IF(E16>0,E16,D16) -> 45711 | AY16: =IF(H16<>"C",IF(H16>0,H16,G16),0) -> 34 | AZ16: =W16+S16 -> 382235.29 | BA16: =IF(B16<>"",VLOOKUP(B16,'1 Pricing Length'!A$8:B$50,2),"") -> BUS
B17: BBA | C17: ONL | D17: 45745 | E17: 45745 | F17: =E17+30*7 -> 45955 | G17: 30 | H17: 25 | L17: =IF(B17<>"",IF(D17>0,IF(D17<=V$5,IF(M17>0,M17,VLOOKUP(B17,'1 Pricing Length'!A$8:C$50,3)),VLOOKUP(B17,'1 Pricing Length'!A$8:C$50,3)),0),0) -> 68 | M17: =IF(E17<>"",IF(F17<>"",(F17-E17)/7,0),0) -> 30 | N17: =IF(B17<>"",IF(D17<>0,IF(AD17<Y$5,IF(AD17<X$5,IF(AD17<W$5,IF(AD17<V$5,IF(AD17<U$5,VLOOKUP(B17,'1 Pricing Length'!A$8:I$50,4),VLOOKUP(B17,'1 Pricing Length'!A$8:I$50,5)),VLOOKUP(B17,'1 Pricing Length'!A$8:I$50,6)),VLOOKUP(B17,'1 Pricing Length'!A$8:I$50,7)),VLOOKUP(B17,'1 Pricing Length'!A$8:I$50,8)),0),0),0) -> 19000 | O17: =IF(H17<>"c",IF(H17<>"",IF(G17>0,W17*H17/G17-W17,IF(E17>V$5,IF(F17>W$5,ROUND((W$5-E17)/7,0)*AE17*H17,ROUND((F17-E17)/7,0)*AE17*H17),"enter budget")),0),-W17) -> -19558.824 | P17: ='3 CY Interim'!P17 -> 0 | Q17: =IF(G17>0,IF(H17<>"C",IF(H17<>"",IF(E17>0,IF(F17>0,IF(M17>0,(W17/(M17/L17)-W17),(O17/(M17/L17)-O17)),0),0),0),0),0) -> 148647.06 | R17: =IF(H17<>"c",IF(E17>0,IF(AD17=W$5,IF(H17>0,IF(E17>AH$5,(AQ17-AI17)*G17*AE17,(52-AI17)*G17*AE17),0),0),0),0) -> 0 | S17: =SUM(O17:R17) -> 129088.24 | T17: =$G17*$AE17*AF17 -> 0 | U17: =$G17*$AE17*AG17 -> 0 | V17: =$G17*$AE17*AH17 -> 0 | W17: =$G17*$AE17*AI17 -> 117352.94 | X17: =IF(H17<>"c",$G17*$AE17*AJ17,0) -> 435882.35 | Y17: =IF(H17<>"c",$G17*$AE17*AK17,0) -> 16764.706 | Z17: =IF(H17<>"c",$G17*$AE17*AL17,0) -> 0 | AA17: =SUM(T17:Z17) -> 570000 | AB17: =G17*AI17/52 -> 8.0769231 | AD17: =IF(D17<=X$5,IF(D17<=W$5,IF(D17<=V$5,IF(D17<U$5,IF(D17<T$5,T$5,U$5),V$5),W$5),X$5),Y$5) -> 45838 | AE17: =IF(L17>1,N17/L17,0) -> 279.41176 | AF17: =IF(D17>0,IF($AD17=T$5,IF(E17=0,ROUND(($AD17-$D17)/7+0.5,0),ROUND(($AD17-$E17)/7+0.5,0)),0),0) -> 0 | AG17: =IF($D17>0,IF($AD17<=U$5,IF(SUM($AF17:AF17)>0,IF($L17-SUM($AF17:AF17)>52,52,$L17-SUM($AF17:AF17)),IF($AD17=U$5,IF(($D17+($L17*7))>=U$5,ROUND(($AD17-$D17)/7+0.5,0),$L17))),0),0) -> 0 | AH17: =IF($D17>0,IF($AD17<=V$5,IF(SUM($AF17:AG17)>0,IF($L17-SUM($AF17:AG17)>52,52,$L17-SUM($AF17:AG17)),IF($AD17=V$5,IF(($D17+($L17*7))>=V$5,ROUND(($AD17-$D17)/7+0.5,0),$L17))),0),0) -> 0 | AI17: =IF($D17>0,IF($AD17<=W$5,IF(SUM($AF17:AH17)>0,IF($L17-SUM($AF17:AH17)>52,52,$L17-SUM($AF17:AH17)),IF($AD17=W$5,IF(($D17+($L17*7))>=W$5,ROUND(($AD17-$D17)/7+0.5,0),$L17))),0),0) -> 14 | AJ17: =IF($D17>0,IF($AD17<=X$5,IF(SUM($AF17:AI17)>0,IF($L17-SUM($AF17:AI17)>52,52,$L17-SUM($AF17:AI17)),IF($AD17=X$5,IF(($D17+($L17*7))>=X$5,ROUND(($AD17-$D17)/7+0.5,0),$L17))),0),0) -> 52 | AK17: =IF($D17>0,IF($AD17<=Y$5,IF(SUM($AF17:AJ17)>0,IF($L17-SUM($AF17:AJ17)>52,52,$L17-SUM($AF17:AJ17)),IF($AD17=Y$5,IF(($D17+($L17*7))>=Y$5,ROUND(($AD17-$D17)/7+0.5,0),$L17))),0),0) -> 2 | AL17: =IF($D17>0,IF($AD17<=Z$5,IF(SUM($AF17:AK17)>0,IF($L17-SUM($AF17:AK17)>52,52,$L17-SUM($AF17:AK17)),IF($AD17=Z$5,IF(($D17+($L17*7))>=Z$5,ROUND(($AD17-$D17)/7+0.5,0),$L17))),0),0) -> 0 | AM17: =IF(W17<>0,IF(D17<>"",G17,0),IF(O17>0,G17,"")) -> 30 | AN17: =IF(W17<>0,IF(H17<>"c",IF(E17<>"",H17,""),""),IF(O17>0,H17,"")) -> 25 | AO17: =IF(AN17<>"",AM17,"") -> 30 | AP17: =IF(AN17<>"",AN17-AO17,"") -> -5 | AQ17: =IF(E17<>0,IF(E17>V$5,IF(E17<=W$5,IF(D17>V$5,ROUND(((D17-E17)/7+AI17+0.4),0),ROUND(((V$5-E17)/7+AI17+0.4),0)),0),52),AI17) -> 14 | AR17: =IF(D17<=V$5,IF(E17>V$5,IF(E17<=W$5,W$5,X$5),0),0) -> 0 | AS17: =IF(AR17>AD17,IF(E17<=W$5,ROUND(((V$5-E17)/7),0)*AE17*G17,-W17),0) -> 0 | AT17: =IF(H17<>" ",IF(H17<>"c",IF(H17<>0,H17-G17,0),-G17),0) -> -5 | AU17: =IF($AD17=T$5,$W17,0) -> 0 | AV17: =IF($AD17=V$5,$W17,0) -> 0 | AW17: =IF($AD17=W$5,$W17,0) -> 117352.94 | AX17: =IF(E17>0,E17,D17) -> 45745 | AY17: =IF(H17<>"C",IF(H17>0,H17,G17),0) -> 25 | AZ17: =W17+S17 -> 246441.18 | BA17: =IF(B17<>"",VLOOKUP(B17,'1 Pricing Length'!A$8:B$50,2),"") -> BUS
B18: BBA | C18: CLV | D18: 45773 | G18: 30 | L18: =IF(B18<>"",IF(D18>0,IF(D18<=V$5,IF(M18>0,M18,VLOOKUP(B18,'1 Pricing Length'!A$8:C$50,3)),VLOOKUP(B18,'1 Pricing Length'!A$8:C$50,3)),0),0) -> 68 | M18: =IF(E18<>"",IF(F18<>"",(F18-E18)/7,0),0) -> 0 | N18: =IF(B18<>"",IF(D18<>0,IF(AD18<Y$5,IF(AD18<X$5,IF(AD18<W$5,IF(AD18<V$5,IF(AD18<U$5,VLOOKUP(B18,'1 Pricing Length'!A$8:I$50,4),VLOOKUP(B18,'1 Pricing Length'!A$8:I$50,5)),VLOOKUP(B18,'1 Pricing Length'!A$8:I$50,6)),VLOOKUP(B18,'1 Pricing Length'!A$8:I$50,7)),VLOOKUP(B18,'1 Pricing Length'!A$8:I$50,8)),0),0),0) -> 19000 | O18: =IF(H18<>"c",IF(H18<>"",IF(G18>0,W18*H18/G18-W18,IF(E18>V$5,IF(F18>W$5,ROUND((W$5-E18)/7,0)*AE18*H18,ROUND((F18-E18)/7,0)*AE18*H18),"enter budget")),0),-W18) -> 0 | P18: ='3 CY Interim'!P18 -> 0 | Q18: =IF(G18>0,IF(H18<>"C",IF(H18<>"",IF(E18>0,IF(F18>0,IF(M18>0,(W18/(M18/L18)-W18),(O18/(M18/L18)-O18)),0),0),0),0),0) -> 0 | R18: =IF(H18<>"c",IF(E18>0,IF(AD18=W$5,IF(H18>0,IF(E18>AH$5,(AQ18-AI18)*G18*AE18,(52-AI18)*G18*AE18),0),0),0),0) -> 0 | S18: =SUM(O18:R18) -> 0 | T18: =$G18*$AE18*AF18 -> 0 | U18: =$G18*$AE18*AG18 -> 0 | V18: =$G18*$AE18*AH18 -> 0 | W18: =$G18*$AE18*AI18 -> 83823.529 | X18: =IF(H18<>"c",$G18*$AE18*AJ18,0) -> 435882.35 | Y18: =IF(H18<>"c",$G18*$AE18*AK18,0) -> 50294.118 | Z18: =IF(H18<>"c",$G18*$AE18*AL18,0) -> 0 | AA18: =SUM(T18:Z18) -> 570000 | AB18: =G18*AI18/52 -> 5.7692308 | AD18: =IF(D18<=X$5,IF(D18<=W$5,IF(D18<=V$5,IF(D18<U$5,IF(D18<T$5,T$5,U$5),V$5),W$5),X$5),Y$5) -> 45838 | AE18: =IF(L18>1,N18/L18,0) -> 279.41176 | AF18: =IF(D18>0,IF($AD18=T$5,IF(E18=0,ROUND(($AD18-$D18)/7+0.5,0),ROUND(($AD18-$E18)/7+0.5,0)),0),0) -> 0 | AG18: =IF($D18>0,IF($AD18<=U$5,IF(SUM($AF18:AF18)>0,IF($L18-SUM($AF18:AF18)>52,52,$L18-SUM($AF18:AF18)),IF($AD18=U$5,IF(($D18+($L18*7))>=U$5,ROUND(($AD18-$D18)/7+0.5,0),$L18))),0),0) -> 0 | AH18: =IF($D18>0,IF($AD18<=V$5,IF(SUM($AF18:AG18)>0,IF($L18-SUM($AF18:AG18)>52,52,$L18-SUM($AF18:AG18)),IF($AD18=V$5,IF(($D18+($L18*7))>=V$5,ROUND(($AD18-$D18)/7+0.5,0),$L18))),0),0) -> 0 | AI18: =IF($D18>0,IF($AD18<=W$5,IF(SUM($AF18:AH18)>0,IF($L18-SUM($AF18:AH18)>52,52,$L18-SUM($AF18:AH18)),IF($AD18=W$5,IF(($D18+($L18*7))>=W$5,ROUND(($AD18-$D18)/7+0.5,0),$L18))),0),0) -> 10 | AJ18: =IF($D18>0,IF($AD18<=X$5,IF(SUM($AF18:AI18)>0,IF($L18-SUM($AF18:AI18)>52,52,$L18-SUM($AF18:AI18)),IF($AD18=X$5,IF(($D18+($L18*7))>=X$5,ROUND(($AD18-$D18)/7+0.5,0),$L18))),0),0) -> 52 | AK18: =IF($D18>0,IF($AD18<=Y$5,IF(SUM($AF18:AJ18)>0,IF($L18-SUM($AF18:AJ18)>52,52,$L18-SUM($AF18:AJ18)),IF($AD18=Y$5,IF(($D18+($L18*7))>=Y$5,ROUND(($AD18-$D18)/7+0.5,0),$L18))),0),0) -> 6 | AL18: =IF($D18>0,IF($AD18<=Z$5,IF(SUM($AF18:AK18)>0,IF($L18-SUM($AF18:AK18)>52,52,$L18-SUM($AF18:AK18)),IF($AD18=Z$5,IF(($D18+($L18*7))>=Z$5,ROUND(($AD18-$D18)/7+0.5,0),$L18))),0),0) -> 0 | AM18: =IF(W18<>0,IF(D18<>"",G18,0),IF(O18>0,G18,"")) -> 30 | AN18: =IF(W18<>0,IF(H18<>"c",IF(E18<>"",H18,""),""),IF(O18>0,H18,"")) | AO18: =IF(AN18<>"",AM18,"") | AP18: =IF(AN18<>"",AN18-AO18,"") | AQ18: =IF(E18<>0,IF(E18>V$5,IF(E18<=W$5,IF(D18>V$5,ROUND(((D18-E18)/7+AI18+0.4),0),ROUND(((V$5-E18)/7+AI18+0.4),0)),0),52),AI18) -> 10 | AR18: =IF(D18<=V$5,IF(E18>V$5,IF(E18<=W$5,W$5,X$5),0),0) -> 0 | AS18: =IF(AR18>AD18,IF(E18<=W$5,ROUND(((V$5-E18)/7),0)*AE18*G18,-W18),0) -> 0 | AT18: =IF(H18<>" ",IF(H18<>"c",IF(H18<>0,H18-G18,0),-G18),0) -> 0 | AU18: =IF($AD18=T$5,$W18,0) -> 0 | AV18: =IF($AD18=V$5,$W18,0) -> 0 | AW18: =IF($AD18=W$5,$W18,0) -> 83823.529 | AX18: =IF(E18>0,E18,D18) -> 45773 | AY18: =IF(H18<>"C",IF(H18>0,H18,G18),0) -> 30 | AZ18: =W18+S18 -> 83823.529 | BA18: =IF(B18<>"",VLOOKUP(B18,'1 Pricing Length'!A$8:B$50,2),"") -> BUS
B19: BBA | C19: DET | D19: 45791 | G19: 30 | L19: =IF(B19<>"",IF(D19>0,IF(D19<=V$5,IF(M19>0,M19,VLOOKUP(B19,'1 Pricing Length'!A$8:C$50,3)),VLOOKUP(B19,'1 Pricing Length'!A$8:C$50,3)),0),0) -> 68 | M19: =IF(E19<>"",IF(F19<>"",(F19-E19)/7,0),0) -> 0 | N19: =IF(B19<>"",IF(D19<>0,IF(AD19<Y$5,IF(AD19<X$5,IF(AD19<W$5,IF(AD19<V$5,IF(AD19<U$5,VLOOKUP(B19,'1 Pricing Length'!A$8:I$50,4),VLOOKUP(B19,'1 Pricing Length'!A$8:I$50,5)),VLOOKUP(B19,'1 Pricing Length'!A$8:I$50,6)),VLOOKUP(B19,'1 Pricing Length'!A$8:I$50,7)),VLOOKUP(B19,'1 Pricing Length'!A$8:I$50,8)),0),0),0) -> 19000 | O19: =IF(H19<>"c",IF(H19<>"",IF(G19>0,W19*H19/G19-W19,IF(E19>V$5,IF(F19>W$5,ROUND((W$5-E19)/7,0)*AE19*H19,ROUND((F19-E19)/7,0)*AE19*H19),"enter budget")),0),-W19) -> 0 | P19: ='3 CY Interim'!P19 -> 0 | Q19: =IF(G19>0,IF(H19<>"C",IF(H19<>"",IF(E19>0,IF(F19>0,IF(M19>0,(W19/(M19/L19)-W19),(O19/(M19/L19)-O19)),0),0),0),0),0) -> 0 | R19: =IF(H19<>"c",IF(E19>0,IF(AD19=W$5,IF(H19>0,IF(E19>AH$5,(AQ19-AI19)*G19*AE19,(52-AI19)*G19*AE19),0),0),0),0) -> 0 | S19: =SUM(O19:R19) -> 0 | T19: =$G19*$AE19*AF19 -> 0 | U19: =$G19*$AE19*AG19 -> 0 | V19: =$G19*$AE19*AH19 -> 0 | W19: =$G19*$AE19*AI19 -> 58676.471 | X19: =IF(H19<>"c",$G19*$AE19*AJ19,0) -> 435882.35 | Y19: =IF(H19<>"c",$G19*$AE19*AK19,0) -> 75441.176 | Z19: =IF(H19<>"c",$G19*$AE19*AL19,0) -> 0 | AA19: =SUM(T19:Z19) -> 570000 | AB19: =G19*AI19/52 -> 4.0384615 | AD19: =IF(D19<=X$5,IF(D19<=W$5,IF(D19<=V$5,IF(D19<U$5,IF(D19<T$5,T$5,U$5),V$5),W$5),X$5),Y$5) -> 45838 | AE19: =IF(L19>1,N19/L19,0) -> 279.41176 | AF19: =IF(D19>0,IF($AD19=T$5,IF(E19=0,ROUND(($AD19-$D19)/7+0.5,0),ROUND(($AD19-$E19)/7+0.5,0)),0),0) -> 0 | AG19: =IF($D19>0,IF($AD19<=U$5,IF(SUM($AF19:AF19)>0,IF($L19-SUM($AF19:AF19)>52,52,$L19-SUM($AF19:AF19)),IF($AD19=U$5,IF(($D19+($L19*7))>=U$5,ROUND(($AD19-$D19)/7+0.5,0),$L19))),0),0) -> 0 | AH19: =IF($D19>0,IF($AD19<=V$5,IF(SUM($AF19:AG19)>0,IF($L19-SUM($AF19:AG19)>52,52,$L19-SUM($AF19:AG19)),IF($AD19=V$5,IF(($D19+($L19*7))>=V$5,ROUND(($AD19-$D19)/7+0.5,0),$L19))),0),0) -> 0 | AI19: =IF($D19>0,IF($AD19<=W$5,IF(SUM($AF19:AH19)>0,IF($L19-SUM($AF19:AH19)>52,52,$L19-SUM($AF19:AH19)),IF($AD19=W$5,IF(($D19+($L19*7))>=W$5,ROUND(($AD19-$D19)/7+0.5,0),$L19))),0),0) -> 7 | AJ19: =IF($D19>0,IF($AD19<=X$5,IF(SUM($AF19:AI19)>0,IF($L19-SUM($AF19:AI19)>52,52,$L19-SUM($AF19:AI19)),IF($AD19=X$5,IF(($D19+($L19*7))>=X$5,ROUND(($AD19-$D19)/7+0.5,0),$L19))),0),0) -> 52 | AK19: =IF($D19>0,IF($AD19<=Y$5,IF(SUM($AF19:AJ19)>0,IF($L19-SUM($AF19:AJ19)>52,52,$L19-SUM($AF19:AJ19)),IF($AD19=Y$5,IF(($D19+($L19*7))>=Y$5,ROUND(($AD19-$D19)/7+0.5,0),$L19))),0),0) -> 9 | AL19: =IF($D19>0,IF($AD19<=Z$5,IF(SUM($AF19:AK19)>0,IF($L19-SUM($AF19:AK19)>52,52,$L19-SUM($AF19:AK19)),IF($AD19=Z$5,IF(($D19+($L19*7))>=Z$5,ROUND(($AD19-$D19)/7+0.5,0),$L19))),0),0) -> 0 | AM19: =IF(W19<>0,IF(D19<>"",G19,0),IF(O19>0,G19,"")) -> 30 | AN19: =IF(W19<>0,IF(H19<>"c",IF(E19<>"",H19,""),""),IF(O19>0,H19,"")) | AO19: =IF(AN19<>"",AM19,"") | AP19: =IF(AN19<>"",AN19-AO19,"") | AQ19: =IF(E19<>0,IF(E19>V$5,IF(E19<=W$5,IF(D19>V$5,ROUND(((D19-E19)/7+AI19+0.4),0),ROUND(((V$5-E19)/7+AI19+0.4),0)),0),52),AI19) -> 7 | AR19: =IF(D19<=V$5,IF(E19>V$5,IF(E19<=W$5,W$5,X$5),0),0) -> 0 | AS19: =IF(AR19>AD19,IF(E19<=W$5,ROUND(((V$5-E19)/7),0)*AE19*G19,-W19),0) -> 0 | AT19: =IF(H19<>" ",IF(H19<>"c",IF(H19<>0,H19-G19,0),-G19),0) -> 0 | AU19: =IF($AD19=T$5,$W19,0) -> 0 | AV19: =IF($AD19=V$5,$W19,0) -> 0 | AW19: =IF($AD19=W$5,$W19,0) -> 58676.471 | AX19: =IF(E19>0,E19,D19) -> 45791 | AY19: =IF(H19<>"C",IF(H19>0,H19,G19),0) -> 30 | AZ19: =W19+S19 -> 58676.471 | BA19: =IF(B19<>"",VLOOKUP(B19,'1 Pricing Length'!A$8:B$50,2),"") -> BUS
B20: BBA | C20: TOL | D20: 45170 | E20: 45170 | F20: 45291 | G20: 9 | H20: 9 | L20: =IF(B20<>"",IF(D20>0,IF(D20<=V$5,IF(M20>0,M20,VLOOKUP(B20,'1 Pricing Length'!A$8:C$50,3)),VLOOKUP(B20,'1 Pricing Length'!A$8:C$50,3)),0),0) -> 17.285714 | M20: =IF(E20<>"",IF(F20<>"",(F20-E20)/7,0),0) -> 17.285714 | N20: =IF(B20<>"",IF(D20<>0,IF(AD20<Y$5,IF(AD20<X$5,IF(AD20<W$5,IF(AD20<V$5,IF(AD20<U$5,VLOOKUP(B20,'1 Pricing Length'!A$8:I$50,4),VLOOKUP(B20,'1 Pricing Length'!A$8:I$50,5)),VLOOKUP(B20,'1 Pricing Length'!A$8:I$50,6)),VLOOKUP(B20,'1 Pricing Length'!A$8:I$50,7)),VLOOKUP(B20,'1 Pricing Length'!A$8:I$50,8)),0),0),0) -> 18500 | O20: =IF(H20<>"c",IF(H20<>"",IF(G20>0,W20*H20/G20-W20,IF(E20>V$5,IF(F20>W$5,ROUND((W$5-E20)/7,0)*AE20*H20,ROUND((F20-E20)/7,0)*AE20*H20),"enter budget")),0),-W20) -> 0 | P20: ='3 CY Interim'!P20 -> 0 | Q20: =IF(G20>0,IF(H20<>"C",IF(H20<>"",IF(E20>0,IF(F20>0,IF(M20>0,(W20/(M20/L20)-W20),(O20/(M20/L20)-O20)),0),0),0),0),0) -> 0 | R20: =IF(H20<>"c",IF(E20>0,IF(AD20=W$5,IF(H20>0,IF(E20>AH$5,(AQ20-AI20)*G20*AE20,(52-AI20)*G20*AE20),0),0),0),0) -> 0 | S20: =SUM(O20:R20) -> 0 | T20: =$G20*$AE20*AF20 -> 0 | U20: =$G20*$AE20*AG20 -> 0 | V20: =$G20*$AE20*AH20 -> 166500 | W20: =$G20*$AE20*AI20 -> 0 | X20: =IF(H20<>"c",$G20*$AE20*AJ20,0) -> 0 | Y20: =IF(H20<>"c",$G20*$AE20*AK20,0) -> 0 | Z20: =IF(H20<>"c",$G20*$AE20*AL20,0) -> 0 | AA20: =SUM(T20:Z20) -> 166500 | AB20: =G20*AI20/52 -> 0 | AD20: =IF(D20<=X$5,IF(D20<=W$5,IF(D20<=V$5,IF(D20<U$5,IF(D20<T$5,T$5,U$5),V$5),W$5),X$5),Y$5) -> 45473 | AE20: =IF(L20>1,N20/L20,0) -> 1070.2479 | AF20: =IF(D20>0,IF($AD20=T$5,IF(E20=0,ROUND(($AD20-$D20)/7+0.5,0),ROUND(($AD20-$E20)/7+0.5,0)),0),0) -> 0 | AG20: =IF($D20>0,IF($AD20<=U$5,IF(SUM($AF20:AF20)>0,IF($L20-SUM($AF20:AF20)>52,52,$L20-SUM($AF20:AF20)),IF($AD20=U$5,IF(($D20+($L20*7))>=U$5,ROUND(($AD20-$D20)/7+0.5,0),$L20))),0),0) -> 0 | AH20: =IF($D20>0,IF($AD20<=V$5,IF(SUM($AF20:AG20)>0,IF($L20-SUM($AF20:AG20)>52,52,$L20-SUM($AF20:AG20)),IF($AD20=V$5,IF(($D20+($L20*7))>=V$5,ROUND(($AD20-$D20)/7+0.5,0),$L20))),0),0) -> 17.285714 | AI20: =IF($D20>0,IF($AD20<=W$5,IF(SUM($AF20:AH20)>0,IF($L20-SUM($AF20:AH20)>52,52,$L20-SUM($AF20:AH20)),IF($AD20=W$5,IF(($D20+($L20*7))>=W$5,ROUND(($AD20-$D20)/7+0.5,0),$L20))),0),0) -> 0 | AJ20: =IF($D20>0,IF($AD20<=X$5,IF(SUM($AF20:AI20)>0,IF($L20-SUM($AF20:AI20)>52,52,$L20-SUM($AF20:AI20)),IF($AD20=X$5,IF(($D20+($L20*7))>=X$5,ROUND(($AD20-$D20)/7+0.5,0),$L20))),0),0) -> 0 | AK20: =IF($D20>0,IF($AD20<=Y$5,IF(SUM($AF20:AJ20)>0,IF($L20-SUM($AF20:AJ20)>52,52,$L20-SUM($AF20:AJ20)),IF($AD20=Y$5,IF(($D20+($L20*7))>=Y$5,ROUND(($AD20-$D20)/7+0.5,0),$L20))),0),0) -> 0 | AL20: =IF($D20>0,IF($AD20<=Z$5,IF(SUM($AF20:AK20)>0,IF($L20-SUM($AF20:AK20)>52,52,$L20-SUM($AF20:AK20)),IF($AD20=Z$5,IF(($D20+($L20*7))>=Z$5,ROUND(($AD20-$D20)/7+0.5,0),$L20))),0),0) -> 0 | AM20: =IF(W20<>0,IF(D20<>"",G20,0),IF(O20>0,G20,"")) | AN20: =IF(W20<>0,IF(H20<>"c",IF(E20<>"",H20,""),""),IF(O20>0,H20,"")) | AO20: =IF(AN20<>"",AM20,"") | AP20: =IF(AN20<>"",AN20-AO20,"") | AQ20: =IF(E20<>0,IF(E20>V$5,IF(E20<=W$5,IF(D20>V$5,ROUND(((D20-E20)/7+AI20+0.4),0),ROUND(((V$5-E20)/7+AI20+0.4),0)),0),52),AI20) -> 52 | AR20: =IF(D20<=V$5,IF(E20>V$5,IF(E20<=W$5,W$5,X$5),0),0) -> 0 | AS20: =IF(AR20>AD20,IF(E20<=W$5,ROUND(((V$5-E20)/7),0)*AE20*G20,-W20),0) -> 0 | AT20: =IF(H20<>" ",IF(H20<>"c",IF(H20<>0,H20-G20,0),-G20),0) -> 0 | AU20: =IF($AD20=T$5,$W20,0) -> 0 | AV20: =IF($AD20=V$5,$W20,0) -> 0 | AW20: =IF($AD20=W$5,$W20,0) -> 0 | AX20: =IF(E20>0,E20,D20) -> 45170 | AY20: =IF(H20<>"C",IF(H20>0,H20,G20),0) -> 9 | AZ20: =W20+S20 -> 0 | BA20: =IF(B20<>"",VLOOKUP(B20,'1 Pricing Length'!A$8:B$50,2),"") -> BUS
B21: BBA | C21: AKR | D21: 45350 | E21: 45350 | F21: 45792 | G21: 12 | H21: 10 | L21: =IF(B21<>"",IF(D21>0,IF(D21<=V$5,IF(M21>0,M21,VLOOKUP(B21,'1 Pricing Length'!A$8:C$50,3)),VLOOKUP(B21,'1 Pricing Length'!A$8:C$50,3)),0),0) -> 63.142857 | M21: =IF(E21<>"",IF(F21<>"",(F21-E21)/7,0),0) -> 63.142857 | N21: =IF(B21<>"",IF(D21<>0,IF(AD21<Y$5,IF(AD21<X$5,IF(AD21<W$5,IF(AD21<V$5,IF(AD21<U$5,VLOOKUP(B21,'1 Pricing Length'!A$8:I$50,4),VLOOKUP(B21,'1 Pricing Length'!A$8:I$50,5)),VLOOKUP(B21,'1 Pricing Length'!A$8:I$50,6)),VLOOKUP(B21,'1 Pricing Length'!A$8:I$50,7)),VLOOKUP(B21,'1 Pricing Length'!A$8:I$50,8)),0),0),0) -> 18500 | O21: =IF(H21<>"c",IF(H21<>"",IF(G21>0,W21*H21/G21-W21,IF(E21>V$5,IF(F21>W$5,ROUND((W$5-E21)/7,0)*AE21*H21,ROUND((F21-E21)/7,0)*AE21*H21),"enter budget")),0),-W21) -> -26452.489 | P21: ='3 CY Interim'!P21 -> -10714.932 | Q21: =IF(G21>0,IF(H21<>"C",IF(H21<>"",IF(E21>0,IF(F21>0,IF(M21>0,(W21/(M21/L21)-W21),(O21/(M21/L21)-O21)),0),0),0),0),0) -> 0 | R21: =IF(H21<>"c",IF(E21>0,IF(AD21=W$5,IF(H21>0,IF(E21>AH$5,(AQ21-AI21)*G21*AE21,(52-AI21)*G21*AE21),0),0),0),0) -> 0 | S21: =SUM(O21:R21) -> -37167.421 | T21: =$G21*$AE21*AF21 -> 0 | U21: =$G21*$AE21*AG21 -> 0 | V21: =$G21*$AE21*AH21 -> 63285.068 | W21: =$G21*$AE21*AI21 -> 158714.93 | X21: =IF(H21<>"c",$G21*$AE21*AJ21,0) -> 0 | Y21: =IF(H21<>"c",$G21*$AE21*AK21,0) -> 0 | Z21: =IF(H21<>"c",$G21*$AE21*AL21,0) -> 0 | AA21: =SUM(T21:Z21) -> 222000 | AB21: =G21*AI21/52 -> 10.417582 | AD21: =IF(D21<=X$5,IF(D21<=W$5,IF(D21<=V$5,IF(D21<U$5,IF(D21<T$5,T$5,U$5),V$5),W$5),X$5),Y$5) -> 45473 | AE21: =IF(L21>1,N21/L21,0) -> 292.98643 | AF21: =IF(D21>0,IF($AD21=T$5,IF(E21=0,ROUND(($AD21-$D21)/7+0.5,0),ROUND(($AD21-$E21)/7+0.5,0)),0),0) -> 0 | AG21: =IF($D21>0,IF($AD21<=U$5,IF(SUM($AF21:AF21)>0,IF($L21-SUM($AF21:AF21)>52,52,$L21-SUM($AF21:AF21)),IF($AD21=U$5,IF(($D21+($L21*7))>=U$5,ROUND(($AD21-$D21)/7+0.5,0),$L21))),0),0) -> 0 | AH21: =IF($D21>0,IF($AD21<=V$5,IF(SUM($AF21:AG21)>0,IF($L21-SUM($AF21:AG21)>52,52,$L21-SUM($AF21:AG21)),IF($AD21=V$5,IF(($D21+($L21*7))>=V$5,ROUND(($AD21-$D21)/7+0.5,0),$L21))),0),0) -> 18 | AI21: =IF($D21>0,IF($AD21<=W$5,IF(SUM($AF21:AH21)>0,IF($L21-SUM($AF21:AH21)>52,52,$L21-SUM($AF21:AH21)),IF($AD21=W$5,IF(($D21+($L21*7))>=W$5,ROUND(($AD21-$D21)/7+0.5,0),$L21))),0),0) -> 45.142857 | AJ21: =IF($D21>0,IF($AD21<=X$5,IF(SUM($AF21:AI21)>0,IF($L21-SUM($AF21:AI21)>52,52,$L21-SUM($AF21:AI21)),IF($AD21=X$5,IF(($D21+($L21*7))>=X$5,ROUND(($AD21-$D21)/7+0.5,0),$L21))),0),0) -> 0 | AK21: =IF($D21>0,IF($AD21<=Y$5,IF(SUM($AF21:AJ21)>0,IF($L21-SUM($AF21:AJ21)>52,52,$L21-SUM($AF21:AJ21)),IF($AD21=Y$5,IF(($D21+($L21*7))>=Y$5,ROUND(($AD21-$D21)/7+0.5,0),$L21))),0),0) -> 0 | AL21: =IF($D21>0,IF($AD21<=Z$5,IF(SUM($AF21:AK21)>0,IF($L21-SUM($AF21:AK21)>52,52,$L21-SUM($AF21:AK21)),IF($AD21=Z$5,IF(($D21+($L21*7))>=Z$5,ROUND(($AD21-$D21)/7+0.5,0),$L21))),0),0) -> 0 | AM21: =IF(W21<>0,IF(D21<>"",G21,0),IF(O21>0,G21,"")) -> 12 | AN21: =IF(W21<>0,IF(H21<>"c",IF(E21<>"",H21,""),""),IF(O21>0,H21,"")) -> 10 | AO21: =IF(AN21<>"",AM21,"") -> 12 | AP21: =IF(AN21<>"",AN21-AO21,"") -> -2 | AQ21: =IF(E21<>0,IF(E21>V$5,IF(E21<=W$5,IF(D21>V$5,ROUND(((D21-E21)/7+AI21+0.4),0),ROUND(((V$5-E21)/7+AI21+0.4),0)),0),52),AI21) -> 52 | AR21: =IF(D21<=V$5,IF(E21>V$5,IF(E21<=W$5,W$5,X$5),0),0) -> 0 | AS21: =IF(AR21>AD21,IF(E21<=W$5,ROUND(((V$5-E21)/7),0)*AE21*G21,-W21),0) -> 0 | AT21: =IF(H21<>" ",IF(H21<>"c",IF(H21<>0,H21-G21,0),-G21),0) -> -2 | AU21: =IF($AD21=T$5,$W21,0) -> 0 | AV21: =IF($AD21=V$5,$W21,0) -> 158714.93 | AW21: =IF($AD21=W$5,$W21,0) -> 0 | AX21: =IF(E21>0,E21,D21) -> 45350 | AY21: =IF(H21<>"C",IF(H21>0,H21,G21),0) -> 10 | AZ21: =W21+S21 -> 121547.51 | BA21: =IF(B21<>"",VLOOKUP(B21,'1 Pricing Length'!A$8:B$50,2),"") -> BUS
B22: BSN | C22: CAM | D22: 45529 | G22: 12 | H22: C | L22: =IF(B22<>"",IF(D22>0,IF(D22<=V$5,IF(M22>0,M22,VLOOKUP(B22,'1 Pricing Length'!A$8:C$50,3)),VLOOKUP(B22,'1 Pricing Length'!A$8:C$50,3)),0),0) -> 72 | M22: =IF(E22<>"",IF(F22<>"",(F22-E22)/7,0),0) -> 0 | N22: =IF(B22<>"",IF(D22<>0,IF(AD22<Y$5,IF(AD22<X$5,IF(AD22<W$5,IF(AD22<V$5,IF(AD22<U$5,VLOOKUP(B22,'1 Pricing Length'!A$8:I$50,4),VLOOKUP(B22,'1 Pricing Length'!A$8:I$50,5)),VLOOKUP(B22,'1 Pricing Length'!A$8:I$50,6)),VLOOKUP(B22,'1 Pricing Length'!A$8:I$50,7)),VLOOKUP(B22,'1 Pricing Length'!A$8:I$50,8)),0),0),0) -> 20000 | O22: =IF(H22<>"c",IF(H22<>"",IF(G22>0,W22*H22/G22-W22,IF(E22>V$5,IF(F22>W$5,ROUND((W$5-E22)/7,0)*AE22*H22,ROUND((F22-E22)/7,0)*AE22*H22),"enter budget")),0),-W22) -> -150000 | P22: ='3 CY Interim'!P22 -> 0 | Q22: =IF(G22>0,IF(H22<>"C",IF(H22<>"",IF(E22>0,IF(F22>0,IF(M22>0,(W22/(M22/L22)-W22),(O22/(M22/L22)-O22)),0),0),0),0),0) -> 0 | R22: =IF(H22<>"c",IF(E22>0,IF(AD22=W$5,IF(H22>0,IF(E22>AH$5,(AQ22-AI22)*G22*AE22,(52-AI22)*G22*AE22),0),0),0),0) -> 0 | S22: =SUM(O22:R22) -> -150000 | T22: =$G22*$AE22*AF22 -> 0 | U22: =$G22*$AE22*AG22 -> 0 | V22: =$G22*$AE22*AH22 -> 0 | W22: =$G22*$AE22*AI22 -> 150000 | X22: =IF(H22<>"c",$G22*$AE22*AJ22,0) -> 0 | Y22: =IF(H22<>"c",$G22*$AE22*AK22,0) -> 0 | Z22: =IF(H22<>"c",$G22*$AE22*AL22,0) -> 0 | AA22: =SUM(T22:Z22) -> 150000 | AB22: =G22*AI22/52 -> 10.384615 | AD22: =IF(D22<=X$5,IF(D22<=W$5,IF(D22<=V$5,IF(D22<U$5,IF(D22<T$5,T$5,U$5),V$5),W$5),X$5),Y$5) -> 45838 | AE22: =IF(L22>1,N22/L22,0) -> 277.77778 | AF22: =IF(D22>0,IF($AD22=T$5,IF(E22=0,ROUND(($AD22-$D22)/7+0.5,0),ROUND(($AD22-$E22)/7+0.5,0)),0),0) -> 0 | AG22: =IF($D22>0,IF($AD22<=U$5,IF(SUM($AF22:AF22)>0,IF($L22-SUM($AF22:AF22)>52,52,$L22-SUM($AF22:AF22)),IF($AD22=U$5,IF(($D22+($L22*7))>=U$5,ROUND(($AD22-$D22)/7+0.5,0),$L22))),0),0) -> 0 | AH22: =IF($D22>0,IF($AD22<=V$5,IF(SUM($AF22:AG22)>0,IF($L22-SUM($AF22:AG22)>52,52,$L22-SUM($AF22:AG22)),IF($AD22=V$5,IF(($D22+($L22*7))>=V$5,ROUND(($AD22-$D22)/7+0.5,0),$L22))),0),0) -> 0 | AI22: =IF($D22>0,IF($AD22<=W$5,IF(SUM($AF22:AH22)>0,IF($L22-SUM($AF22:AH22)>52,52,$L22-SUM($AF22:AH22)),IF($AD22=W$5,IF(($D22+($L22*7))>=W$5,ROUND(($AD22-$D22)/7+0.5,0),$L22))),0),0) -> 45 | AJ22: =IF($D22>0,IF($AD22<=X$5,IF(SUM($AF22:AI22)>0,IF($L22-SUM($AF22:AI22)>52,52,$L22-SUM($AF22:AI22)),IF($AD22=X$5,IF(($D22+($L22*7))>=X$5,ROUND(($AD22-$D22)/7+0.5,0),$L22))),0),0) -> 27 | AK22: =IF($D22>0,IF($AD22<=Y$5,IF(SUM($AF22:AJ22)>0,IF($L22-SUM($AF22:AJ22)>52,52,$L22-SUM($AF22:AJ22)),IF($AD22=Y$5,IF(($D22+($L22*7))>=Y$5,ROUND(($AD22-$D22)/7+0.5,0),$L22))),0),0) -> 0 | AL22: =IF($D22>0,IF($AD22<=Z$5,IF(SUM($AF22:AK22)>0,IF($L22-SUM($AF22:AK22)>52,52,$L22-SUM($AF22:AK22)),IF($AD22=Z$5,IF(($D22+($L22*7))>=Z$5,ROUND(($AD22-$D22)/7+0.5,0),$L22))),0),0) -> 0 | AM22: =IF(W22<>0,IF(D22<>"",G22,0),IF(O22>0,G22,"")) -> 12 | AN22: =IF(W22<>0,IF(H22<>"c",IF(E22<>"",H22,""),""),IF(O22>0,H22,"")) | AO22: =IF(AN22<>"",AM22,"") | AP22: =IF(AN22<>"",AN22-AO22,"") | AQ22: =IF(E22<>0,IF(E22>V$5,IF(E22<=W$5,IF(D22>V$5,ROUND(((D22-E22)/7+AI22+0.4),0),ROUND(((V$5-E22)/7+AI22+0.4),0)),0),52),AI22) -> 45 | AR22: =IF(D22<=V$5,IF(E22>V$5,IF(E22<=W$5,W$5,X$5),0),0) -> 0 | AS22: =IF(AR22>AD22,IF(E22<=W$5,ROUND(((V$5-E22)/7),0)*AE22*G22,-W22),0) -> 0 | AT22: =IF(H22<>" ",IF(H22<>"c",IF(H22<>0,H22-G22,0),-G22),0) -> -12 | AU22: =IF($AD22=T$5,$W22,0) -> 0 | AV22: =IF($AD22=V$5,$W22,0) -> 0 | AW22: =IF($AD22=W$5,$W22,0) -> 150000 | AX22: =IF(E22>0,E22,D22) -> 45529 | AY22: =IF(H22<>"C",IF(H22>0,H22,G22),0) -> 0 | AZ22: =W22+S22 -> 0 | BA22: =IF(B22<>"",VLOOKUP(B22,'1 Pricing Length'!A$8:B$50,2),"") -> NUR
B23: BSN | C23: ONL | D23: 45515 | E23: 45529 | F23: 46026 | G23: 12 | H23: 11 | L23: =IF(B23<>"",IF(D23>0,IF(D23<=V$5,IF(M23>0,M23,VLOOKUP(B23,'1 Pricing Length'!A$8:C$50,3)),VLOOKUP(B23,'1 Pricing Length'!A$8:C$50,3)),0),0) -> 72 | M23: =IF(E23<>"",IF(F23<>"",(F23-E23)/7,0),0) -> 71 | N23: =IF(B23<>"",IF(D23<>0,IF(AD23<Y$5,IF(AD23<X$5,IF(AD23<W$5,IF(AD23<V$5,IF(AD23<U$5,VLOOKUP(B23,'1 Pricing Length'!A$8:I$50,4),VLOOKUP(B23,'1 Pricing Length'!A$8:I$50,5)),VLOOKUP(B23,'1 Pricing Length'!A$8:I$50,6)),VLOOKUP(B23,'1 Pricing Length'!A$8:I$50,7)),VLOOKUP(B23,'1 Pricing Length'!A$8:I$50,8)),0),0),0) -> 20000 | O23: =IF(H23<>"c",IF(H23<>"",IF(G23>0,W23*H23/G23-W23,IF(E23>V$5,IF(F23>W$5,ROUND((W$5-E23)/7,0)*AE23*H23,ROUND((F23-E23)/7,0)*AE23*H23),"enter budget")),0),-W23) -> -13055.556 | P23: ='3 CY Interim'!P23 -> 0 | Q23: =IF(G23>0,IF(H23<>"C",IF(H23<>"",IF(E23>0,IF(F23>0,IF(M23>0,(W23/(M23/L23)-W23),(O23/(M23/L23)-O23)),0),0),0),0),0) -> 2206.5728 | R23: =IF(H23<>"c",IF(E23>0,IF(AD23=W$5,IF(H23>0,IF(E23>AH$5,(AQ23-AI23)*G23*AE23,(52-AI23)*G23*AE23),0),0),0),0) -> -6666.6667 | S23: =SUM(O23:R23) -> -17515.649 | T23: =$G23*$AE23*AF23 -> 0 | U23: =$G23*$AE23*AG23 -> 0 | V23: =$G23*$AE23*AH23 -> 0 | W23: =$G23*$AE23*AI23 -> 156666.67 | X23: =IF(H23<>"c",$G23*$AE23*AJ23,0) -> 83333.333 | Y23: =IF(H23<>"c",$G23*$AE23*AK23,0) -> 0 | Z23: =IF(H23<>"c",$G23*$AE23*AL23,0) -> 0 | AA23: =SUM(T23:Z23) -> 240000 | AB23: =G23*AI23/52 -> 10.846154 | AD23: =IF(D23<=X$5,IF(D23<=W$5,IF(D23<=V$5,IF(D23<U$5,IF(D23<T$5,T$5,U$5),V$5),W$5),X$5),Y$5) -> 45838 | AE23: =IF(L23>1,N23/L23,0) -> 277.77778 | AF23: =IF(D23>0,IF($AD23=T$5,IF(E23=0,ROUND(($AD23-$D23)/7+0.5,0),ROUND(($AD23-$E23)/7+0.5,0)),0),0) -> 0 | AG23: =IF($D23>0,IF($AD23<=U$5,IF(SUM($AF23:AF23)>0,IF($L23-SUM($AF23:AF23)>52,52,$L23-SUM($AF23:AF23)),IF($AD23=U$5,IF(($D23+($L23*7))>=U$5,ROUND(($AD23-$D23)/7+0.5,0),$L23))),0),0) -> 0 | AH23: =IF($D23>0,IF($AD23<=V$5,IF(SUM($AF23:AG23)>0,IF($L23-SUM($AF23:AG23)>52,52,$L23-SUM($AF23:AG23)),IF($AD23=V$5,IF(($D23+($L23*7))>=V$5,ROUND(($AD23-$D23)/7+0.5,0),$L23))),0),0) -> 0 | AI23: =IF($D23>0,IF($AD23<=W$5,IF(SUM($AF23:AH23)>0,IF($L23-SUM($AF23:AH23)>52,52,$L23-SUM($AF23:AH23)),IF($AD23=W$5,IF(($D23+($L23*7))>=W$5,ROUND(($AD23-$D23)/7+0.5,0),$L23))),0),0) -> 47 | AJ23: =IF($D23>0,IF($AD23<=X$5,IF(SUM($AF23:AI23)>0,IF($L23-SUM($AF23:AI23)>52,52,$L23-SUM($AF23:AI23)),IF($AD23=X$5,IF(($D23+($L23*7))>=X$5,ROUND(($AD23-$D23)/7+0.5,0),$L23))),0),0) -> 25 | AK23: =IF($D23>0,IF($AD23<=Y$5,IF(SUM($AF23:AJ23)>0,IF($L23-SUM($AF23:AJ23)>52,52,$L23-SUM($AF23:AJ23)),IF($AD23=Y$5,IF(($D23+($L23*7))>=Y$5,ROUND(($AD23-$D23)/7+0.5,0),$L23))),0),0) -> 0 | AL23: =IF($D23>0,IF($AD23<=Z$5,IF(SUM($AF23:AK23)>0,IF($L23-SUM($AF23:AK23)>52,52,$L23-SUM($AF23:AK23)),IF($AD23=Z$5,IF(($D23+($L23*7))>=Z$5,ROUND(($AD23-$D23)/7+0.5,0),$L23))),0),0) -> 0 | AM23: =IF(W23<>0,IF(D23<>"",G23,0),IF(O23>0,G23,"")) -> 12 | AN23: =IF(W23<>0,IF(H23<>"c",IF(E23<>"",H23,""),""),IF(O23>0,H23,"")) -> 11 | AO23: =IF(AN23<>"",AM23,"") -> 12 | AP23: =IF(AN23<>"",AN23-AO23,"") -> -1 | AQ23: =IF(E23<>0,IF(E23>V$5,IF(E23<=W$5,IF(D23>V$5,ROUND(((D23-E23)/7+AI23+0.4),0),ROUND(((V$5-E23)/7+AI23+0.4),0)),0),52),AI23) -> 45 | AR23: =IF(D23<=V$5,IF(E23>V$5,IF(E23<=W$5,W$5,X$5),0),0) -> 0 | AS23: =IF(AR23>AD23,IF(E23<=W$5,ROUND(((V$5-E23)/7),0)*AE23*G23,-W23),0) -> 0 | AT23: =IF(H23<>" ",IF(H23<>"c",IF(H23<>0,H23-G23,0),-G23),0) -> -1 | AU23: =IF($AD23=T$5,$W23,0) -> 0 | AV23: =IF($AD23=V$5,$W23,0) -> 0 | AW23: =IF($AD23=W$5,$W23,0) -> 156666.67 | AX23: =IF(E23>0,E23,D23) -> 45529 | AY23: =IF(H23<>"C",IF(H23>0,H23,G23),0) -> 11 | AZ23: =W23+S23 -> 139151.02 | BA23: =IF(B23<>"",VLOOKUP(B23,'1 Pricing Length'!A$8:B$50,2),"") -> NUR
B24: BSN | C24: CLV | D24: 45331 | E24: 45345 | F24: =E24+74*7 -> 45863 | G24: 12 | H24: 14 | L24: =IF(B24<>"",IF(D24>0,IF(D24<=V$5,IF(M24>0,M24,VLOOKUP(B24,'1 Pricing Length'!A$8:C$50,3)),VLOOKUP(B24,'1 Pricing Length'!A$8:C$50,3)),0),0) -> 74 | M24: =IF(E24<>"",IF(F24<>"",(F24-E24)/7,0),0) -> 74 | N24: =IF(B24<>"",IF(D24<>0,IF(AD24<Y$5,IF(AD24<X$5,IF(AD24<W$5,IF(AD24<V$5,IF(AD24<U$5,VLOOKUP(B24,'1 Pricing Length'!A$8:I$50,4),VLOOKUP(B24,'1 Pricing Length'!A$8:I$50,5)),VLOOKUP(B24,'1 Pricing Length'!A$8:I$50,6)),VLOOKUP(B24,'1 Pricing Length'!A$8:I$50,7)),VLOOKUP(B24,'1 Pricing Length'!A$8:I$50,8)),0),0),0) -> 19500 | O24: =IF(H24<>"c",IF(H24<>"",IF(G24>0,W24*H24/G24-W24,IF(E24>V$5,IF(F24>W$5,ROUND((W$5-E24)/7,0)*AE24*H24,ROUND((F24-E24)/7,0)*AE24*H24),"enter budget")),0),-W24) -> 27405.405 | P24: ='3 CY Interim'!P24 -> 0 | Q24: =IF(G24>0,IF(H24<>"C",IF(H24<>"",IF(E24>0,IF(F24>0,IF(M24>0,(W24/(M24/L24)-W24),(O24/(M24/L24)-O24)),0),0),0),0),0) -> 0 | R24: =IF(H24<>"c",IF(E24>0,IF(AD24=W$5,IF(H24>0,IF(E24>AH$5,(AQ24-AI24)*G24*AE24,(52-AI24)*G24*AE24),0),0),0),0) -> 0 | S24: =SUM(O24:R24) -> 27405.405 | T24: =$G24*$AE24*AF24 -> 0 | U24: =$G24*$AE24*AG24 -> 0 | V24: =$G24*$AE24*AH24 -> 66405.405 | W24: =$G24*$AE24*AI24 -> 164432.43 | X24: =IF(H24<>"c",$G24*$AE24*AJ24,0) -> 3162.1622 | Y24: =IF(H24<>"c",$G24*$AE24*AK24,0) -> 0 | Z24: =IF(H24<>"c",$G24*$AE24*AL24,0) -> 0 | AA24: =SUM(T24:Z24) -> 234000 | AB24: =G24*AI24/52 -> 12 | AD24: =IF(D24<=X$5,IF(D24<=W$5,IF(D24<=V$5,IF(D24<U$5,IF(D24<T$5,T$5,U$5),V$5),W$5),X$5),Y$5) -> 45473 | AE24: =IF(L24>1,N24/L24,0) -> 263.51351 | AF24: =IF(D24>0,IF($AD24=T$5,IF(E24=0,ROUND(($AD24-$D24)/7+0.5,0),ROUND(($AD24-$E24)/7+0.5,0)),0),0) -> 0 | AG24: =IF($D24>0,IF($AD24<=U$5,IF(SUM($AF24:AF24)>0,IF($L24-SUM($AF24:AF24)>52,52,$L24-SUM($AF24:AF24)),IF($AD24=U$5,IF(($D24+($L24*7))>=U$5,ROUND(($AD24-$D24)/7+0.5,0),$L24))),0),0) -> 0 | AH24: =IF($D24>0,IF($AD24<=V$5,IF(SUM($AF24:AG24)>0,IF($L24-SUM($AF24:AG24)>52,52,$L24-SUM($AF24:AG24)),IF($AD24=V$5,IF(($D24+($L24*7))>=V$5,ROUND(($AD24-$D24)/7+0.5,0),$L24))),0),0) -> 21 | AI24: =IF($D24>0,IF($AD24<=W$5,IF(SUM($AF24:AH24)>0,IF($L24-SUM($AF24:AH24)>52,52,$L24-SUM($AF24:AH24)),IF($AD24=W$5,IF(($D24+($L24*7))>=W$5,ROUND(($AD24-$D24)/7+0.5,0),$L24))),0),0) -> 52 | AJ24: =IF($D24>0,IF($AD24<=X$5,IF(SUM($AF24:AI24)>0,IF($L24-SUM($AF24:AI24)>52,52,$L24-SUM($AF24:AI24)),IF($AD24=X$5,IF(($D24+($L24*7))>=X$5,ROUND(($AD24-$D24)/7+0.5,0),$L24))),0),0) -> 1 | AK24: =IF($D24>0,IF($AD24<=Y$5,IF(SUM($AF24:AJ24)>0,IF($L24-SUM($AF24:AJ24)>52,52,$L24-SUM($AF24:AJ24)),IF($AD24=Y$5,IF(($D24+($L24*7))>=Y$5,ROUND(($AD24-$D24)/7+0.5,0),$L24))),0),0) -> 0 | AL24: =IF($D24>0,IF($AD24<=Z$5,IF(SUM($AF24:AK24)>0,IF($L24-SUM($AF24:AK24)>52,52,$L24-SUM($AF24:AK24)),IF($AD24=Z$5,IF(($D24+($L24*7))>=Z$5,ROUND(($AD24-$D24)/7+0.5,0),$L24))),0),0) -> 0 | AM24: =IF(W24<>0,IF(D24<>"",G24,0),IF(O24>0,G24,"")) -> 12 | AN24: =IF(W24<>0,IF(H24<>"c",IF(E24<>"",H24,""),""),IF(O24>0,H24,"")) -> 14 | AO24: =IF(AN24<>"",AM24,"") -> 12 | AP24: =IF(AN24<>"",AN24-AO24,"") -> 2 | AQ24: =IF(E24<>0,IF(E24>V$5,IF(E24<=W$5,IF(D24>V$5,ROUND(((D24-E24)/7+AI24+0.4),0),ROUND(((V$5-E24)/7+AI24+0.4),0)),0),52),AI24) -> 52 | AR24: =IF(D24<=V$5,IF(E24>V$5,IF(E24<=W$5,W$5,X$5),0),0) -> 0 | AS24: =IF(AR24>AD24,IF(E24<=W$5,ROUND(((V$5-E24)/7),0)*AE24*G24,-W24),0) -> 0 | AT24: =IF(H24<>" ",IF(H24<>"c",IF(H24<>0,H24-G24,0),-G24),0) -> 2 | AU24: =IF($AD24=T$5,$W24,0) -> 0 | AV24: =IF($AD24=V$5,$W24,0) -> 164432.43 | AW24: =IF($AD24=W$5,$W24,0) -> 0 | AX24: =IF(E24>0,E24,D24) -> 45345 | AY24: =IF(H24<>"C",IF(H24>0,H24,G24),0) -> 14 | AZ24: =W24+S24 -> 191837.84 | BA24: =IF(B24<>"",VLOOKUP(B24,'1 Pricing Length'!A$8:B$50,2),"") -> NUR
B25: BSN | C25: DET | D25: 45522 | E25: 45529 | F25: 46040 | G25: 12 | H25: 13 | L25: =IF(B25<>"",IF(D25>0,IF(D25<=V$5,IF(M25>0,M25,VLOOKUP(B25,'1 Pricing Length'!A$8:C$50,3)),VLOOKUP(B25,'1 Pricing Length'!A$8:C$50,3)),0),0) -> 72 | M25: =IF(E25<>"",IF(F25<>"",(F25-E25)/7,0),0) -> 73 | N25: =IF(B25<>"",IF(D25<>0,IF(AD25<Y$5,IF(AD25<X$5,IF(AD25<W$5,IF(AD25<V$5,IF(AD25<U$5,VLOOKUP(B25,'1 Pricing Length'!A$8:I$50,4),VLOOKUP(B25,'1 Pricing Length'!A$8:I$50,5)),VLOOKUP(B25,'1 Pricing Length'!A$8:I$50,6)),VLOOKUP(B25,'1 Pricing Length'!A$8:I$50,7)),VLOOKUP(B25,'1 Pricing Length'!A$8:I$50,8)),0),0),0) -> 20000 | O25: =IF(H25<>"c",IF(H25<>"",IF(G25>0,W25*H25/G25-W25,IF(E25>V$5,IF(F25>W$5,ROUND((W$5-E25)/7,0)*AE25*H25,ROUND((F25-E25)/7,0)*AE25*H25),"enter budget")),0),-W25) -> 12777.778 | P25: ='3 CY Interim'!P25 -> 0 | Q25: =IF(G25>0,IF(H25<>"C",IF(H25<>"",IF(E25>0,IF(F25>0,IF(M25>0,(W25/(M25/L25)-W25),(O25/(M25/L25)-O25)),0),0),0),0),0) -> -2100.4566 | R25: =IF(H25<>"c",IF(E25>0,IF(AD25=W$5,IF(H25>0,IF(E25>AH$5,(AQ25-AI25)*G25*AE25,(52-AI25)*G25*AE25),0),0),0),0) -> -3333.3333 | S25: =SUM(O25:R25) -> 7343.9878 | T25: =$G25*$AE25*AF25 -> 0 | U25: =$G25*$AE25*AG25 -> 0 | V25: =$G25*$AE25*AH25 -> 0 | W25: =$G25*$AE25*AI25 -> 153333.33 | X25: =IF(H25<>"c",$G25*$AE25*AJ25,0) -> 86666.667 | Y25: =IF(H25<>"c",$G25*$AE25*AK25,0) -> 0 | Z25: =IF(H25<>"c",$G25*$AE25*AL25,0) -> 0 | AA25: =SUM(T25:Z25) -> 240000 | AB25: =G25*AI25/52 -> 10.615385 | AD25: =IF(D25<=X$5,IF(D25<=W$5,IF(D25<=V$5,IF(D25<U$5,IF(D25<T$5,T$5,U$5),V$5),W$5),X$5),Y$5) -> 45838 | AE25: =IF(L25>1,N25/L25,0) -> 277.77778 | AF25: =IF(D25>0,IF($AD25=T$5,IF(E25=0,ROUND(($AD25-$D25)/7+0.5,0),ROUND(($AD25-$E25)/7+0.5,0)),0),0) -> 0 | AG25: =IF($D25>0,IF($AD25<=U$5,IF(SUM($AF25:AF25)>0,IF($L25-SUM($AF25:AF25)>52,52,$L25-SUM($AF25:AF25)),IF($AD25=U$5,IF(($D25+($L25*7))>=U$5,ROUND(($AD25-$D25)/7+0.5,0),$L25))),0),0) -> 0 | AH25: =IF($D25>0,IF($AD25<=V$5,IF(SUM($AF25:AG25)>0,IF($L25-SUM($AF25:AG25)>52,52,$L25-SUM($AF25:AG25)),IF($AD25=V$5,IF(($D25+($L25*7))>=V$5,ROUND(($AD25-$D25)/7+0.5,0),$L25))),0),0) -> 0 | AI25: =IF($D25>0,IF($AD25<=W$5,IF(SUM($AF25:AH25)>0,IF($L25-SUM($AF25:AH25)>52,52,$L25-SUM($AF25:AH25)),IF($AD25=W$5,IF(($D25+($L25*7))>=W$5,ROUND(($AD25-$D25)/7+0.5,0),$L25))),0),0) -> 46 | AJ25: =IF($D25>0,IF($AD25<=X$5,IF(SUM($AF25:AI25)>0,IF($L25-SUM($AF25:AI25)>52,52,$L25-SUM($AF25:AI25)),IF($AD25=X$5,IF(($D25+($L25*7))>=X$5,ROUND(($AD25-$D25)/7+0.5,0),$L25))),0),0) -> 26 | AK25: =IF($D25>0,IF($AD25<=Y$5,IF(SUM($AF25:AJ25)>0,IF($L25-SUM($AF25:AJ25)>52,52,$L25-SUM($AF25:AJ25)),IF($AD25=Y$5,IF(($D25+($L25*7))>=Y$5,ROUND(($AD25-$D25)/7+0.5,0),$L25))),0),0) -> 0 | AL25: =IF($D25>0,IF($AD25<=Z$5,IF(SUM($AF25:AK25)>0,IF($L25-SUM($AF25:AK25)>52,52,$L25-SUM($AF25:AK25)),IF($AD25=Z$5,IF(($D25+($L25*7))>=Z$5,ROUND(($AD25-$D25)/7+0.5,0),$L25))),0),0) -> 0 | AM25: =IF(W25<>0,IF(D25<>"",G25,0),IF(O25>0,G25,"")) -> 12 | AN25: =IF(W25<>0,IF(H25<>"c",IF(E25<>"",H25,""),""),IF(O25>0,H25,"")) -> 13 | AO25: =IF(AN25<>"",AM25,"") -> 12 | AP25: =IF(AN25<>"",AN25-AO25,"") -> 1 | AQ25: =IF(E25<>0,IF(E25>V$5,IF(E25<=W$5,IF(D25>V$5,ROUND(((D25-E25)/7+AI25+0.4),0),ROUND(((V$5-E25)/7+AI25+0.4),0)),0),52),AI25) -> 45 | AR25: =IF(D25<=V$5,IF(E25>V$5,IF(E25<=W$5,W$5,X$5),0),0) -> 0 | AS25: =IF(AR25>AD25,IF(E25<=W$5,ROUND(((V$5-E25)/7),0)*AE25*G25,-W25),0) -> 0 | AT25: =IF(H25<>" ",IF(H25<>"c",IF(H25<>0,H25-G25,0),-G25),0) -> 1 | AU25: =IF($AD25=T$5,$W25,0) -> 0 | AV25: =IF($AD25=V$5,$W25,0) -> 0 | AW25: =IF($AD25=W$5,$W25,0) -> 153333.33 | AX25: =IF(E25>0,E25,D25) -> 45529 | AY25: =IF(H25<>"C",IF(H25>0,H25,G25),0) -> 13 | AZ25: =W25+S25 -> 160677.32 | BA25: =IF(B25<>"",VLOOKUP(B25,'1 Pricing Length'!A$8:B$50,2),"") -> NUR
B26: BSN | C26: TOL | D26: 45704 | G26: 12 | H26: C | L26: =IF(B26<>"",IF(D26>0,IF(D26<=V$5,IF(M26>0,M26,VLOOKUP(B26,'1 Pricing Length'!A$8:C$50,3)),VLOOKUP(B26,'1 Pricing Length'!A$8:C$50,3)),0),0) -> 72 | M26: =IF(E26<>"",IF(F26<>"",(F26-E26)/7,0),0) -> 0 | N26: =IF(B26<>"",IF(D26<>0,IF(AD26<Y$5,IF(AD26<X$5,IF(AD26<W$5,IF(AD26<V$5,IF(AD26<U$5,VLOOKUP(B26,'1 Pricing Length'!A$8:I$50,4),VLOOKUP(B26,'1 Pricing Length'!A$8:I$50,5)),VLOOKUP(B26,'1 Pricing Length'!A$8:I$50,6)),VLOOKUP(B26,'1 Pricing Length'!A$8:I$50,7)),VLOOKUP(B26,'1 Pricing Length'!A$8:I$50,8)),0),0),0) -> 20000 | O26: =IF(H26<>"c",IF(H26<>"",IF(G26>0,W26*H26/G26-W26,IF(E26>V$5,IF(F26>W$5,ROUND((W$5-E26)/7,0)*AE26*H26,ROUND((F26-E26)/7,0)*AE26*H26),"enter budget")),0),-W26) -> -66666.667 | P26: ='3 CY Interim'!P26 -> 0 | Q26: =IF(G26>0,IF(H26<>"C",IF(H26<>"",IF(E26>0,IF(F26>0,IF(M26>0,(W26/(M26/L26)-W26),(O26/(M26/L26)-O26)),0),0),0),0),0) -> 0 | R26: =IF(H26<>"c",IF(E26>0,IF(AD26=W$5,IF(H26>0,IF(E26>AH$5,(AQ26-AI26)*G26*AE26,(52-AI26)*G26*AE26),0),0),0),0) -> 0 | S26: =SUM(O26:R26) -> -66666.667 | T26: =$G26*$AE26*AF26 -> 0 | U26: =$G26*$AE26*AG26 -> 0 | V26: =$G26*$AE26*AH26 -> 0 | W26: =$G26*$AE26*AI26 -> 66666.667 | X26: =IF(H26<>"c",$G26*$AE26*AJ26,0) -> 0 | Y26: =IF(H26<>"c",$G26*$AE26*AK26,0) -> 0 | Z26: =IF(H26<>"c",$G26*$AE26*AL26,0) -> 0 | AA26: =SUM(T26:Z26) -> 66666.667 | AB26: =G26*AI26/52 -> 4.6153846 | AD26: =IF(D26<=X$5,IF(D26<=W$5,IF(D26<=V$5,IF(D26<U$5,IF(D26<T$5,T$5,U$5),V$5),W$5),X$5),Y$5) -> 45838 | AE26: =IF(L26>1,N26/L26,0) -> 277.77778 | AF26: =IF(D26>0,IF($AD26=T$5,IF(E26=0,ROUND(($AD26-$D26)/7+0.5,0),ROUND(($AD26-$E26)/7+0.5,0)),0),0) -> 0 | AG26: =IF($D26>0,IF($AD26<=U$5,IF(SUM($AF26:AF26)>0,IF($L26-SUM($AF26:AF26)>52,52,$L26-SUM($AF26:AF26)),IF($AD26=U$5,IF(($D26+($L26*7))>=U$5,ROUND(($AD26-$D26)/7+0.5,0),$L26))),0),0) -> 0 | AH26: =IF($D26>0,IF($AD26<=V$5,IF(SUM($AF26:AG26)>0,IF($L26-SUM($AF26:AG26)>52,52,$L26-SUM($AF26:AG26)),IF($AD26=V$5,IF(($D26+($L26*7))>=V$5,ROUND(($AD26-$D26)/7+0.5,0),$L26))),0),0) -> 0 | AI26: =IF($D26>0,IF($AD26<=W$5,IF(SUM($AF26:AH26)>0,IF($L26-SUM($AF26:AH26)>52,52,$L26-SUM($AF26:AH26)),IF($AD26=W$5,IF(($D26+($L26*7))>=W$5,ROUND(($AD26-$D26)/7+0.5,0),$L26))),0),0) -> 20 | AJ26: =IF($D26>0,IF($AD26<=X$5,IF(SUM($AF26:AI26)>0,IF($L26-SUM($AF26:AI26)>52,52,$L26-SUM($AF26:AI26)),IF($AD26=X$5,IF(($D26+($L26*7))>=X$5,ROUND(($AD26-$D26)/7+0.5,0),$L26))),0),0) -> 52 | AK26: =IF($D26>0,IF($AD26<=Y$5,IF(SUM($AF26:AJ26)>0,IF($L26-SUM($AF26:AJ26)>52,52,$L26-SUM($AF26:AJ26)),IF($AD26=Y$5,IF(($D26+($L26*7))>=Y$5,ROUND(($AD26-$D26)/7+0.5,0),$L26))),0),0) -> 0 | AL26: =IF($D26>0,IF($AD26<=Z$5,IF(SUM($AF26:AK26)>0,IF($L26-SUM($AF26:AK26)>52,52,$L26-SUM($AF26:AK26)),IF($AD26=Z$5,IF(($D26+($L26*7))>=Z$5,ROUND(($AD26-$D26)/7+0.5,0),$L26))),0),0) -> 0 | AM26: =IF(W26<>0,IF(D26<>"",G26,0),IF(O26>0,G26,"")) -> 12 | AN26: =IF(W26<>0,IF(H26<>"c",IF(E26<>"",H26,""),""),IF(O26>0,H26,"")) | AO26: =IF(AN26<>"",AM26,"") | AP26: =IF(AN26<>"",AN26-AO26,"") | AQ26: =IF(E26<>0,IF(E26>V$5,IF(E26<=W$5,IF(D26>V$5,ROUND(((D26-E26)/7+AI26+0.4),0),ROUND(((V$5-E26)/7+AI26+0.4),0)),0),52),AI26) -> 20 | AR26: =IF(D26<=V$5,IF(E26>V$5,IF(E26<=W$5,W$5,X$5),0),0) -> 0 | AS26: =IF(AR26>AD26,IF(E26<=W$5,ROUND(((V$5-E26)/7),0)*AE26*G26,-W26),0) -> 0 | AT26: =IF(H26<>" ",IF(H26<>"c",IF(H26<>0,H26-G26,0),-G26),0) -> -12 | AU26: =IF($AD26=T$5,$W26,0) -> 0 | AV26: =IF($AD26=V$5,$W26,0) -> 0 | AW26: =IF($AD26=W$5,$W26,0) -> 66666.667 | AX26: =IF(E26>0,E26,D26) -> 45704 | AY26: =IF(H26<>"C",IF(H26>0,H26,G26),0) -> 0 | AZ26: =W26+S26 -> 0 | BA26: =IF(B26<>"",VLOOKUP(B26,'1 Pricing Length'!A$8:B$50,2),"") -> NUR
B27: BSN | C27: AKR | D27: 45052 | E27: 45052 | F27: 45678 | G27: 14 | H27: 11 | L27: =IF(B27<>"",IF(D27>0,IF(D27<=V$5,IF(M27>0,M27,VLOOKUP(B27,'1 Pricing Length'!A$8:C$50,3)),VLOOKUP(B27,'1 Pricing Length'!A$8:C$50,3)),0),0) -> 89.428571 | M27: =IF(E27<>"",IF(F27<>"",(F27-E27)/7,0),0) -> 89.428571 | N27: =IF(B27<>"",IF(D27<>0,IF(AD27<Y$5,IF(AD27<X$5,IF(AD27<W$5,IF(AD27<V$5,IF(AD27<U$5,VLOOKUP(B27,'1 Pricing Length'!A$8:I$50,4),VLOOKUP(B27,'1 Pricing Length'!A$8:I$50,5)),VLOOKUP(B27,'1 Pricing Length'!A$8:I$50,6)),VLOOKUP(B27,'1 Pricing Length'!A$8:I$50,7)),VLOOKUP(B27,'1 Pricing Length'!A$8:I$50,8)),0),0),0) -> 19000 | O27: =IF(H27<>"c",IF(H27<>"",IF(G27>0,W27*H27/G27-W27,IF(E27>V$5,IF(F27>W$5,ROUND((W$5-E27)/7,0)*AE27*H27,ROUND((F27-E27)/7,0)*AE27*H27),"enter budget")),0),-W27) -> -18757.188 | P27: ='3 CY Interim'!P27 -> -4309.9042 | Q27: =IF(G27>0,IF(H27<>"C",IF(H27<>"",IF(E27>0,IF(F27>0,IF(M27>0,(W27/(M27/L27)-W27),(O27/(M27/L27)-O27)),0),0),0),0),0) -> 0 | R27: =IF(H27<>"c",IF(E27>0,IF(AD27=W$5,IF(H27>0,IF(E27>AH$5,(AQ27-AI27)*G27*AE27,(52-AI27)*G27*AE27),0),0),0),0) -> 0 | S27: =SUM(O27:R27) -> -23067.093 | T27: =$G27*$AE27*AF27 -> 0 | U27: =$G27*$AE27*AG27 -> 23795.527 | V27: =$G27*$AE27*AH27 -> 154670.93 | W27: =$G27*$AE27*AI27 -> 87533.546 | X27: =IF(H27<>"c",$G27*$AE27*AJ27,0) -> 0 | Y27: =IF(H27<>"c",$G27*$AE27*AK27,0) -> 0 | Z27: =IF(H27<>"c",$G27*$AE27*AL27,0) -> 0 | AA27: =SUM(T27:Z27) -> 266000 | AB27: =G27*AI27/52 -> 7.9230769 | AD27: =IF(D27<=X$5,IF(D27<=W$5,IF(D27<=V$5,IF(D27<U$5,IF(D27<T$5,T$5,U$5),V$5),W$5),X$5),Y$5) -> 45107 | AE27: =IF(L27>1,N27/L27,0) -> 212.46006 | AF27: =IF(D27>0,IF($AD27=T$5,IF(E27=0,ROUND(($AD27-$D27)/7+0.5,0),ROUND(($AD27-$E27)/7+0.5,0)),0),0) -> 0 | AG27: =IF($D27>0,IF($AD27<=U$5,IF(SUM($AF27:AF27)>0,IF($L27-SUM($AF27:AF27)>52,52,$L27-SUM($AF27:AF27)),IF($AD27=U$5,IF(($D27+($L27*7))>=U$5,ROUND(($AD27-$D27)/7+0.5,0),$L27))),0),0) -> 8 | AH27: =IF($D27>0,IF($AD27<=V$5,IF(SUM($AF27:AG27)>0,IF($L27-SUM($AF27:AG27)>52,52,$L27-SUM($AF27:AG27)),IF($AD27=V$5,IF(($D27+($L27*7))>=V$5,ROUND(($AD27-$D27)/7+0.5,0),$L27))),0),0) -> 52 | AI27: =IF($D27>0,IF($AD27<=W$5,IF(SUM($AF27:AH27)>0,IF($L27-SUM($AF27:AH27)>52,52,$L27-SUM($AF27:AH27)),IF($AD27=W$5,IF(($D27+($L27*7))>=W$5,ROUND(($AD27-$D27)/7+0.5,0),$L27))),0),0) -> 29.428571 | AJ27: =IF($D27>0,IF($AD27<=X$5,IF(SUM($AF27:AI27)>0,IF($L27-SUM($AF27:AI27)>52,52,$L27-SUM($AF27:AI27)),IF($AD27=X$5,IF(($D27+($L27*7))>=X$5,ROUND(($AD27-$D27)/7+0.5,0),$L27))),0),0) -> 0 | AK27: =IF($D27>0,IF($AD27<=Y$5,IF(SUM($AF27:AJ27)>0,IF($L27-SUM($AF27:AJ27)>52,52,$L27-SUM($AF27:AJ27)),IF($AD27=Y$5,IF(($D27+($L27*7))>=Y$5,ROUND(($AD27-$D27)/7+0.5,0),$L27))),0),0) -> 0 | AL27: =IF($D27>0,IF($AD27<=Z$5,IF(SUM($AF27:AK27)>0,IF($L27-SUM($AF27:AK27)>52,52,$L27-SUM($AF27:AK27)),IF($AD27=Z$5,IF(($D27+($L27*7))>=Z$5,ROUND(($AD27-$D27)/7+0.5,0),$L27))),0),0) -> 0 | AM27: =IF(W27<>0,IF(D27<>"",G27,0),IF(O27>0,G27,"")) -> 14 | AN27: =IF(W27<>0,IF(H27<>"c",IF(E27<>"",H27,""),""),IF(O27>0,H27,"")) -> 11 | AO27: =IF(AN27<>"",AM27,"") -> 14 | AP27: =IF(AN27<>"",AN27-AO27,"") -> -3 | AQ27: =IF(E27<>0,IF(E27>V$5,IF(E27<=W$5,IF(D27>V$5,ROUND(((D27-E27)/7+AI27+0.4),0),ROUND(((V$5-E27)/7+AI27+0.4),0)),0),52),AI27) -> 52 | AR27: =IF(D27<=V$5,IF(E27>V$5,IF(E27<=W$5,W$5,X$5),0),0) -> 0 | AS27: =IF(AR27>AD27,IF(E27<=W$5,ROUND(((V$5-E27)/7),0)*AE27*G27,-W27),0) -> 0 | AT27: =IF(H27<>" ",IF(H27<>"c",IF(H27<>0,H27-G27,0),-G27),0) -> -3 | AU27: =IF($AD27=T$5,$W27,0) -> 0 | AV27: =IF($AD27=V$5,$W27,0) -> 0 | AW27: =IF($AD27=W$5,$W27,0) -> 0 | AX27: =IF(E27>0,E27,D27) -> 45052 | AY27: =IF(H27<>"C",IF(H27>0,H27,G27),0) -> 11 | AZ27: =W27+S27 -> 64466.454 | BA27: =IF(B27<>"",VLOOKUP(B27,'1 Pricing Length'!A$8:B$50,2),"") -> NUR
B28: EDM | C28: CAM | D28: 45374 | E28: 45374 | F28: 46003 | G28: 12 | H28: 13 | L28: =IF(B28<>"",IF(D28>0,IF(D28<=V$5,IF(M28>0,M28,VLOOKUP(B28,'1 Pricing Length'!A$8:C$50,3)),VLOOKUP(B28,'1 Pricing Length'!A$8:C$50,3)),0),0) -> 89.857143 | M28: =IF(E28<>"",IF(F28<>"",(F28-E28)/7,0),0) -> 89.857143 | N28: =IF(B28<>"",IF(D28<>0,IF(AD28<Y$5,IF(AD28<X$5,IF(AD28<W$5,IF(AD28<V$5,IF(AD28<U$5,VLOOKUP(B28,'1 Pricing Length'!A$8:I$50,4),VLOOKUP(B28,'1 Pricing Length'!A$8:I$50,5)),VLOOKUP(B28,'1 Pricing Length'!A$8:I$50,6)),VLOOKUP(B28,'1 Pricing Length'!A$8:I$50,7)),VLOOKUP(B28,'1 Pricing Length'!A$8:I$50,8)),0),0),0) -> 21500 | O28: =IF(H28<>"c",IF(H28<>"",IF(G28>0,W28*H28/G28-W28,IF(E28>V$5,IF(F28>W$5,ROUND((W$5-E28)/7,0)*AE28*H28,ROUND((F28-E28)/7,0)*AE28*H28),"enter budget")),0),-W28) -> 12441.971 | P28: ='3 CY Interim'!P28 -> 20645.469 | Q28: =IF(G28>0,IF(H28<>"C",IF(H28<>"",IF(E28>0,IF(F28>0,IF(M28>0,(W28/(M28/L28)-W28),(O28/(M28/L28)-O28)),0),0),0),0),0) -> 0 | R28: =IF(H28<>"c",IF(E28>0,IF(AD28=W$5,IF(H28>0,IF(E28>AH$5,(AQ28-AI28)*G28*AE28,(52-AI28)*G28*AE28),0),0),0),0) -> 0 | S28: =SUM(O28:R28) -> 33087.44 | T28: =$G28*$AE28*AF28 -> 0 | U28: =$G28*$AE28*AG28 -> 0 | V28: =$G28*$AE28*AH28 -> 43068.362 | W28: =$G28*$AE28*AI28 -> 149303.66 | X28: =IF(H28<>"c",$G28*$AE28*AJ28,0) -> 65627.981 | Y28: =IF(H28<>"c",$G28*$AE28*AK28,0) -> 0 | Z28: =IF(H28<>"c",$G28*$AE28*AL28,0) -> 0 | AA28: =SUM(T28:Z28) -> 258000 | AB28: =G28*AI28/52 -> 12 | AD28: =IF(D28<=X$5,IF(D28<=W$5,IF(D28<=V$5,IF(D28<U$5,IF(D28<T$5,T$5,U$5),V$5),W$5),X$5),Y$5) -> 45473 | AE28: =IF(L28>1,N28/L28,0) -> 239.26868 | AF28: =IF(D28>0,IF($AD28=T$5,IF(E28=0,ROUND(($AD28-$D28)/7+0.5,0),ROUND(($AD28-$E28)/7+0.5,0)),0),0) -> 0 | AG28: =IF($D28>0,IF($AD28<=U$5,IF(SUM($AF28:AF28)>0,IF($L28-SUM($AF28:AF28)>52,52,$L28-SUM($AF28:AF28)),IF($AD28=U$5,IF(($D28+($L28*7))>=U$5,ROUND(($AD28-$D28)/7+0.5,0),$L28))),0),0) -> 0 | AH28: =IF($D28>0,IF($AD28<=V$5,IF(SUM($AF28:AG28)>0,IF($L28-SUM($AF28:AG28)>52,52,$L28-SUM($AF28:AG28)),IF($AD28=V$5,IF(($D28+($L28*7))>=V$5,ROUND(($AD28-$D28)/7+0.5,0),$L28))),0),0) -> 15 | AI28: =IF($D28>0,IF($AD28<=W$5,IF(SUM($AF28:AH28)>0,IF($L28-SUM($AF28:AH28)>52,52,$L28-SUM($AF28:AH28)),IF($AD28=W$5,IF(($D28+($L28*7))>=W$5,ROUND(($AD28-$D28)/7+0.5,0),$L28))),0),0) -> 52 | AJ28: =IF($D28>0,IF($AD28<=X$5,IF(SUM($AF28:AI28)>0,IF($L28-SUM($AF28:AI28)>52,52,$L28-SUM($AF28:AI28)),IF($AD28=X$5,IF(($D28+($L28*7))>=X$5,ROUND(($AD28-$D28)/7+0.5,0),$L28))),0),0) -> 22.857143 | AK28: =IF($D28>0,IF($AD28<=Y$5,IF(SUM($AF28:AJ28)>0,IF($L28-SUM($AF28:AJ28)>52,52,$L28-SUM($AF28:AJ28)),IF($AD28=Y$5,IF(($D28+($L28*7))>=Y$5,ROUND(($AD28-$D28)/7+0.5,0),$L28))),0),0) -> 0 | AL28: =IF($D28>0,IF($AD28<=Z$5,IF(SUM($AF28:AK28)>0,IF($L28-SUM($AF28:AK28)>52,52,$L28-SUM($AF28:AK28)),IF($AD28=Z$5,IF(($D28+($L28*7))>=Z$5,ROUND(($AD28-$D28)/7+0.5,0),$L28))),0),0) -> 0 | AM28: =IF(W28<>0,IF(D28<>"",G28,0),IF(O28>0,G28,"")) -> 12 | AN28: =IF(W28<>0,IF(H28<>"c",IF(E28<>"",H28,""),""),IF(O28>0,H28,"")) -> 13 | AO28: =IF(AN28<>"",AM28,"") -> 12 | AP28: =IF(AN28<>"",AN28-AO28,"") -> 1 | AQ28: =IF(E28<>0,IF(E28>V$5,IF(E28<=W$5,IF(D28>V$5,ROUND(((D28-E28)/7+AI28+0.4),0),ROUND(((V$5-E28)/7+AI28+0.4),0)),0),52),AI28) -> 52 | AR28: =IF(D28<=V$5,IF(E28>V$5,IF(E28<=W$5,W$5,X$5),0),0) -> 0 | AS28: =IF(AR28>AD28,IF(E28<=W$5,ROUND(((V$5-E28)/7),0)*AE28*G28,-W28),0) -> 0 | AT28: =IF(H28<>" ",IF(H28<>"c",IF(H28<>0,H28-G28,0),-G28),0) -> 1 | AU28: =IF($AD28=T$5,$W28,0) -> 0 | AV28: =IF($AD28=V$5,$W28,0) -> 149303.66 | AW28: =IF($AD28=W$5,$W28,0) -> 0 | AX28: =IF(E28>0,E28,D28) -> 45374 | AY28: =IF(H28<>"C",IF(H28>0,H28,G28),0) -> 13 | AZ28: =W28+S28 -> 182391.1 | BA28: =IF(B28<>"",VLOOKUP(B28,'1 Pricing Length'!A$8:B$50,2),"") -> EDU
B29: EDM | C29: ONL | D29: 45543 | E29: 45543 | F29: 46049 | G29: 12 | H29: 11 | L29: =IF(B29<>"",IF(D29>0,IF(D29<=V$5,IF(M29>0,M29,VLOOKUP(B29,'1 Pricing Length'!A$8:C$50,3)),VLOOKUP(B29,'1 Pricing Length'!A$8:C$50,3)),0),0) -> 72 | M29: =IF(E29<>"",IF(F29<>"",(F29-E29)/7,0),0) -> 72.285714 | N29: =IF(B29<>"",IF(D29<>0,IF(AD29<Y$5,IF(AD29<X$5,IF(AD29<W$5,IF(AD29<V$5,IF(AD29<U$5,VLOOKUP(B29,'1 Pricing Length'!A$8:I$50,4),VLOOKUP(B29,'1 Pricing Length'!A$8:I$50,5)),VLOOKUP(B29,'1 Pricing Length'!A$8:I$50,6)),VLOOKUP(B29,'1 Pricing Length'!A$8:I$50,7)),VLOOKUP(B29,'1 Pricing Length'!A$8:I$50,8)),0),0),0) -> 22000 | O29: =IF(H29<>"c",IF(H29<>"",IF(G29>0,W29*H29/G29-W29,IF(E29>V$5,IF(F29>W$5,ROUND((W$5-E29)/7,0)*AE29*H29,ROUND((F29-E29)/7,0)*AE29*H29),"enter budget")),0),-W29) -> -13138.889 | P29: ='3 CY Interim'!P29 -> 65912.698 | Q29: =IF(G29>0,IF(H29<>"C",IF(H29<>"",IF(E29>0,IF(F29>0,IF(M29>0,(W29/(M29/L29)-W29),(O29/(M29/L29)-O29)),0),0),0),0),0) -> -623.18841 | R29: =IF(H29<>"c",IF(E29>0,IF(AD29=W$5,IF(H29>0,IF(E29>AH$5,(AQ29-AI29)*G29*AE29,(52-AI29)*G29*AE29),0),0),0),0) -> 0 | S29: =SUM(O29:R29) -> 52150.621 | T29: =$G29*$AE29*AF29 -> 0 | U29: =$G29*$AE29*AG29 -> 0 | V29: =$G29*$AE29*AH29 -> 0 | W29: =$G29*$AE29*AI29 -> 157666.67 | X29: =IF(H29<>"c",$G29*$AE29*AJ29,0) -> 106333.33 | Y29: =IF(H29<>"c",$G29*$AE29*AK29,0) -> 0 | Z29: =IF(H29<>"c",$G29*$AE29*AL29,0) -> 0 | AA29: =SUM(T29:Z29) -> 264000 | AB29: =G29*AI29/52 -> 9.9230769 | AD29: =IF(D29<=X$5,IF(D29<=W$5,IF(D29<=V$5,IF(D29<U$5,IF(D29<T$5,T$5,U$5),V$5),W$5),X$5),Y$5) -> 45838 | AE29: =IF(L29>1,N29/L29,0) -> 305.55556 | AF29: =IF(D29>0,IF($AD29=T$5,IF(E29=0,ROUND(($AD29-$D29)/7+0.5,0),ROUND(($AD29-$E29)/7+0.5,0)),0),0) -> 0 | AG29: =IF($D29>0,IF($AD29<=U$5,IF(SUM($AF29:AF29)>0,IF($L29-SUM($AF29:AF29)>52,52,$L29-SUM($AF29:AF29)),IF($AD29=U$5,IF(($D29+($L29*7))>=U$5,ROUND(($AD29-$D29)/7+0.5,0),$L29))),0),0) -> 0 | AH29: =IF($D29>0,IF($AD29<=V$5,IF(SUM($AF29:AG29)>0,IF($L29-SUM($AF29:AG29)>52,52,$L29-SUM($AF29:AG29)),IF($AD29=V$5,IF(($D29+($L29*7))>=V$5,ROUND(($AD29-$D29)/7+0.5,0),$L29))),0),0) -> 0 | AI29: =IF($D29>0,IF($AD29<=W$5,IF(SUM($AF29:AH29)>0,IF($L29-SUM($AF29:AH29)>52,52,$L29-SUM($AF29:AH29)),IF($AD29=W$5,IF(($D29+($L29*7))>=W$5,ROUND(($AD29-$D29)/7+0.5,0),$L29))),0),0) -> 43 | AJ29: =IF($D29>0,IF($AD29<=X$5,IF(SUM($AF29:AI29)>0,IF($L29-SUM($AF29:AI29)>52,52,$L29-SUM($AF29:AI29)),IF($AD29=X$5,IF(($D29+($L29*7))>=X$5,ROUND(($AD29-$D29)/7+0.5,0),$L29))),0),0) -> 29 | AK29: =IF($D29>0,IF($AD29<=Y$5,IF(SUM($AF29:AJ29)>0,IF($L29-SUM($AF29:AJ29)>52,52,$L29-SUM($AF29:AJ29)),IF($AD29=Y$5,IF(($D29+($L29*7))>=Y$5,ROUND(($AD29-$D29)/7+0.5,0),$L29))),0),0) -> 0 | AL29: =IF($D29>0,IF($AD29<=Z$5,IF(SUM($AF29:AK29)>0,IF($L29-SUM($AF29:AK29)>52,52,$L29-SUM($AF29:AK29)),IF($AD29=Z$5,IF(($D29+($L29*7))>=Z$5,ROUND(($AD29-$D29)/7+0.5,0),$L29))),0),0) -> 0 | AM29: =IF(W29<>0,IF(D29<>"",G29,0),IF(O29>0,G29,"")) -> 12 | AN29: =IF(W29<>0,IF(H29<>"c",IF(E29<>"",H29,""),""),IF(O29>0,H29,"")) -> 11 | AO29: =IF(AN29<>"",AM29,"") -> 12 | AP29: =IF(AN29<>"",AN29-AO29,"") -> -1 | AQ29: =IF(E29<>0,IF(E29>V$5,IF(E29<=W$5,IF(D29>V$5,ROUND(((D29-E29)/7+AI29+0.4),0),ROUND(((V$5-E29)/7+AI29+0.4),0)),0),52),AI29) -> 43 | AR29: =IF(D29<=V$5,IF(E29>V$5,IF(E29<=W$5,W$5,X$5),0),0) -> 0 | AS29: =IF(AR29>AD29,IF(E29<=W$5,ROUND(((V$5-E29)/7),0)*AE29*G29,-W29),0) -> 0 | AT29: =IF(H29<>" ",IF(H29<>"c",IF(H29<>0,H29-G29,0),-G29),0) -> -1 | AU29: =IF($AD29=T$5,$W29,0) -> 0 | AV29: =IF($AD29=V$5,$W29,0) -> 0 | AW29: =IF($AD29=W$5,$W29,0) -> 157666.67 | AX29: =IF(E29>0,E29,D29) -> 45543 | AY29: =IF(H29<>"C",IF(H29>0,H29,G29),0) -> 11 | AZ29: =W29+S29 -> 209817.29 | BA29: =IF(B29<>"",VLOOKUP(B29,'1 Pricing Length'!A$8:B$50,2),"") -> EDU
B30: EDM | C30: CLV | D30: 45156 | E30: 45156 | F30: 45764 | G30: 14 | H30: 12 | L30: =IF(B30<>"",IF(D30>0,IF(D30<=V$5,IF(M30>0,M30,VLOOKUP(B30,'1 Pricing Length'!A$8:C$50,3)),VLOOKUP(B30,'1 Pricing Length'!A$8:C$50,3)),0),0) -> 86.857143 | M30: =IF(E30<>"",IF(F30<>"",(F30-E30)/7,0),0) -> 86.857143 | N30: =IF(B30<>"",IF(D30<>0,IF(AD30<Y$5,IF(AD30<X$5,IF(AD30<W$5,IF(AD30<V$5,IF(AD30<U$5,VLOOKUP(B30,'1 Pricing Length'!A$8:I$50,4),VLOOKUP(B30,'1 Pricing Length'!A$8:I$50,5)),VLOOKUP(B30,'1 Pricing Length'!A$8:I$50,6)),VLOOKUP(B30,'1 Pricing Length'!A$8:I$50,7)),VLOOKUP(B30,'1 Pricing Length'!A$8:I$50,8)),0),0),0) -> 21500 | O30: =IF(H30<>"c",IF(H30<>"",IF(G30>0,W30*H30/G30-W30,IF(E30>V$5,IF(F30>W$5,ROUND((W$5-E30)/7,0)*AE30*H30,ROUND((F30-E30)/7,0)*AE30*H30),"enter budget")),0),-W30) -> -20226.974 | P30: ='3 CY Interim'!P30 -> -8062.5 | Q30: =IF(G30>0,IF(H30<>"C",IF(H30<>"",IF(E30>0,IF(F30>0,IF(M30>0,(W30/(M30/L30)-W30),(O30/(M30/L30)-O30)),0),0),0),0),0) -> 0 | R30: =IF(H30<>"c",IF(E30>0,IF(AD30=W$5,IF(H30>0,IF(E30>AH$5,(AQ30-AI30)*G30*AE30,(52-AI30)*G30*AE30),0),0),0),0) -> 0 | S30: =SUM(O30:R30) -> -28289.474 | T30: =$G30*$AE30*AF30 -> 0 | U30: =$G30*$AE30*AG30 -> 0 | V30: =$G30*$AE30*AH30 -> 159411.18 | W30: =$G30*$AE30*AI30 -> 141588.82 | X30: =IF(H30<>"c",$G30*$AE30*AJ30,0) -> 0 | Y30: =IF(H30<>"c",$G30*$AE30*AK30,0) -> 0 | Z30: =IF(H30<>"c",$G30*$AE30*AL30,0) -> 0 | AA30: =SUM(T30:Z30) -> 301000 | AB30: =G30*AI30/52 -> 11 | AD30: =IF(D30<=X$5,IF(D30<=W$5,IF(D30<=V$5,IF(D30<U$5,IF(D30<T$5,T$5,U$5),V$5),W$5),X$5),Y$5) -> 45473 | AE30: =IF(L30>1,N30/L30,0) -> 247.53289 | AF30: =IF(D30>0,IF($AD30=T$5,IF(E30=0,ROUND(($AD30-$D30)/7+0.5,0),ROUND(($AD30-$E30)/7+0.5,0)),0),0) -> 0 | AG30: =IF($D30>0,IF($AD30<=U$5,IF(SUM($AF30:AF30)>0,IF($L30-SUM($AF30:AF30)>52,52,$L30-SUM($AF30:AF30)),IF($AD30=U$5,IF(($D30+($L30*7))>=U$5,ROUND(($AD30-$D30)/7+0.5,0),$L30))),0),0) -> 0 | AH30: =IF($D30>0,IF($AD30<=V$5,IF(SUM($AF30:AG30)>0,IF($L30-SUM($AF30:AG30)>52,52,$L30-SUM($AF30:AG30)),IF($AD30=V$5,IF(($D30+($L30*7))>=V$5,ROUND(($AD30-$D30)/7+0.5,0),$L30))),0),0) -> 46 | AI30: =IF($D30>0,IF($AD30<=W$5,IF(SUM($AF30:AH30)>0,IF($L30-SUM($AF30:AH30)>52,52,$L30-SUM($AF30:AH30)),IF($AD30=W$5,IF(($D30+($L30*7))>=W$5,ROUND(($AD30-$D30)/7+0.5,0),$L30))),0),0) -> 40.857143 | AJ30: =IF($D30>0,IF($AD30<=X$5,IF(SUM($AF30:AI30)>0,IF($L30-SUM($AF30:AI30)>52,52,$L30-SUM($AF30:AI30)),IF($AD30=X$5,IF(($D30+($L30*7))>=X$5,ROUND(($AD30-$D30)/7+0.5,0),$L30))),0),0) -> 0 | AK30: =IF($D30>0,IF($AD30<=Y$5,IF(SUM($AF30:AJ30)>0,IF($L30-SUM($AF30:AJ30)>52,52,$L30-SUM($AF30:AJ30)),IF($AD30=Y$5,IF(($D30+($L30*7))>=Y$5,ROUND(($AD30-$D30)/7+0.5,0),$L30))),0),0) -> 0 | AL30: =IF($D30>0,IF($AD30<=Z$5,IF(SUM($AF30:AK30)>0,IF($L30-SUM($AF30:AK30)>52,52,$L30-SUM($AF30:AK30)),IF($AD30=Z$5,IF(($D30+($L30*7))>=Z$5,ROUND(($AD30-$D30)/7+0.5,0),$L30))),0),0) -> 0 | AM30: =IF(W30<>0,IF(D30<>"",G30,0),IF(O30>0,G30,"")) -> 14 | AN30: =IF(W30<>0,IF(H30<>"c",IF(E30<>"",H30,""),""),IF(O30>0,H30,"")) -> 12 | AO30: =IF(AN30<>"",AM30,"") -> 14 | AP30: =IF(AN30<>"",AN30-AO30,"") -> -2 | AQ30: =IF(E30<>0,IF(E30>V$5,IF(E30<=W$5,IF(D30>V$5,ROUND(((D30-E30)/7+AI30+0.4),0),ROUND(((V$5-E30)/7+AI30+0.4),0)),0),52),AI30) -> 52 | AR30: =IF(D30<=V$5,IF(E30>V$5,IF(E30<=W$5,W$5,X$5),0),0) -> 0 | AS30: =IF(AR30>AD30,IF(E30<=W$5,ROUND(((V$5-E30)/7),0)*AE30*G30,-W30),0) -> 0 | AT30: =IF(H30<>" ",IF(H30<>"c",IF(H30<>0,H30-G30,0),-G30),0) -> -2 | AU30: =IF($AD30=T$5,$W30,0) -> 0 | AV30: =IF($AD30=V$5,$W30,0) -> 141588.82 | AW30: =IF($AD30=W$5,$W30,0) -> 0 | AX30: =IF(E30>0,E30,D30) -> 45156 | AY30: =IF(H30<>"C",IF(H30>0,H30,G30),0) -> 12 | AZ30: =W30+S30 -> 113299.34 | BA30: =IF(B30<>"",VLOOKUP(B30,'1 Pricing Length'!A$8:B$50,2),"") -> EDU
B31: EDM | C31: DET | D31: 45690 | E31: 45690 | F31: 46220 | G31: 12 | H31: 6 | L31: =IF(B31<>"",IF(D31>0,IF(D31<=V$5,IF(M31>0,M31,VLOOKUP(B31,'1 Pricing Length'!A$8:C$50,3)),VLOOKUP(B31,'1 Pricing Length'!A$8:C$50,3)),0),0) -> 72 | M31: =IF(E31<>"",IF(F31<>"",(F31-E31)/7,0),0) -> 75.714286 | N31: =IF(B31<>"",IF(D31<>0,IF(AD31<Y$5,IF(AD31<X$5,IF(AD31<W$5,IF(AD31<V$5,IF(AD31<U$5,VLOOKUP(B31,'1 Pricing Length'!A$8:I$50,4),VLOOKUP(B31,'1 Pricing Length'!A$8:I$50,5)),VLOOKUP(B31,'1 Pricing Length'!A$8:I$50,6)),VLOOKUP(B31,'1 Pricing Length'!A$8:I$50,7)),VLOOKUP(B31,'1 Pricing Length'!A$8:I$50,8)),0),0),0) -> 22000 | O31: =IF(H31<>"c",IF(H31<>"",IF(G31>0,W31*H31/G31-W31,IF(E31>V$5,IF(F31>W$5,ROUND((W$5-E31)/7,0)*AE31*H31,ROUND((F31-E31)/7,0)*AE31*H31),"enter budget")),0),-W31) -> -40333.333 | P31: ='3 CY Interim'!P31 -> 79095.238 | Q31: =IF(G31>0,IF(H31<>"C",IF(H31<>"",IF(E31>0,IF(F31>0,IF(M31>0,(W31/(M31/L31)-W31),(O31/(M31/L31)-O31)),0),0),0),0),0) -> -3957.2327 | R31: =IF(H31<>"c",IF(E31>0,IF(AD31=W$5,IF(H31>0,IF(E31>AH$5,(AQ31-AI31)*G31*AE31,(52-AI31)*G31*AE31),0),0),0),0) -> 0 | S31: =SUM(O31:R31) -> 34804.672 | T31: =$G31*$AE31*AF31 -> 0 | U31: =$G31*$AE31*AG31 -> 0 | V31: =$G31*$AE31*AH31 -> 0 | W31: =$G31*$AE31*AI31 -> 80666.667 | X31: =IF(H31<>"c",$G31*$AE31*AJ31,0) -> 183333.33 | Y31: =IF(H31<>"c",$G31*$AE31*AK31,0) -> 0 | Z31: =IF(H31<>"c",$G31*$AE31*AL31,0) -> 0 | AA31: =SUM(T31:Z31) -> 264000 | AB31: =G31*AI31/52 -> 5.0769231 | AD31: =IF(D31<=X$5,IF(D31<=W$5,IF(D31<=V$5,IF(D31<U$5,IF(D31<T$5,T$5,U$5),V$5),W$5),X$5),Y$5) -> 45838 | AE31: =IF(L31>1,N31/L31,0) -> 305.55556 | AF31: =IF(D31>0,IF($AD31=T$5,IF(E31=0,ROUND(($AD31-$D31)/7+0.5,0),ROUND(($AD31-$E31)/7+0.5,0)),0),0) -> 0 | AG31: =IF($D31>0,IF($AD31<=U$5,IF(SUM($AF31:AF31)>0,IF($L31-SUM($AF31:AF31)>52,52,$L31-SUM($AF31:AF31)),IF($AD31=U$5,IF(($D31+($L31*7))>=U$5,ROUND(($AD31-$D31)/7+0.5,0),$L31))),0),0) -> 0 | AH31: =IF($D31>0,IF($AD31<=V$5,IF(SUM($AF31:AG31)>0,IF($L31-SUM($AF31:AG31)>52,52,$L31-SUM($AF31:AG31)),IF($AD31=V$5,IF(($D31+($L31*7))>=V$5,ROUND(($AD31-$D31)/7+0.5,0),$L31))),0),0) -> 0 | AI31: =IF($D31>0,IF($AD31<=W$5,IF(SUM($AF31:AH31)>0,IF($L31-SUM($AF31:AH31)>52,52,$L31-SUM($AF31:AH31)),IF($AD31=W$5,IF(($D31+($L31*7))>=W$5,ROUND(($AD31-$D31)/7+0.5,0),$L31))),0),0) -> 22 | AJ31: =IF($D31>0,IF($AD31<=X$5,IF(SUM($AF31:AI31)>0,IF($L31-SUM($AF31:AI31)>52,52,$L31-SUM($AF31:AI31)),IF($AD31=X$5,IF(($D31+($L31*7))>=X$5,ROUND(($AD31-$D31)/7+0.5,0),$L31))),0),0) -> 50 | AK31: =IF($D31>0,IF($AD31<=Y$5,IF(SUM($AF31:AJ31)>0,IF($L31-SUM($AF31:AJ31)>52,52,$L31-SUM($AF31:AJ31)),IF($AD31=Y$5,IF(($D31+($L31*7))>=Y$5,ROUND(($AD31-$D31)/7+0.5,0),$L31))),0),0) -> 0 | AL31: =IF($D31>0,IF($AD31<=Z$5,IF(SUM($AF31:AK31)>0,IF($L31-SUM($AF31:AK31)>52,52,$L31-SUM($AF31:AK31)),IF($AD31=Z$5,IF(($D31+($L31*7))>=Z$5,ROUND(($AD31-$D31)/7+0.5,0),$L31))),0),0) -> 0 | AM31: =IF(W31<>0,IF(D31<>"",G31,0),IF(O31>0,G31,"")) -> 12 | AN31: =IF(W31<>0,IF(H31<>"c",IF(E31<>"",H31,""),""),IF(O31>0,H31,"")) -> 6 | AO31: =IF(AN31<>"",AM31,"") -> 12 | AP31: =IF(AN31<>"",AN31-AO31,"") -> -6 | AQ31: =IF(E31<>0,IF(E31>V$5,IF(E31<=W$5,IF(D31>V$5,ROUND(((D31-E31)/7+AI31+0.4),0),ROUND(((V$5-E31)/7+AI31+0.4),0)),0),52),AI31) -> 22 | AR31: =IF(D31<=V$5,IF(E31>V$5,IF(E31<=W$5,W$5,X$5),0),0) -> 0 | AS31: =IF(AR31>AD31,IF(E31<=W$5,ROUND(((V$5-E31)/7),0)*AE31*G31,-W31),0) -> 0 | AT31: =IF(H31<>" ",IF(H31<>"c",IF(H31<>0,H31-G31,0),-G31),0) -> -6 | AU31: =IF($AD31=T$5,$W31,0) -> 0 | AV31: =IF($AD31=V$5,$W31,0) -> 0 | AW31: =IF($AD31=W$5,$W31,0) -> 80666.667 | AX31: =IF(E31>0,E31,D31) -> 45690 | AY31: =IF(H31<>"C",IF(H31>0,H31,G31),0) -> 6 | AZ31: =W31+S31 -> 115471.34 | BA31: =IF(B31<>"",VLOOKUP(B31,'1 Pricing Length'!A$8:B$50,2),"") -> EDU
B32: EDM | C32: TOL | D32: 45522 | E32: 45522 | F32: 46003 | G32: 12 | H32: 11 | L32: =IF(B32<>"",IF(D32>0,IF(D32<=V$5,IF(M32>0,M32,VLOOKUP(B32,'1 Pricing Length'!A$8:C$50,3)),VLOOKUP(B32,'1 Pricing Length'!A$8:C$50,3)),0),0) -> 72 | M32: =IF(E32<>"",IF(F32<>"",(F32-E32)/7,0),0) -> 68.714286 | N32: =IF(B32<>"",IF(D32<>0,IF(AD32<Y$5,IF(AD32<X$5,IF(AD32<W$5,IF(AD32<V$5,IF(AD32<U$5,VLOOKUP(B32,'1 Pricing Length'!A$8:I$50,4),VLOOKUP(B32,'1 Pricing Length'!A$8:I$50,5)),VLOOKUP(B32,'1 Pricing Length'!A$8:I$50,6)),VLOOKUP(B32,'1 Pricing Length'!A$8:I$50,7)),VLOOKUP(B32,'1 Pricing Length'!A$8:I$50,8)),0),0),0) -> 22000 | O32: =IF(H32<>"c",IF(H32<>"",IF(G32>0,W32*H32/G32-W32,IF(E32>V$5,IF(F32>W$5,ROUND((W$5-E32)/7,0)*AE32*H32,ROUND((F32-E32)/7,0)*AE32*H32),"enter budget")),0),-W32) -> -14055.556 | P32: ='3 CY Interim'!P32 -> 26365.079 | Q32: =IF(G32>0,IF(H32<>"C",IF(H32<>"",IF(E32>0,IF(F32>0,IF(M32>0,(W32/(M32/L32)-W32),(O32/(M32/L32)-O32)),0),0),0),0),0) -> 8065.1421 | R32: =IF(H32<>"c",IF(E32>0,IF(AD32=W$5,IF(H32>0,IF(E32>AH$5,(AQ32-AI32)*G32*AE32,(52-AI32)*G32*AE32),0),0),0),0) -> 0 | S32: =SUM(O32:R32) -> 20374.666 | T32: =$G32*$AE32*AF32 -> 0 | U32: =$G32*$AE32*AG32 -> 0 | V32: =$G32*$AE32*AH32 -> 0 | W32: =$G32*$AE32*AI32 -> 168666.67 | X32: =IF(H32<>"c",$G32*$AE32*AJ32,0) -> 95333.333 | Y32: =IF(H32<>"c",$G32*$AE32*AK32,0) -> 0 | Z32: =IF(H32<>"c",$G32*$AE32*AL32,0) -> 0 | AA32: =SUM(T32:Z32) -> 264000 | AB32: =G32*AI32/52 -> 10.615385 | AD32: =IF(D32<=X$5,IF(D32<=W$5,IF(D32<=V$5,IF(D32<U$5,IF(D32<T$5,T$5,U$5),V$5),W$5),X$5),Y$5) -> 45838 | AE32: =IF(L32>1,N32/L32,0) -> 305.55556 | AF32: =IF(D32>0,IF($AD32=T$5,IF(E32=0,ROUND(($AD32-$D32)/7+0.5,0),ROUND(($AD32-$E32)/7+0.5,0)),0),0) -> 0 | AG32: =IF($D32>0,IF($AD32<=U$5,IF(SUM($AF32:AF32)>0,IF($L32-SUM($AF32:AF32)>52,52,$L32-SUM($AF32:AF32)),IF($AD32=U$5,IF(($D32+($L32*7))>=U$5,ROUND(($AD32-$D32)/7+0.5,0),$L32))),0),0) -> 0 | AH32: =IF($D32>0,IF($AD32<=V$5,IF(SUM($AF32:AG32)>0,IF($L32-SUM($AF32:AG32)>52,52,$L32-SUM($AF32:AG32)),IF($AD32=V$5,IF(($D32+($L32*7))>=V$5,ROUND(($AD32-$D32)/7+0.5,0),$L32))),0),0) -> 0 | AI32: =IF($D32>0,IF($AD32<=W$5,IF(SUM($AF32:AH32)>0,IF($L32-SUM($AF32:AH32)>52,52,$L32-SUM($AF32:AH32)),IF($AD32=W$5,IF(($D32+($L32*7))>=W$5,ROUND(($AD32-$D32)/7+0.5,0),$L32))),0),0) -> 46 | AJ32: =IF($D32>0,IF($AD32<=X$5,IF(SUM($AF32:AI32)>0,IF($L32-SUM($AF32:AI32)>52,52,$L32-SUM($AF32:AI32)),IF($AD32=X$5,IF(($D32+($L32*7))>=X$5,ROUND(($AD32-$D32)/7+0.5,0),$L32))),0),0) -> 26 | AK32: =IF($D32>0,IF($AD32<=Y$5,IF(SUM($AF32:AJ32)>0,IF($L32-SUM($AF32:AJ32)>52,52,$L32-SUM($AF32:AJ32)),IF($AD32=Y$5,IF(($D32+($L32*7))>=Y$5,ROUND(($AD32-$D32)/7+0.5,0),$L32))),0),0) -> 0 | AL32: =IF($D32>0,IF($AD32<=Z$5,IF(SUM($AF32:AK32)>0,IF($L32-SUM($AF32:AK32)>52,52,$L32-SUM($AF32:AK32)),IF($AD32=Z$5,IF(($D32+($L32*7))>=Z$5,ROUND(($AD32-$D32)/7+0.5,0),$L32))),0),0) -> 0 | AM32: =IF(W32<>0,IF(D32<>"",G32,0),IF(O32>0,G32,"")) -> 12 | AN32: =IF(W32<>0,IF(H32<>"c",IF(E32<>"",H32,""),""),IF(O32>0,H32,"")) -> 11 | AO32: =IF(AN32<>"",AM32,"") -> 12 | AP32: =IF(AN32<>"",AN32-AO32,"") -> -1 | AQ32: =IF(E32<>0,IF(E32>V$5,IF(E32<=W$5,IF(D32>V$5,ROUND(((D32-E32)/7+AI32+0.4),0),ROUND(((V$5-E32)/7+AI32+0.4),0)),0),52),AI32) -> 46 | AR32: =IF(D32<=V$5,IF(E32>V$5,IF(E32<=W$5,W$5,X$5),0),0) -> 0 | AS32: =IF(AR32>AD32,IF(E32<=W$5,ROUND(((V$5-E32)/7),0)*AE32*G32,-W32),0) -> 0 | AT32: =IF(H32<>" ",IF(H32<>"c",IF(H32<>0,H32-G32,0),-G32),0) -> -1 | AU32: =IF($AD32=T$5,$W32,0) -> 0 | AV32: =IF($AD32=V$5,$W32,0) -> 0 | AW32: =IF($AD32=W$5,$W32,0) -> 168666.67 | AX32: =IF(E32>0,E32,D32) -> 45522 | AY32: =IF(H32<>"C",IF(H32>0,H32,G32),0) -> 11 | AZ32: =W32+S32 -> 189041.33 | BA32: =IF(B32<>"",VLOOKUP(B32,'1 Pricing Length'!A$8:B$50,2),"") -> EDU
B33: EDM | C33: AKR | D33: 45585 | G33: 1e-06 | H33: C | L33: =IF(B33<>"",IF(D33>0,IF(D33<=V$5,IF(M33>0,M33,VLOOKUP(B33,'1 Pricing Length'!A$8:C$50,3)),VLOOKUP(B33,'1 Pricing Length'!A$8:C$50,3)),0),0) -> 72 | M33: =IF(E33<>"",IF(F33<>"",(F33-E33)/7,0),0) -> 0 | N33: =IF(B33<>"",IF(D33<>0,IF(AD33<Y$5,IF(AD33<X$5,IF(AD33<W$5,IF(AD33<V$5,IF(AD33<U$5,VLOOKUP(B33,'1 Pricing Length'!A$8:I$50,4),VLOOKUP(B33,'1 Pricing Length'!A$8:I$50,5)),VLOOKUP(B33,'1 Pricing Length'!A$8:I$50,6)),VLOOKUP(B33,'1 Pricing Length'!A$8:I$50,7)),VLOOKUP(B33,'1 Pricing Length'!A$8:I$50,8)),0),0),0) -> 22000 | O33: =IF(H33<>"c",IF(H33<>"",IF(G33>0,W33*H33/G33-W33,IF(E33>V$5,IF(F33>W$5,ROUND((W$5-E33)/7,0)*AE33*H33,ROUND((F33-E33)/7,0)*AE33*H33),"enter budget")),0),-W33) -> -0.011305556 | P33: ='3 CY Interim'!P33 -> 0 | Q33: =IF(G33>0,IF(H33<>"C",IF(H33<>"",IF(E33>0,IF(F33>0,IF(M33>0,(W33/(M33/L33)-W33),(O33/(M33/L33)-O33)),0),0),0),0),0) -> 0 | R33: =IF(H33<>"c",IF(E33>0,IF(AD33=W$5,IF(H33>0,IF(E33>AH$5,(AQ33-AI33)*G33*AE33,(52-AI33)*G33*AE33),0),0),0),0) -> 0 | S33: =SUM(O33:R33) -> -0.011305556 | T33: =$G33*$AE33*AF33 -> 0 | U33: =$G33*$AE33*AG33 -> 0 | V33: =$G33*$AE33*AH33 -> 0 | W33: =$G33*$AE33*AI33 -> 0.011305556 | X33: =IF(H33<>"c",$G33*$AE33*AJ33,0) -> 0 | Y33: =IF(H33<>"c",$G33*$AE33*AK33,0) -> 0 | Z33: =IF(H33<>"c",$G33*$AE33*AL33,0) -> 0 | AA33: =SUM(T33:Z33) -> 0.011305556 | AB33: =G33*AI33/52 -> 7.1153846e-07 | AD33: =IF(D33<=X$5,IF(D33<=W$5,IF(D33<=V$5,IF(D33<U$5,IF(D33<T$5,T$5,U$5),V$5),W$5),X$5),Y$5) -> 45838 | AE33: =IF(L33>1,N33/L33,0) -> 305.55556 | AF33: =IF(D33>0,IF($AD33=T$5,IF(E33=0,ROUND(($AD33-$D33)/7+0.5,0),ROUND(($AD33-$E33)/7+0.5,0)),0),0) -> 0 | AG33: =IF($D33>0,IF($AD33<=U$5,IF(SUM($AF33:AF33)>0,IF($L33-SUM($AF33:AF33)>52,52,$L33-SUM($AF33:AF33)),IF($AD33=U$5,IF(($D33+($L33*7))>=U$5,ROUND(($AD33-$D33)/7+0.5,0),$L33))),0),0) -> 0 | AH33: =IF($D33>0,IF($AD33<=V$5,IF(SUM($AF33:AG33)>0,IF($L33-SUM($AF33:AG33)>52,52,$L33-SUM($AF33:AG33)),IF($AD33=V$5,IF(($D33+($L33*7))>=V$5,ROUND(($AD33-$D33)/7+0.5,0),$L33))),0),0) -> 0 | AI33: =IF($D33>0,IF($AD33<=W$5,IF(SUM($AF33:AH33)>0,IF($L33-SUM($AF33:AH33)>52,52,$L33-SUM($AF33:AH33)),IF($AD33=W$5,IF(($D33+($L33*7))>=W$5,ROUND(($AD33-$D33)/7+0.5,0),$L33))),0),0) -> 37 | AJ33: =IF($D33>0,IF($AD33<=X$5,IF(SUM($AF33:AI33)>0,IF($L33-SUM($AF33:AI33)>52,52,$L33-SUM($AF33:AI33)),IF($AD33=X$5,IF(($D33+($L33*7))>=X$5,ROUND(($AD33-$D33)/7+0.5,0),$L33))),0),0) -> 35 | AK33: =IF($D33>0,IF($AD33<=Y$5,IF(SUM($AF33:AJ33)>0,IF($L33-SUM($AF33:AJ33)>52,52,$L33-SUM($AF33:AJ33)),IF($AD33=Y$5,IF(($D33+($L33*7))>=Y$5,ROUND(($AD33-$D33)/7+0.5,0),$L33))),0),0) -> 0 | AL33: =IF($D33>0,IF($AD33<=Z$5,IF(SUM($AF33:AK33)>0,IF($L33-SUM($AF33:AK33)>52,52,$L33-SUM($AF33:AK33)),IF($AD33=Z$5,IF(($D33+($L33*7))>=Z$5,ROUND(($AD33-$D33)/7+0.5,0),$L33))),0),0) -> 0 | AM33: =IF(W33<>0,IF(D33<>"",G33,0),IF(O33>0,G33,"")) -> 1e-06 | AN33: =IF(W33<>0,IF(H33<>"c",IF(E33<>"",H33,""),""),IF(O33>0,H33,"")) | AO33: =IF(AN33<>"",AM33,"") | AP33: =IF(AN33<>"",AN33-AO33,"") | AQ33: =IF(E33<>0,IF(E33>V$5,IF(E33<=W$5,IF(D33>V$5,ROUND(((D33-E33)/7+AI33+0.4),0),ROUND(((V$5-E33)/7+AI33+0.4),0)),0),52),AI33) -> 37 | AR33: =IF(D33<=V$5,IF(E33>V$5,IF(E33<=W$5,W$5,X$5),0),0) -> 0 | AS33: =IF(AR33>AD33,IF(E33<=W$5,ROUND(((V$5-E33)/7),0)*AE33*G33,-W33),0) -> 0 | AT33: =IF(H33<>" ",IF(H33<>"c",IF(H33<>0,H33-G33,0),-G33),0) -> -1e-06 | AU33: =IF($AD33=T$5,$W33,0) -> 0 | AV33: =IF($AD33=V$5,$W33,0) -> 0 | AW33: =IF($AD33=W$5,$W33,0) -> 0.011305556 | AX33: =IF(E33>0,E33,D33) -> 45585 | AY33: =IF(H33<>"C",IF(H33>0,H33,G33),0) -> 0 | AZ33: =W33+S33 -> 0 | BA33: =IF(B33<>"",VLOOKUP(B33,'1 Pricing Length'!A$8:B$50,2),"") -> EDU
B34: MBA | C34: CAM | D34: 45697 | E34: 45690 | F34: =E34+76*7 -> 46222 | G34: 12 | H34: 10 | L34: =IF(B34<>"",IF(D34>0,IF(D34<=V$5,IF(M34>0,M34,VLOOKUP(B34,'1 Pricing Length'!A$8:C$50,3)),VLOOKUP(B34,'1 Pricing Length'!A$8:C$50,3)),0),0) -> 75 | M34: =IF(E34<>"",IF(F34<>"",(F34-E34)/7,0),0) -> 76 | N34: =IF(B34<>"",IF(D34<>0,IF(AD34<Y$5,IF(AD34<X$5,IF(AD34<W$5,IF(AD34<V$5,IF(AD34<U$5,VLOOKUP(B34,'1 Pricing Length'!A$8:I$50,4),VLOOKUP(B34,'1 Pricing Length'!A$8:I$50,5)),VLOOKUP(B34,'1 Pricing Length'!A$8:I$50,6)),VLOOKUP(B34,'1 Pricing Length'!A$8:I$50,7)),VLOOKUP(B34,'1 Pricing Length'!A$8:I$50,8)),0),0),0) -> 25000 | O34: =IF(H34<>"c",IF(H34<>"",IF(G34>0,W34*H34/G34-W34,IF(E34>V$5,IF(F34>W$5,ROUND((W$5-E34)/7,0)*AE34*H34,ROUND((F34-E34)/7,0)*AE34*H34),"enter budget")),0),-W34) -> -14000 | P34: ='3 CY Interim'!P34 -> 0 | Q34: =IF(G34>0,IF(H34<>"C",IF(H34<>"",IF(E34>0,IF(F34>0,IF(M34>0,(W34/(M34/L34)-W34),(O34/(M34/L34)-O34)),0),0),0),0),0) -> -1105.2632 | R34: =IF(H34<>"c",IF(E34>0,IF(AD34=W$5,IF(H34>0,IF(E34>AH$5,(AQ34-AI34)*G34*AE34,(52-AI34)*G34*AE34),0),0),0),0) -> 4000 | S34: =SUM(O34:R34) -> -11105.263 | T34: =$G34*$AE34*AF34 -> 0 | U34: =$G34*$AE34*AG34 -> 0 | V34: =$G34*$AE34*AH34 -> 0 | W34: =$G34*$AE34*AI34 -> 84000 | X34: =IF(H34<>"c",$G34*$AE34*AJ34,0) -> 208000 | Y34: =IF(H34<>"c",$G34*$AE34*AK34,0) -> 8000 | Z34: =IF(H34<>"c",$G34*$AE34*AL34,0) -> 0 | AA34: =SUM(T34:Z34) -> 300000 | AB34: =G34*AI34/52 -> 4.8461538 | AD34: =IF(D34<=X$5,IF(D34<=W$5,IF(D34<=V$5,IF(D34<U$5,IF(D34<T$5,T$5,U$5),V$5),W$5),X$5),Y$5) -> 45838 | AE34: =IF(L34>1,N34/L34,0) -> 333.33333 | AF34: =IF(D34>0,IF($AD34=T$5,IF(E34=0,ROUND(($AD34-$D34)/7+0.5,0),ROUND(($AD34-$E34)/7+0.5,0)),0),0) -> 0 | AG34: =IF($D34>0,IF($AD34<=U$5,IF(SUM($AF34:AF34)>0,IF($L34-SUM($AF34:AF34)>52,52,$L34-SUM($AF34:AF34)),IF($AD34=U$5,IF(($D34+($L34*7))>=U$5,ROUND(($AD34-$D34)/7+0.5,0),$L34))),0),0) -> 0 | AH34: =IF($D34>0,IF($AD34<=V$5,IF(SUM($AF34:AG34)>0,IF($L34-SUM($AF34:AG34)>52,52,$L34-SUM($AF34:AG34)),IF($AD34=V$5,IF(($D34+($L34*7))>=V$5,ROUND(($AD34-$D34)/7+0.5,0),$L34))),0),0) -> 0 | AI34: =IF($D34>0,IF($AD34<=W$5,IF(SUM($AF34:AH34)>0,IF($L34-SUM($AF34:AH34)>52,52,$L34-SUM($AF34:AH34)),IF($AD34=W$5,IF(($D34+($L34*7))>=W$5,ROUND(($AD34-$D34)/7+0.5,0),$L34))),0),0) -> 21 | AJ34: =IF($D34>0,IF($AD34<=X$5,IF(SUM($AF34:AI34)>0,IF($L34-SUM($AF34:AI34)>52,52,$L34-SUM($AF34:AI34)),IF($AD34=X$5,IF(($D34+($L34*7))>=X$5,ROUND(($AD34-$D34)/7+0.5,0),$L34))),0),0) -> 52 | AK34: =IF($D34>0,IF($AD34<=Y$5,IF(SUM($AF34:AJ34)>0,IF($L34-SUM($AF34:AJ34)>52,52,$L34-SUM($AF34:AJ34)),IF($AD34=Y$5,IF(($D34+($L34*7))>=Y$5,ROUND(($AD34-$D34)/7+0.5,0),$L34))),0),0) -> 2 | AL34: =IF($D34>0,IF($AD34<=Z$5,IF(SUM($AF34:AK34)>0,IF($L34-SUM($AF34:AK34)>52,52,$L34-SUM($AF34:AK34)),IF($AD34=Z$5,IF(($D34+($L34*7))>=Z$5,ROUND(($AD34-$D34)/7+0.5,0),$L34))),0),0) -> 0 | AM34: =IF(W34<>0,IF(D34<>"",G34,0),IF(O34>0,G34,"")) -> 12 | AN34: =IF(W34<>0,IF(H34<>"c",IF(E34<>"",H34,""),""),IF(O34>0,H34,"")) -> 10 | AO34: =IF(AN34<>"",AM34,"") -> 12 | AP34: =IF(AN34<>"",AN34-AO34,"") -> -2 | AQ34: =IF(E34<>0,IF(E34>V$5,IF(E34<=W$5,IF(D34>V$5,ROUND(((D34-E34)/7+AI34+0.4),0),ROUND(((V$5-E34)/7+AI34+0.4),0)),0),52),AI34) -> 22 | AR34: =IF(D34<=V$5,IF(E34>V$5,IF(E34<=W$5,W$5,X$5),0),0) -> 0 | AS34: =IF(AR34>AD34,IF(E34<=W$5,ROUND(((V$5-E34)/7),0)*AE34*G34,-W34),0) -> 0 | AT34: =IF(H34<>" ",IF(H34<>"c",IF(H34<>0,H34-G34,0),-G34),0) -> -2 | AU34: =IF($AD34=T$5,$W34,0) -> 0 | AV34: =IF($AD34=V$5,$W34,0) -> 0 | AW34: =IF($AD34=W$5,$W34,0) -> 84000 | AX34: =IF(E34>0,E34,D34) -> 45690 | AY34: =IF(H34<>"C",IF(H34>0,H34,G34),0) -> 10 | AZ34: =W34+S34 -> 72894.737 | BA34: =IF(B34<>"",VLOOKUP(B34,'1 Pricing Length'!A$8:B$50,2),"") -> BUS
B35: MBA | C35: ONL | D35: 45153 | E35: 45153 | F35: 45519 | G35: 11 | H35: 9 | L35: =IF(B35<>"",IF(D35>0,IF(D35<=V$5,IF(M35>0,M35,VLOOKUP(B35,'1 Pricing Length'!A$8:C$50,3)),VLOOKUP(B35,'1 Pricing Length'!A$8:C$50,3)),0),0) -> 52.285714 | M35: =IF(E35<>"",IF(F35<>"",(F35-E35)/7,0),0) -> 52.285714 | N35: =IF(B35<>"",IF(D35<>0,IF(AD35<Y$5,IF(AD35<X$5,IF(AD35<W$5,IF(AD35<V$5,IF(AD35<U$5,VLOOKUP(B35,'1 Pricing Length'!A$8:I$50,4),VLOOKUP(B35,'1 Pricing Length'!A$8:I$50,5)),VLOOKUP(B35,'1 Pricing Length'!A$8:I$50,6)),VLOOKUP(B35,'1 Pricing Length'!A$8:I$50,7)),VLOOKUP(B35,'1 Pricing Length'!A$8:I$50,8)),0),0),0) -> 24500 | O35: =IF(H35<>"c",IF(H35<>"",IF(G35>0,W35*H35/G35-W35,IF(E35>V$5,IF(F35>W$5,ROUND((W$5-E35)/7,0)*AE35*H35,ROUND((F35-E35)/7,0)*AE35*H35),"enter budget")),0),-W35) -> -5890.7104 | P35: ='3 CY Interim'!P35 -> 0 | Q35: =IF(G35>0,IF(H35<>"C",IF(H35<>"",IF(E35>0,IF(F35>0,IF(M35>0,(W35/(M35/L35)-W35),(O35/(M35/L35)-O35)),0),0),0),0),0) -> 0 | R35: =IF(H35<>"c",IF(E35>0,IF(AD35=W$5,IF(H35>0,IF(E35>AH$5,(AQ35-AI35)*G35*AE35,(52-AI35)*G35*AE35),0),0),0),0) -> 0 | S35: =SUM(O35:R35) -> -5890.7104 | T35: =$G35*$AE35*AF35 -> 0 | U35: =$G35*$AE35*AG35 -> 0 | V35: =$G35*$AE35*AH35 -> 237101.09 | W35: =$G35*$AE35*AI35 -> 32398.907 | X35: =IF(H35<>"c",$G35*$AE35*AJ35,0) -> 0 | Y35: =IF(H35<>"c",$G35*$AE35*AK35,0) -> 0 | Z35: =IF(H35<>"c",$G35*$AE35*AL35,0) -> 0 | AA35: =SUM(T35:Z35) -> 269500 | AB35: =G35*AI35/52 -> 1.3296703 | AD35: =IF(D35<=X$5,IF(D35<=W$5,IF(D35<=V$5,IF(D35<U$5,IF(D35<T$5,T$5,U$5),V$5),W$5),X$5),Y$5) -> 45473 | AE35: =IF(L35>1,N35/L35,0) -> 468.57923 | AF35: =IF(D35>0,IF($AD35=T$5,IF(E35=0,ROUND(($AD35-$D35)/7+0.5,0),ROUND(($AD35-$E35)/7+0.5,0)),0),0) -> 0 | AG35: =IF($D35>0,IF($AD35<=U$5,IF(SUM($AF35:AF35)>0,IF($L35-SUM($AF35:AF35)>52,52,$L35-SUM($AF35:AF35)),IF($AD35=U$5,IF(($D35+($L35*7))>=U$5,ROUND(($AD35-$D35)/7+0.5,0),$L35))),0),0) -> 0 | AH35: =IF($D35>0,IF($AD35<=V$5,IF(SUM($AF35:AG35)>0,IF($L35-SUM($AF35:AG35)>52,52,$L35-SUM($AF35:AG35)),IF($AD35=V$5,IF(($D35+($L35*7))>=V$5,ROUND(($AD35-$D35)/7+0.5,0),$L35))),0),0) -> 46 | AI35: =IF($D35>0,IF($AD35<=W$5,IF(SUM($AF35:AH35)>0,IF($L35-SUM($AF35:AH35)>52,52,$L35-SUM($AF35:AH35)),IF($AD35=W$5,IF(($D35+($L35*7))>=W$5,ROUND(($AD35-$D35)/7+0.5,0),$L35))),0),0) -> 6.2857143 | AJ35: =IF($D35>0,IF($AD35<=X$5,IF(SUM($AF35:AI35)>0,IF($L35-SUM($AF35:AI35)>52,52,$L35-SUM($AF35:AI35)),IF($AD35=X$5,IF(($D35+($L35*7))>=X$5,ROUND(($AD35-$D35)/7+0.5,0),$L35))),0),0) -> 0 | AK35: =IF($D35>0,IF($AD35<=Y$5,IF(SUM($AF35:AJ35)>0,IF($L35-SUM($AF35:AJ35)>52,52,$L35-SUM($AF35:AJ35)),IF($AD35=Y$5,IF(($D35+($L35*7))>=Y$5,ROUND(($AD35-$D35)/7+0.5,0),$L35))),0),0) -> 0 | AL35: =IF($D35>0,IF($AD35<=Z$5,IF(SUM($AF35:AK35)>0,IF($L35-SUM($AF35:AK35)>52,52,$L35-SUM($AF35:AK35)),IF($AD35=Z$5,IF(($D35+($L35*7))>=Z$5,ROUND(($AD35-$D35)/7+0.5,0),$L35))),0),0) -> 0 | AM35: =IF(W35<>0,IF(D35<>"",G35,0),IF(O35>0,G35,"")) -> 11 | AN35: =IF(W35<>0,IF(H35<>"c",IF(E35<>"",H35,""),""),IF(O35>0,H35,"")) -> 9 | AO35: =IF(AN35<>"",AM35,"") -> 11 | AP35: =IF(AN35<>"",AN35-AO35,"") -> -2 | AQ35: =IF(E35<>0,IF(E35>V$5,IF(E35<=W$5,IF(D35>V$5,ROUND(((D35-E35)/7+AI35+0.4),0),ROUND(((V$5-E35)/7+AI35+0.4),0)),0),52),AI35) -> 52 | AR35: =IF(D35<=V$5,IF(E35>V$5,IF(E35<=W$5,W$5,X$5),0),0) -> 0 | AS35: =IF(AR35>AD35,IF(E35<=W$5,ROUND(((V$5-E35)/7),0)*AE35*G35,-W35),0) -> 0 | AT35: =IF(H35<>" ",IF(H35<>"c",IF(H35<>0,H35-G35,0),-G35),0) -> -2 | AU35: =IF($AD35=T$5,$W35,0) -> 0 | AV35: =IF($AD35=V$5,$W35,0) -> 32398.907 | AW35: =IF($AD35=W$5,$W35,0) -> 0 | AX35: =IF(E35>0,E35,D35) -> 45153 | AY35: =IF(H35<>"C",IF(H35>0,H35,G35),0) -> 9 | AZ35: =W35+S35 -> 26508.197 | BA35: =IF(B35<>"",VLOOKUP(B35,'1 Pricing Length'!A$8:B$50,2),"") -> BUS
B36: MBA | C36: CLV | D36: 45519 | E36: 45519 | F36: 46037 | G36: 8 | H36: 10 | L36: =IF(B36<>"",IF(D36>0,IF(D36<=V$5,IF(M36>0,M36,VLOOKUP(B36,'1 Pricing Length'!A$8:C$50,3)),VLOOKUP(B36,'1 Pricing Length'!A$8:C$50,3)),0),0) -> 75 | M36: =IF(E36<>"",IF(F36<>"",(F36-E36)/7,0),0) -> 74 | N36: =IF(B36<>"",IF(D36<>0,IF(AD36<Y$5,IF(AD36<X$5,IF(AD36<W$5,IF(AD36<V$5,IF(AD36<U$5,VLOOKUP(B36,'1 Pricing Length'!A$8:I$50,4),VLOOKUP(B36,'1 Pricing Length'!A$8:I$50,5)),VLOOKUP(B36,'1 Pricing Length'!A$8:I$50,6)),VLOOKUP(B36,'1 Pricing Length'!A$8:I$50,7)),VLOOKUP(B36,'1 Pricing Length'!A$8:I$50,8)),0),0),0) -> 25000 | O36: =IF(H36<>"c",IF(H36<>"",IF(G36>0,W36*H36/G36-W36,IF(E36>V$5,IF(F36>W$5,ROUND((W$5-E36)/7,0)*AE36*H36,ROUND((F36-E36)/7,0)*AE36*H36),"enter budget")),0),-W36) -> 30666.667 | P36: ='3 CY Interim'!P36 -> 0 | Q36: =IF(G36>0,IF(H36<>"C",IF(H36<>"",IF(E36>0,IF(F36>0,IF(M36>0,(W36/(M36/L36)-W36),(O36/(M36/L36)-O36)),0),0),0),0),0) -> 1657.6577 | R36: =IF(H36<>"c",IF(E36>0,IF(AD36=W$5,IF(H36>0,IF(E36>AH$5,(AQ36-AI36)*G36*AE36,(52-AI36)*G36*AE36),0),0),0),0) -> 0 | S36: =SUM(O36:R36) -> 32324.324 | T36: =$G36*$AE36*AF36 -> 0 | U36: =$G36*$AE36*AG36 -> 0 | V36: =$G36*$AE36*AH36 -> 0 | W36: =$G36*$AE36*AI36 -> 122666.67 | X36: =IF(H36<>"c",$G36*$AE36*AJ36,0) -> 77333.333 | Y36: =IF(H36<>"c",$G36*$AE36*AK36,0) -> 0 | Z36: =IF(H36<>"c",$G36*$AE36*AL36,0) -> 0 | AA36: =SUM(T36:Z36) -> 200000 | AB36: =G36*AI36/52 -> 7.0769231 | AD36: =IF(D36<=X$5,IF(D36<=W$5,IF(D36<=V$5,IF(D36<U$5,IF(D36<T$5,T$5,U$5),V$5),W$5),X$5),Y$5) -> 45838 | AE36: =IF(L36>1,N36/L36,0) -> 333.33333 | AF36: =IF(D36>0,IF($AD36=T$5,IF(E36=0,ROUND(($AD36-$D36)/7+0.5,0),ROUND(($AD36-$E36)/7+0.5,0)),0),0) -> 0 | AG36: =IF($D36>0,IF($AD36<=U$5,IF(SUM($AF36:AF36)>0,IF($L36-SUM($AF36:AF36)>52,52,$L36-SUM($AF36:AF36)),IF($AD36=U$5,IF(($D36+($L36*7))>=U$5,ROUND(($AD36-$D36)/7+0.5,0),$L36))),0),0) -> 0 | AH36: =IF($D36>0,IF($AD36<=V$5,IF(SUM($AF36:AG36)>0,IF($L36-SUM($AF36:AG36)>52,52,$L36-SUM($AF36:AG36)),IF($AD36=V$5,IF(($D36+($L36*7))>=V$5,ROUND(($AD36-$D36)/7+0.5,0),$L36))),0),0) -> 0 | AI36: =IF($D36>0,IF($AD36<=W$5,IF(SUM($AF36:AH36)>0,IF($L36-SUM($AF36:AH36)>52,52,$L36-SUM($AF36:AH36)),IF($AD36=W$5,IF(($D36+($L36*7))>=W$5,ROUND(($AD36-$D36)/7+0.5,0),$L36))),0),0) -> 46 | AJ36: =IF($D36>0,IF($AD36<=X$5,IF(SUM($AF36:AI36)>0,IF($L36-SUM($AF36:AI36)>52,52,$L36-SUM($AF36:AI36)),IF($AD36=X$5,IF(($D36+($L36*7))>=X$5,ROUND(($AD36-$D36)/7+0.5,0),$L36))),0),0) -> 29 | AK36: =IF($D36>0,IF($AD36<=Y$5,IF(SUM($AF36:AJ36)>0,IF($L36-SUM($AF36:AJ36)>52,52,$L36-SUM($AF36:AJ36)),IF($AD36=Y$5,IF(($D36+($L36*7))>=Y$5,ROUND(($AD36-$D36)/7+0.5,0),$L36))),0),0) -> 0 | AL36: =IF($D36>0,IF($AD36<=Z$5,IF(SUM($AF36:AK36)>0,IF($L36-SUM($AF36:AK36)>52,52,$L36-SUM($AF36:AK36)),IF($AD36=Z$5,IF(($D36+($L36*7))>=Z$5,ROUND(($AD36-$D36)/7+0.5,0),$L36))),0),0) -> 0 | AM36: =IF(W36<>0,IF(D36<>"",G36,0),IF(O36>0,G36,"")) -> 8 | AN36: =IF(W36<>0,IF(H36<>"c",IF(E36<>"",H36,""),""),IF(O36>0,H36,"")) -> 10 | AO36: =IF(AN36<>"",AM36,"") -> 8 | AP36: =IF(AN36<>"",AN36-AO36,"") -> 2 | AQ36: =IF(E36<>0,IF(E36>V$5,IF(E36<=W$5,IF(D36>V$5,ROUND(((D36-E36)/7+AI36+0.4),0),ROUND(((V$5-E36)/7+AI36+0.4),0)),0),52),AI36) -> 46 | AR36: =IF(D36<=V$5,IF(E36>V$5,IF(E36<=W$5,W$5,X$5),0),0) -> 0 | AS36: =IF(AR36>AD36,IF(E36<=W$5,ROUND(((V$5-E36)/7),0)*AE36*G36,-W36),0) -> 0 | AT36: =IF(H36<>" ",IF(H36<>"c",IF(H36<>0,H36-G36,0),-G36),0) -> 2 | AU36: =IF($AD36=T$5,$W36,0) -> 0 | AV36: =IF($AD36=V$5,$W36,0) -> 0 | AW36: =IF($AD36=W$5,$W36,0) -> 122666.67 | AX36: =IF(E36>0,E36,D36) -> 45519 | AY36: =IF(H36<>"C",IF(H36>0,H36,G36),0) -> 10 | AZ36: =W36+S36 -> 154990.99 | BA36: =IF(B36<>"",VLOOKUP(B36,'1 Pricing Length'!A$8:B$50,2),"") -> BUS
B37: MBA | C37: DET | D37: 45519 | E37: 45519 | F37: 46068 | G37: 8 | H37: 11 | L37: =IF(B37<>"",IF(D37>0,IF(D37<=V$5,IF(M37>0,M37,VLOOKUP(B37,'1 Pricing Length'!A$8:C$50,3)),VLOOKUP(B37,'1 Pricing Length'!A$8:C$50,3)),0),0) -> 75 | M37: =IF(E37<>"",IF(F37<>"",(F37-E37)/7,0),0) -> 78.428571 | N37: =IF(B37<>"",IF(D37<>0,IF(AD37<Y$5,IF(AD37<X$5,IF(AD37<W$5,IF(AD37<V$5,IF(AD37<U$5,VLOOKUP(B37,'1 Pricing Length'!A$8:I$50,4),VLOOKUP(B37,'1 Pricing Length'!A$8:I$50,5)),VLOOKUP(B37,'1 Pricing Length'!A$8:I$50,6)),VLOOKUP(B37,'1 Pricing Length'!A$8:I$50,7)),VLOOKUP(B37,'1 Pricing Length'!A$8:I$50,8)),0),0),0) -> 25000 | O37: =IF(H37<>"c",IF(H37<>"",IF(G37>0,W37*H37/G37-W37,IF(E37>V$5,IF(F37>W$5,ROUND((W$5-E37)/7,0)*AE37*H37,ROUND((F37-E37)/7,0)*AE37*H37),"enter budget")),0),-W37) -> 46000 | P37: ='3 CY Interim'!P37 -> 0 | Q37: =IF(G37>0,IF(H37<>"C",IF(H37<>"",IF(E37>0,IF(F37>0,IF(M37>0,(W37/(M37/L37)-W37),(O37/(M37/L37)-O37)),0),0),0),0),0) -> -5362.4772 | R37: =IF(H37<>"c",IF(E37>0,IF(AD37=W$5,IF(H37>0,IF(E37>AH$5,(AQ37-AI37)*G37*AE37,(52-AI37)*G37*AE37),0),0),0),0) -> 0 | S37: =SUM(O37:R37) -> 40637.523 | T37: =$G37*$AE37*AF37 -> 0 | U37: =$G37*$AE37*AG37 -> 0 | V37: =$G37*$AE37*AH37 -> 0 | W37: =$G37*$AE37*AI37 -> 122666.67 | X37: =IF(H37<>"c",$G37*$AE37*AJ37,0) -> 77333.333 | Y37: =IF(H37<>"c",$G37*$AE37*AK37,0) -> 0 | Z37: =IF(H37<>"c",$G37*$AE37*AL37,0) -> 0 | AA37: =SUM(T37:Z37) -> 200000 | AB37: =G37*AI37/52 -> 7.0769231 | AD37: =IF(D37<=X$5,IF(D37<=W$5,IF(D37<=V$5,IF(D37<U$5,IF(D37<T$5,T$5,U$5),V$5),W$5),X$5),Y$5) -> 45838 | AE37: =IF(L37>1,N37/L37,0) -> 333.33333 | AF37: =IF(D37>0,IF($AD37=T$5,IF(E37=0,ROUND(($AD37-$D37)/7+0.5,0),ROUND(($AD37-$E37)/7+0.5,0)),0),0) -> 0 | AG37: =IF($D37>0,IF($AD37<=U$5,IF(SUM($AF37:AF37)>0,IF($L37-SUM($AF37:AF37)>52,52,$L37-SUM($AF37:AF37)),IF($AD37=U$5,IF(($D37+($L37*7))>=U$5,ROUND(($AD37-$D37)/7+0.5,0),$L37))),0),0) -> 0 | AH37: =IF($D37>0,IF($AD37<=V$5,IF(SUM($AF37:AG37)>0,IF($L37-SUM($AF37:AG37)>52,52,$L37-SUM($AF37:AG37)),IF($AD37=V$5,IF(($D37+($L37*7))>=V$5,ROUND(($AD37-$D37)/7+0.5,0),$L37))),0),0) -> 0 | AI37: =IF($D37>0,IF($AD37<=W$5,IF(SUM($AF37:AH37)>0,IF($L37-SUM($AF37:AH37)>52,52,$L37-SUM($AF37:AH37)),IF($AD37=W$5,IF(($D37+($L37*7))>=W$5,ROUND(($AD37-$D37)/7+0.5,0),$L37))),0),0) -> 46 | AJ37: =IF($D37>0,IF($AD37<=X$5,IF(SUM($AF37:AI37)>0,IF($L37-SUM($AF37:AI37)>52,52,$L37-SUM($AF37:AI37)),IF($AD37=X$5,IF(($D37+($L37*7))>=X$5,ROUND(($AD37-$D37)/7+0.5,0),$L37))),0),0) -> 29 | AK37: =IF($D37>0,IF($AD37<=Y$5,IF(SUM($AF37:AJ37)>0,IF($L37-SUM($AF37:AJ37)>52,52,$L37-SUM($AF37:AJ37)),IF($AD37=Y$5,IF(($D37+($L37*7))>=Y$5,ROUND(($AD37-$D37)/7+0.5,0),$L37))),0),0) -> 0 | AL37: =IF($D37>0,IF($AD37<=Z$5,IF(SUM($AF37:AK37)>0,IF($L37-SUM($AF37:AK37)>52,52,$L37-SUM($AF37:AK37)),IF($AD37=Z$5,IF(($D37+($L37*7))>=Z$5,ROUND(($AD37-$D37)/7+0.5,0),$L37))),0),0) -> 0 | AM37: =IF(W37<>0,IF(D37<>"",G37,0),IF(O37>0,G37,"")) -> 8 | AN37: =IF(W37<>0,IF(H37<>"c",IF(E37<>"",H37,""),""),IF(O37>0,H37,"")) -> 11 | AO37: =IF(AN37<>"",AM37,"") -> 8 | AP37: =IF(AN37<>"",AN37-AO37,"") -> 3 | AQ37: =IF(E37<>0,IF(E37>V$5,IF(E37<=W$5,IF(D37>V$5,ROUND(((D37-E37)/7+AI37+0.4),0),ROUND(((V$5-E37)/7+AI37+0.4),0)),0),52),AI37) -> 46 | AR37: =IF(D37<=V$5,IF(E37>V$5,IF(E37<=W$5,W$5,X$5),0),0) -> 0 | AS37: =IF(AR37>AD37,IF(E37<=W$5,ROUND(((V$5-E37)/7),0)*AE37*G37,-W37),0) -> 0 | AT37: =IF(H37<>" ",IF(H37<>"c",IF(H37<>0,H37-G37,0),-G37),0) -> 3 | AU37: =IF($AD37=T$5,$W37,0) -> 0 | AV37: =IF($AD37=V$5,$W37,0) -> 0 | AW37: =IF($AD37=W$5,$W37,0) -> 122666.67 | AX37: =IF(E37>0,E37,D37) -> 45519 | AY37: =IF(H37<>"C",IF(H37>0,H37,G37),0) -> 11 | AZ37: =W37+S37 -> 163304.19 | BA37: =IF(B37<>"",VLOOKUP(B37,'1 Pricing Length'!A$8:B$50,2),"") -> BUS
B38: MBA | C38: TOL | D38: 45519 | E38: 45526 | F38: =E38+76*7 -> 46058 | G38: 20 | H38: 21 | L38: =IF(B38<>"",IF(D38>0,IF(D38<=V$5,IF(M38>0,M38,VLOOKUP(B38,'1 Pricing Length'!A$8:C$50,3)),VLOOKUP(B38,'1 Pricing Length'!A$8:C$50,3)),0),0) -> 75 | M38: =IF(E38<>"",IF(F38<>"",(F38-E38)/7,0),0) -> 76 | N38: =IF(B38<>"",IF(D38<>0,IF(AD38<Y$5,IF(AD38<X$5,IF(AD38<W$5,IF(AD38<V$5,IF(AD38<U$5,VLOOKUP(B38,'1 Pricing Length'!A$8:I$50,4),VLOOKUP(B38,'1 Pricing Length'!A$8:I$50,5)),VLOOKUP(B38,'1 Pricing Length'!A$8:I$50,6)),VLOOKUP(B38,'1 Pricing Length'!A$8:I$50,7)),VLOOKUP(B38,'1 Pricing Length'!A$8:I$50,8)),0),0),0) -> 25000 | O38: =IF(H38<>"c",IF(H38<>"",IF(G38>0,W38*H38/G38-W38,IF(E38>V$5,IF(F38>W$5,ROUND((W$5-E38)/7,0)*AE38*H38,ROUND((F38-E38)/7,0)*AE38*H38),"enter budget")),0),-W38) -> 15333.333 | P38: ='3 CY Interim'!P38 -> 0 | Q38: =IF(G38>0,IF(H38<>"C",IF(H38<>"",IF(E38>0,IF(F38>0,IF(M38>0,(W38/(M38/L38)-W38),(O38/(M38/L38)-O38)),0),0),0),0),0) -> -4035.0877 | R38: =IF(H38<>"c",IF(E38>0,IF(AD38=W$5,IF(H38>0,IF(E38>AH$5,(AQ38-AI38)*G38*AE38,(52-AI38)*G38*AE38),0),0),0),0) -> -6666.6667 | S38: =SUM(O38:R38) -> 4631.5789 | T38: =$G38*$AE38*AF38 -> 0 | U38: =$G38*$AE38*AG38 -> 0 | V38: =$G38*$AE38*AH38 -> 0 | W38: =$G38*$AE38*AI38 -> 306666.67 | X38: =IF(H38<>"c",$G38*$AE38*AJ38,0) -> 193333.33 | Y38: =IF(H38<>"c",$G38*$AE38*AK38,0) -> 0 | Z38: =IF(H38<>"c",$G38*$AE38*AL38,0) -> 0 | AA38: =SUM(T38:Z38) -> 500000 | AB38: =G38*AI38/52 -> 17.692308 | AD38: =IF(D38<=X$5,IF(D38<=W$5,IF(D38<=V$5,IF(D38<U$5,IF(D38<T$5,T$5,U$5),V$5),W$5),X$5),Y$5) -> 45838 | AE38: =IF(L38>1,N38/L38,0) -> 333.33333 | AF38: =IF(D38>0,IF($AD38=T$5,IF(E38=0,ROUND(($AD38-$D38)/7+0.5,0),ROUND(($AD38-$E38)/7+0.5,0)),0),0) -> 0 | AG38: =IF($D38>0,IF($AD38<=U$5,IF(SUM($AF38:AF38)>0,IF($L38-SUM($AF38:AF38)>52,52,$L38-SUM($AF38:AF38)),IF($AD38=U$5,IF(($D38+($L38*7))>=U$5,ROUND(($AD38-$D38)/7+0.5,0),$L38))),0),0) -> 0 | AH38: =IF($D38>0,IF($AD38<=V$5,IF(SUM($AF38:AG38)>0,IF($L38-SUM($AF38:AG38)>52,52,$L38-SUM($AF38:AG38)),IF($AD38=V$5,IF(($D38+($L38*7))>=V$5,ROUND(($AD38-$D38)/7+0.5,0),$L38))),0),0) -> 0 | AI38: =IF($D38>0,IF($AD38<=W$5,IF(SUM($AF38:AH38)>0,IF($L38-SUM($AF38:AH38)>52,52,$L38-SUM($AF38:AH38)),IF($AD38=W$5,IF(($D38+($L38*7))>=W$5,ROUND(($AD38-$D38)/7+0.5,0),$L38))),0),0) -> 46 | AJ38: =IF($D38>0,IF($AD38<=X$5,IF(SUM($AF38:AI38)>0,IF($L38-SUM($AF38:AI38)>52,52,$L38-SUM($AF38:AI38)),IF($AD38=X$5,IF(($D38+($L38*7))>=X$5,ROUND(($AD38-$D38)/7+0.5,0),$L38))),0),0) -> 29 | AK38: =IF($D38>0,IF($AD38<=Y$5,IF(SUM($AF38:AJ38)>0,IF($L38-SUM($AF38:AJ38)>52,52,$L38-SUM($AF38:AJ38)),IF($AD38=Y$5,IF(($D38+($L38*7))>=Y$5,ROUND(($AD38-$D38)/7+0.5,0),$L38))),0),0) -> 0 | AL38: =IF($D38>0,IF($AD38<=Z$5,IF(SUM($AF38:AK38)>0,IF($L38-SUM($AF38:AK38)>52,52,$L38-SUM($AF38:AK38)),IF($AD38=Z$5,IF(($D38+($L38*7))>=Z$5,ROUND(($AD38-$D38)/7+0.5,0),$L38))),0),0) -> 0 | AM38: =IF(W38<>0,IF(D38<>"",G38,0),IF(O38>0,G38,"")) -> 20 | AN38: =IF(W38<>0,IF(H38<>"c",IF(E38<>"",H38,""),""),IF(O38>0,H38,"")) -> 21 | AO38: =IF(AN38<>"",AM38,"") -> 20 | AP38: =IF(AN38<>"",AN38-AO38,"") -> 1 | AQ38: =IF(E38<>0,IF(E38>V$5,IF(E38<=W$5,IF(D38>V$5,ROUND(((D38-E38)/7+AI38+0.4),0),ROUND(((V$5-E38)/7+AI38+0.4),0)),0),52),AI38) -> 45 | AR38: =IF(D38<=V$5,IF(E38>V$5,IF(E38<=W$5,W$5,X$5),0),0) -> 0 | AS38: =IF(AR38>AD38,IF(E38<=W$5,ROUND(((V$5-E38)/7),0)*AE38*G38,-W38),0) -> 0 | AT38: =IF(H38<>" ",IF(H38<>"c",IF(H38<>0,H38-G38,0),-G38),0) -> 1 | AU38: =IF($AD38=T$5,$W38,0) -> 0 | AV38: =IF($AD38=V$5,$W38,0) -> 0 | AW38: =IF($AD38=W$5,$W38,0) -> 306666.67 | AX38: =IF(E38>0,E38,D38) -> 45526 | AY38: =IF(H38<>"C",IF(H38>0,H38,G38),0) -> 21 | AZ38: =W38+S38 -> 311298.25 | BA38: =IF(B38<>"",VLOOKUP(B38,'1 Pricing Length'!A$8:B$50,2),"") -> BUS
B39: MBA | C39: AKR | D39: 45526 | E39: 45526 | F39: =E39+74*7 -> 46044 | G39: 28 | H39: 30 | L39: =IF(B39<>"",IF(D39>0,IF(D39<=V$5,IF(M39>0,M39,VLOOKUP(B39,'1 Pricing Length'!A$8:C$50,3)),VLOOKUP(B39,'1 Pricing Length'!A$8:C$50,3)),0),0) -> 75 | M39: =IF(E39<>"",IF(F39<>"",(F39-E39)/7,0),0) -> 74 | N39: =IF(B39<>"",IF(D39<>0,IF(AD39<Y$5,IF(AD39<X$5,IF(AD39<W$5,IF(AD39<V$5,IF(AD39<U$5,VLOOKUP(B39,'1 Pricing Length'!A$8:I$50,4),VLOOKUP(B39,'1 Pricing Length'!A$8:I$50,5)),VLOOKUP(B39,'1 Pricing Length'!A$8:I$50,6)),VLOOKUP(B39,'1 Pricing Length'!A$8:I$50,7)),VLOOKUP(B39,'1 Pricing Length'!A$8:I$50,8)),0),0),0) -> 25000 | O39: =IF(H39<>"c",IF(H39<>"",IF(G39>0,W39*H39/G39-W39,IF(E39>V$5,IF(F39>W$5,ROUND((W$5-E39)/7,0)*AE39*H39,ROUND((F39-E39)/7,0)*AE39*H39),"enter budget")),0),-W39) -> 30000 | P39: ='3 CY Interim'!P39 -> 0 | Q39: =IF(G39>0,IF(H39<>"C",IF(H39<>"",IF(E39>0,IF(F39>0,IF(M39>0,(W39/(M39/L39)-W39),(O39/(M39/L39)-O39)),0),0),0),0),0) -> 5675.6757 | R39: =IF(H39<>"c",IF(E39>0,IF(AD39=W$5,IF(H39>0,IF(E39>AH$5,(AQ39-AI39)*G39*AE39,(52-AI39)*G39*AE39),0),0),0),0) -> 0 | S39: =SUM(O39:R39) -> 35675.676 | T39: =$G39*$AE39*AF39 -> 0 | U39: =$G39*$AE39*AG39 -> 0 | V39: =$G39*$AE39*AH39 -> 0 | W39: =$G39*$AE39*AI39 -> 420000 | X39: =IF(H39<>"c",$G39*$AE39*AJ39,0) -> 280000 | Y39: =IF(H39<>"c",$G39*$AE39*AK39,0) -> 0 | Z39: =IF(H39<>"c",$G39*$AE39*AL39,0) -> 0 | AA39: =SUM(T39:Z39) -> 700000 | AB39: =G39*AI39/52 -> 24.230769 | AD39: =IF(D39<=X$5,IF(D39<=W$5,IF(D39<=V$5,IF(D39<U$5,IF(D39<T$5,T$5,U$5),V$5),W$5),X$5),Y$5) -> 45838 | AE39: =IF(L39>1,N39/L39,0) -> 333.33333 | AF39: =IF(D39>0,IF($AD39=T$5,IF(E39=0,ROUND(($AD39-$D39)/7+0.5,0),ROUND(($AD39-$E39)/7+0.5,0)),0),0) -> 0 | AG39: =IF($D39>0,IF($AD39<=U$5,IF(SUM($AF39:AF39)>0,IF($L39-SUM($AF39:AF39)>52,52,$L39-SUM($AF39:AF39)),IF($AD39=U$5,IF(($D39+($L39*7))>=U$5,ROUND(($AD39-$D39)/7+0.5,0),$L39))),0),0) -> 0 | AH39: =IF($D39>0,IF($AD39<=V$5,IF(SUM($AF39:AG39)>0,IF($L39-SUM($AF39:AG39)>52,52,$L39-SUM($AF39:AG39)),IF($AD39=V$5,IF(($D39+($L39*7))>=V$5,ROUND(($AD39-$D39)/7+0.5,0),$L39))),0),0) -> 0 | AI39: =IF($D39>0,IF($AD39<=W$5,IF(SUM($AF39:AH39)>0,IF($L39-SUM($AF39:AH39)>52,52,$L39-SUM($AF39:AH39)),IF($AD39=W$5,IF(($D39+($L39*7))>=W$5,ROUND(($AD39-$D39)/7+0.5,0),$L39))),0),0) -> 45 | AJ39: =IF($D39>0,IF($AD39<=X$5,IF(SUM($AF39:AI39)>0,IF($L39-SUM($AF39:AI39)>52,52,$L39-SUM($AF39:AI39)),IF($AD39=X$5,IF(($D39+($L39*7))>=X$5,ROUND(($AD39-$D39)/7+0.5,0),$L39))),0),0) -> 30 | AK39: =IF($D39>0,IF($AD39<=Y$5,IF(SUM($AF39:AJ39)>0,IF($L39-SUM($AF39:AJ39)>52,52,$L39-SUM($AF39:AJ39)),IF($AD39=Y$5,IF(($D39+($L39*7))>=Y$5,ROUND(($AD39-$D39)/7+0.5,0),$L39))),0),0) -> 0 | AL39: =IF($D39>0,IF($AD39<=Z$5,IF(SUM($AF39:AK39)>0,IF($L39-SUM($AF39:AK39)>52,52,$L39-SUM($AF39:AK39)),IF($AD39=Z$5,IF(($D39+($L39*7))>=Z$5,ROUND(($AD39-$D39)/7+0.5,0),$L39))),0),0) -> 0 | AM39: =IF(W39<>0,IF(D39<>"",G39,0),IF(O39>0,G39,"")) -> 28 | AN39: =IF(W39<>0,IF(H39<>"c",IF(E39<>"",H39,""),""),IF(O39>0,H39,"")) -> 30 | AO39: =IF(AN39<>"",AM39,"") -> 28 | AP39: =IF(AN39<>"",AN39-AO39,"") -> 2 | AQ39: =IF(E39<>0,IF(E39>V$5,IF(E39<=W$5,IF(D39>V$5,ROUND(((D39-E39)/7+AI39+0.4),0),ROUND(((V$5-E39)/7+AI39+0.4),0)),0),52),AI39) -> 45 | AR39: =IF(D39<=V$5,IF(E39>V$5,IF(E39<=W$5,W$5,X$5),0),0) -> 0 | AS39: =IF(AR39>AD39,IF(E39<=W$5,ROUND(((V$5-E39)/7),0)*AE39*G39,-W39),0) -> 0 | AT39: =IF(H39<>" ",IF(H39<>"c",IF(H39<>0,H39-G39,0),-G39),0) -> 2 | AU39: =IF($AD39=T$5,$W39,0) -> 0 | AV39: =IF($AD39=V$5,$W39,0) -> 0 | AW39: =IF($AD39=W$5,$W39,0) -> 420000 | AX39: =IF(E39>0,E39,D39) -> 45526 | AY39: =IF(H39<>"C",IF(H39>0,H39,G39),0) -> 30 | AZ39: =W39+S39 -> 455675.68 | BA39: =IF(B39<>"",VLOOKUP(B39,'1 Pricing Length'!A$8:B$50,2),"") -> BUS
B40: REL | C40: CAM | D40: 45666 | E40: 45673 | F40: =E40+61*7 -> 46100 | G40: 28 | H40: 26 | L40: =IF(B40<>"",IF(D40>0,IF(D40<=V$5,IF(M40>0,M40,VLOOKUP(B40,'1 Pricing Length'!A$8:C$50,3)),VLOOKUP(B40,'1 Pricing Length'!A$8:C$50,3)),0),0) -> 60 | M40: =IF(E40<>"",IF(F40<>"",(F40-E40)/7,0),0) -> 61 | N40: =IF(B40<>"",IF(D40<>0,IF(AD40<Y$5,IF(AD40<X$5,IF(AD40<W$5,IF(AD40<V$5,IF(AD40<U$5,VLOOKUP(B40,'1 Pricing Length'!A$8:I$50,4),VLOOKUP(B40,'1 Pricing Length'!A$8:I$50,5)),VLOOKUP(B40,'1 Pricing Length'!A$8:I$50,6)),VLOOKUP(B40,'1 Pricing Length'!A$8:I$50,7)),VLOOKUP(B40,'1 Pricing Length'!A$8:I$50,8)),0),0),0) -> 13000 | O40: =IF(H40<>"c",IF(H40<>"",IF(G40>0,W40*H40/G40-W40,IF(E40>V$5,IF(F40>W$5,ROUND((W$5-E40)/7,0)*AE40*H40,ROUND((F40-E40)/7,0)*AE40*H40),"enter budget")),0),-W40) -> -10833.333 | P40: ='3 CY Interim'!P40 -> 0 | Q40: =IF(G40>0,IF(H40<>"C",IF(H40<>"",IF(E40>0,IF(F40>0,IF(M40>0,(W40/(M40/L40)-W40),(O40/(M40/L40)-O40)),0),0),0),0),0) -> -2486.3388 | R40: =IF(H40<>"c",IF(E40>0,IF(AD40=W$5,IF(H40>0,IF(E40>AH$5,(AQ40-AI40)*G40*AE40,(52-AI40)*G40*AE40),0),0),0),0) -> -6066.6667 | S40: =SUM(O40:R40) -> -19386.339 | T40: =$G40*$AE40*AF40 -> 0 | U40: =$G40*$AE40*AG40 -> 0 | V40: =$G40*$AE40*AH40 -> 0 | W40: =$G40*$AE40*AI40 -> 151666.67 | X40: =IF(H40<>"c",$G40*$AE40*AJ40,0) -> 212333.33 | Y40: =IF(H40<>"c",$G40*$AE40*AK40,0) -> 0 | Z40: =IF(H40<>"c",$G40*$AE40*AL40,0) -> 0 | AA40: =SUM(T40:Z40) -> 364000 | AB40: =G40*AI40/52 -> 13.461538 | AD40: =IF(D40<=X$5,IF(D40<=W$5,IF(D40<=V$5,IF(D40<U$5,IF(D40<T$5,T$5,U$5),V$5),W$5),X$5),Y$5) -> 45838 | AE40: =IF(L40>1,N40/L40,0) -> 216.66667 | AF40: =IF(D40>0,IF($AD40=T$5,IF(E40=0,ROUND(($AD40-$D40)/7+0.5,0),ROUND(($AD40-$E40)/7+0.5,0)),0),0) -> 0 | AG40: =IF($D40>0,IF($AD40<=U$5,IF(SUM($AF40:AF40)>0,IF($L40-SUM($AF40:AF40)>52,52,$L40-SUM($AF40:AF40)),IF($AD40=U$5,IF(($D40+($L40*7))>=U$5,ROUND(($AD40-$D40)/7+0.5,0),$L40))),0),0) -> 0 | AH40: =IF($D40>0,IF($AD40<=V$5,IF(SUM($AF40:AG40)>0,IF($L40-SUM($AF40:AG40)>52,52,$L40-SUM($AF40:AG40)),IF($AD40=V$5,IF(($D40+($L40*7))>=V$5,ROUND(($AD40-$D40)/7+0.5,0),$L40))),0),0) -> 0 | AI40: =IF($D40>0,IF($AD40<=W$5,IF(SUM($AF40:AH40)>0,IF($L40-SUM($AF40:AH40)>52,52,$L40-SUM($AF40:AH40)),IF($AD40=W$5,IF(($D40+($L40*7))>=W$5,ROUND(($AD40-$D40)/7+0.5,0),$L40))),0),0) -> 25 | AJ40: =IF($D40>0,IF($AD40<=X$5,IF(SUM($AF40:AI40)>0,IF($L40-SUM($AF40:AI40)>52,52,$L40-SUM($AF40:AI40)),IF($AD40=X$5,IF(($D40+($L40*7))>=X$5,ROUND(($AD40-$D40)/7+0.5,0),$L40))),0),0) -> 35 | AK40: =IF($D40>0,IF($AD40<=Y$5,IF(SUM($AF40:AJ40)>0,IF($L40-SUM($AF40:AJ40)>52,52,$L40-SUM($AF40:AJ40)),IF($AD40=Y$5,IF(($D40+($L40*7))>=Y$5,ROUND(($AD40-$D40)/7+0.5,0),$L40))),0),0) -> 0 | AL40: =IF($D40>0,IF($AD40<=Z$5,IF(SUM($AF40:AK40)>0,IF($L40-SUM($AF40:AK40)>52,52,$L40-SUM($AF40:AK40)),IF($AD40=Z$5,IF(($D40+($L40*7))>=Z$5,ROUND(($AD40-$D40)/7+0.5,0),$L40))),0),0) -> 0 | AM40: =IF(W40<>0,IF(D40<>"",G40,0),IF(O40>0,G40,"")) -> 28 | AN40: =IF(W40<>0,IF(H40<>"c",IF(E40<>"",H40,""),""),IF(O40>0,H40,"")) -> 26 | AO40: =IF(AN40<>"",AM40,"") -> 28 | AP40: =IF(AN40<>"",AN40-AO40,"") -> -2 | AQ40: =IF(E40<>0,IF(E40>V$5,IF(E40<=W$5,IF(D40>V$5,ROUND(((D40-E40)/7+AI40+0.4),0),ROUND(((V$5-E40)/7+AI40+0.4),0)),0),52),AI40) -> 24 | AR40: =IF(D40<=V$5,IF(E40>V$5,IF(E40<=W$5,W$5,X$5),0),0) -> 0 | AS40: =IF(AR40>AD40,IF(E40<=W$5,ROUND(((V$5-E40)/7),0)*AE40*G40,-W40),0) -> 0 | AT40: =IF(H40<>" ",IF(H40<>"c",IF(H40<>0,H40-G40,0),-G40),0) -> -2 | AU40: =IF($AD40=T$5,$W40,0) -> 0 | AV40: =IF($AD40=V$5,$W40,0) -> 0 | AW40: =IF($AD40=W$5,$W40,0) -> 151666.67 | AX40: =IF(E40>0,E40,D40) -> 45673 | AY40: =IF(H40<>"C",IF(H40>0,H40,G40),0) -> 26 | AZ40: =W40+S40 -> 132280.33 | BA40: =IF(B40<>"",VLOOKUP(B40,'1 Pricing Length'!A$8:B$50,2),"") -> REL
B41: REL | C41: ONL | D41: 45556 | E41: 45563 | F41: =E41+61*7 -> 45990 | G41: 21 | H41: 19 | L41: =IF(B41<>"",IF(D41>0,IF(D41<=V$5,IF(M41>0,M41,VLOOKUP(B41,'1 Pricing Length'!A$8:C$50,3)),VLOOKUP(B41,'1 Pricing Length'!A$8:C$50,3)),0),0) -> 60 | M41: =IF(E41<>"",IF(F41<>"",(F41-E41)/7,0),0) -> 61 | N41: =IF(B41<>"",IF(D41<>0,IF(AD41<Y$5,IF(AD41<X$5,IF(AD41<W$5,IF(AD41<V$5,IF(AD41<U$5,VLOOKUP(B41,'1 Pricing Length'!A$8:I$50,4),VLOOKUP(B41,'1 Pricing Length'!A$8:I$50,5)),VLOOKUP(B41,'1 Pricing Length'!A$8:I$50,6)),VLOOKUP(B41,'1 Pricing Length'!A$8:I$50,7)),VLOOKUP(B41,'1 Pricing Length'!A$8:I$50,8)),0),0),0) -> 13000 | O41: =IF(H41<>"c",IF(H41<>"",IF(G41>0,W41*H41/G41-W41,IF(E41>V$5,IF(F41>W$5,ROUND((W$5-E41)/7,0)*AE41*H41,ROUND((F41-E41)/7,0)*AE41*H41),"enter budget")),0),-W41) -> -17766.667 | P41: ='3 CY Interim'!P41 -> 0 | Q41: =IF(G41>0,IF(H41<>"C",IF(H41<>"",IF(E41>0,IF(F41>0,IF(M41>0,(W41/(M41/L41)-W41),(O41/(M41/L41)-O41)),0),0),0),0),0) -> -3058.1967 | R41: =IF(H41<>"c",IF(E41>0,IF(AD41=W$5,IF(H41>0,IF(E41>AH$5,(AQ41-AI41)*G41*AE41,(52-AI41)*G41*AE41),0),0),0),0) -> -4550 | S41: =SUM(O41:R41) -> -25374.863 | T41: =$G41*$AE41*AF41 -> 0 | U41: =$G41*$AE41*AG41 -> 0 | V41: =$G41*$AE41*AH41 -> 0 | W41: =$G41*$AE41*AI41 -> 186550 | X41: =IF(H41<>"c",$G41*$AE41*AJ41,0) -> 86450 | Y41: =IF(H41<>"c",$G41*$AE41*AK41,0) -> 0 | Z41: =IF(H41<>"c",$G41*$AE41*AL41,0) -> 0 | AA41: =SUM(T41:Z41) -> 273000 | AB41: =G41*AI41/52 -> 16.557692 | AD41: =IF(D41<=X$5,IF(D41<=W$5,IF(D41<=V$5,IF(D41<U$5,IF(D41<T$5,T$5,U$5),V$5),W$5),X$5),Y$5) -> 45838 | AE41: =IF(L41>1,N41/L41,0) -> 216.66667 | AF41: =IF(D41>0,IF($AD41=T$5,IF(E41=0,ROUND(($AD41-$D41)/7+0.5,0),ROUND(($AD41-$E41)/7+0.5,0)),0),0) -> 0 | AG41: =IF($D41>0,IF($AD41<=U$5,IF(SUM($AF41:AF41)>0,IF($L41-SUM($AF41:AF41)>52,52,$L41-SUM($AF41:AF41)),IF($AD41=U$5,IF(($D41+($L41*7))>=U$5,ROUND(($AD41-$D41)/7+0.5,0),$L41))),0),0) -> 0 | AH41: =IF($D41>0,IF($AD41<=V$5,IF(SUM($AF41:AG41)>0,IF($L41-SUM($AF41:AG41)>52,52,$L41-SUM($AF41:AG41)),IF($AD41=V$5,IF(($D41+($L41*7))>=V$5,ROUND(($AD41-$D41)/7+0.5,0),$L41))),0),0) -> 0 | AI41: =IF($D41>0,IF($AD41<=W$5,IF(SUM($AF41:AH41)>0,IF($L41-SUM($AF41:AH41)>52,52,$L41-SUM($AF41:AH41)),IF($AD41=W$5,IF(($D41+($L41*7))>=W$5,ROUND(($AD41-$D41)/7+0.5,0),$L41))),0),0) -> 41 | AJ41: =IF($D41>0,IF($AD41<=X$5,IF(SUM($AF41:AI41)>0,IF($L41-SUM($AF41:AI41)>52,52,$L41-SUM($AF41:AI41)),IF($AD41=X$5,IF(($D41+($L41*7))>=X$5,ROUND(($AD41-$D41)/7+0.5,0),$L41))),0),0) -> 19 | AK41: =IF($D41>0,IF($AD41<=Y$5,IF(SUM($AF41:AJ41)>0,IF($L41-SUM($AF41:AJ41)>52,52,$L41-SUM($AF41:AJ41)),IF($AD41=Y$5,IF(($D41+($L41*7))>=Y$5,ROUND(($AD41-$D41)/7+0.5,0),$L41))),0),0) -> 0 | AL41: =IF($D41>0,IF($AD41<=Z$5,IF(SUM($AF41:AK41)>0,IF($L41-SUM($AF41:AK41)>52,52,$L41-SUM($AF41:AK41)),IF($AD41=Z$5,IF(($D41+($L41*7))>=Z$5,ROUND(($AD41-$D41)/7+0.5,0),$L41))),0),0) -> 0 | AM41: =IF(W41<>0,IF(D41<>"",G41,0),IF(O41>0,G41,"")) -> 21 | AN41: =IF(W41<>0,IF(H41<>"c",IF(E41<>"",H41,""),""),IF(O41>0,H41,"")) -> 19 | AO41: =IF(AN41<>"",AM41,"") -> 21 | AP41: =IF(AN41<>"",AN41-AO41,"") -> -2 | AQ41: =IF(E41<>0,IF(E41>V$5,IF(E41<=W$5,IF(D41>V$5,ROUND(((D41-E41)/7+AI41+0.4),0),ROUND(((V$5-E41)/7+AI41+0.4),0)),0),52),AI41) -> 40 | AR41: =IF(D41<=V$5,IF(E41>V$5,IF(E41<=W$5,W$5,X$5),0),0) -> 0 | AS41: =IF(AR41>AD41,IF(E41<=W$5,ROUND(((V$5-E41)/7),0)*AE41*G41,-W41),0) -> 0 | AT41: =IF(H41<>" ",IF(H41<>"c",IF(H41<>0,H41-G41,0),-G41),0) -> -2 | AU41: =IF($AD41=T$5,$W41,0) -> 0 | AV41: =IF($AD41=V$5,$W41,0) -> 0 | AW41: =IF($AD41=W$5,$W41,0) -> 186550 | AX41: =IF(E41>0,E41,D41) -> 45563 | AY41: =IF(H41<>"C",IF(H41>0,H41,G41),0) -> 19 | AZ41: =W41+S41 -> 161175.14 | BA41: =IF(B41<>"",VLOOKUP(B41,'1 Pricing Length'!A$8:B$50,2),"") -> REL
B42: REL | C42: CLV | D42: 45301 | E42: 45301 | F42: 45714 | G42: 15 | H42: 16 | L42: =IF(B42<>"",IF(D42>0,IF(D42<=V$5,IF(M42>0,M42,VLOOKUP(B42,'1 Pricing Length'!A$8:C$50,3)),VLOOKUP(B42,'1 Pricing Length'!A$8:C$50,3)),0),0) -> 59 | M42: =IF(E42<>"",IF(F42<>"",(F42-E42)/7,0),0) -> 59 | N42: =IF(B42<>"",IF(D42<>0,IF(AD42<Y$5,IF(AD42<X$5,IF(AD42<W$5,IF(AD42<V$5,IF(AD42<U$5,VLOOKUP(B42,'1 Pricing Length'!A$8:I$50,4),VLOOKUP(B42,'1 Pricing Length'!A$8:I$50,5)),VLOOKUP(B42,'1 Pricing Length'!A$8:I$50,6)),VLOOKUP(B42,'1 Pricing Length'!A$8:I$50,7)),VLOOKUP(B42,'1 Pricing Length'!A$8:I$50,8)),0),0),0) -> 12500 | O42: =IF(H42<>"c",IF(H42<>"",IF(G42>0,W42*H42/G42-W42,IF(E42>V$5,IF(F42>W$5,ROUND((W$5-E42)/7,0)*AE42*H42,ROUND((F42-E42)/7,0)*AE42*H42),"enter budget")),0),-W42) -> 7203.3898 | P42: ='3 CY Interim'!P42 -> -53874.092 | Q42: =IF(G42>0,IF(H42<>"C",IF(H42<>"",IF(E42>0,IF(F42>0,IF(M42>0,(W42/(M42/L42)-W42),(O42/(M42/L42)-O42)),0),0),0),0),0) -> 0 | R42: =IF(H42<>"c",IF(E42>0,IF(AD42=W$5,IF(H42>0,IF(E42>AH$5,(AQ42-AI42)*G42*AE42,(52-AI42)*G42*AE42),0),0),0),0) -> 0 | S42: =SUM(O42:R42) -> -46670.702 | T42: =$G42*$AE42*AF42 -> 0 | U42: =$G42*$AE42*AG42 -> 0 | V42: =$G42*$AE42*AH42 -> 79449.153 | W42: =$G42*$AE42*AI42 -> 108050.85 | X42: =IF(H42<>"c",$G42*$AE42*AJ42,0) -> 0 | Y42: =IF(H42<>"c",$G42*$AE42*AK42,0) -> 0 | Z42: =IF(H42<>"c",$G42*$AE42*AL42,0) -> 0 | AA42: =SUM(T42:Z42) -> 187500 | AB42: =G42*AI42/52 -> 9.8076923 | AD42: =IF(D42<=X$5,IF(D42<=W$5,IF(D42<=V$5,IF(D42<U$5,IF(D42<T$5,T$5,U$5),V$5),W$5),X$5),Y$5) -> 45473 | AE42: =IF(L42>1,N42/L42,0) -> 211.86441 | AF42: =IF(D42>0,IF($AD42=T$5,IF(E42=0,ROUND(($AD42-$D42)/7+0.5,0),ROUND(($AD42-$E42)/7+0.5,0)),0),0) -> 0 | AG42: =IF($D42>0,IF($AD42<=U$5,IF(SUM($AF42:AF42)>0,IF($L42-SUM($AF42:AF42)>52,52,$L42-SUM($AF42:AF42)),IF($AD42=U$5,IF(($D42+($L42*7))>=U$5,ROUND(($AD42-$D42)/7+0.5,0),$L42))),0),0) -> 0 | AH42: =IF($D42>0,IF($AD42<=V$5,IF(SUM($AF42:AG42)>0,IF($L42-SUM($AF42:AG42)>52,52,$L42-SUM($AF42:AG42)),IF($AD42=V$5,IF(($D42+($L42*7))>=V$5,ROUND(($AD42-$D42)/7+0.5,0),$L42))),0),0) -> 25 | AI42: =IF($D42>0,IF($AD42<=W$5,IF(SUM($AF42:AH42)>0,IF($L42-SUM($AF42:AH42)>52,52,$L42-SUM($AF42:AH42)),IF($AD42=W$5,IF(($D42+($L42*7))>=W$5,ROUND(($AD42-$D42)/7+0.5,0),$L42))),0),0) -> 34 | AJ42: =IF($D42>0,IF($AD42<=X$5,IF(SUM($AF42:AI42)>0,IF($L42-SUM($AF42:AI42)>52,52,$L42-SUM($AF42:AI42)),IF($AD42=X$5,IF(($D42+($L42*7))>=X$5,ROUND(($AD42-$D42)/7+0.5,0),$L42))),0),0) -> 0 | AK42: =IF($D42>0,IF($AD42<=Y$5,IF(SUM($AF42:AJ42)>0,IF($L42-SUM($AF42:AJ42)>52,52,$L42-SUM($AF42:AJ42)),IF($AD42=Y$5,IF(($D42+($L42*7))>=Y$5,ROUND(($AD42-$D42)/7+0.5,0),$L42))),0),0) -> 0 | AL42: =IF($D42>0,IF($AD42<=Z$5,IF(SUM($AF42:AK42)>0,IF($L42-SUM($AF42:AK42)>52,52,$L42-SUM($AF42:AK42)),IF($AD42=Z$5,IF(($D42+($L42*7))>=Z$5,ROUND(($AD42-$D42)/7+0.5,0),$L42))),0),0) -> 0 | AM42: =IF(W42<>0,IF(D42<>"",G42,0),IF(O42>0,G42,"")) -> 15 | AN42: =IF(W42<>0,IF(H42<>"c",IF(E42<>"",H42,""),""),IF(O42>0,H42,"")) -> 16 | AO42: =IF(AN42<>"",AM42,"") -> 15 | AP42: =IF(AN42<>"",AN42-AO42,"") -> 1 | AQ42: =IF(E42<>0,IF(E42>V$5,IF(E42<=W$5,IF(D42>V$5,ROUND(((D42-E42)/7+AI42+0.4),0),ROUND(((V$5-E42)/7+AI42+0.4),0)),0),52),AI42) -> 52 | AR42: =IF(D42<=V$5,IF(E42>V$5,IF(E42<=W$5,W$5,X$5),0),0) -> 0 | AS42: =IF(AR42>AD42,IF(E42<=W$5,ROUND(((V$5-E42)/7),0)*AE42*G42,-W42),0) -> 0 | AT42: =IF(H42<>" ",IF(H42<>"c",IF(H42<>0,H42-G42,0),-G42),0) -> 1 | AU42: =IF($AD42=T$5,$W42,0) -> 0 | AV42: =IF($AD42=V$5,$W42,0) -> 108050.85 | AW42: =IF($AD42=W$5,$W42,0) -> 0 | AX42: =IF(E42>0,E42,D42) -> 45301 | AY42: =IF(H42<>"C",IF(H42>0,H42,G42),0) -> 16 | AZ42: =W42+S42 -> 61380.145 | BA42: =IF(B42<>"",VLOOKUP(B42,'1 Pricing Length'!A$8:B$50,2),"") -> REL
B43: REL | C43: DET | D43: 45666 | E43: 45680 | F43: =E43+60*7 -> 46100 | G43: 12 | H43: 11 | L43: =IF(B43<>"",IF(D43>0,IF(D43<=V$5,IF(M43>0,M43,VLOOKUP(B43,'1 Pricing Length'!A$8:C$50,3)),VLOOKUP(B43,'1 Pricing Length'!A$8:C$50,3)),0),0) -> 60 | M43: =IF(E43<>"",IF(F43<>"",(F43-E43)/7,0),0) -> 60 | N43: =IF(B43<>"",IF(D43<>0,IF(AD43<Y$5,IF(AD43<X$5,IF(AD43<W$5,IF(AD43<V$5,IF(AD43<U$5,VLOOKUP(B43,'1 Pricing Length'!A$8:I$50,4),VLOOKUP(B43,'1 Pricing Length'!A$8:I$50,5)),VLOOKUP(B43,'1 Pricing Length'!A$8:I$50,6)),VLOOKUP(B43,'1 Pricing Length'!A$8:I$50,7)),VLOOKUP(B43,'1 Pricing Length'!A$8:I$50,8)),0),0),0) -> 13000 | O43: =IF(H43<>"c",IF(H43<>"",IF(G43>0,W43*H43/G43-W43,IF(E43>V$5,IF(F43>W$5,ROUND((W$5-E43)/7,0)*AE43*H43,ROUND((F43-E43)/7,0)*AE43*H43),"enter budget")),0),-W43) -> -5416.6667 | P43: ='3 CY Interim'!P43 -> 0 | Q43: =IF(G43>0,IF(H43<>"C",IF(H43<>"",IF(E43>0,IF(F43>0,IF(M43>0,(W43/(M43/L43)-W43),(O43/(M43/L43)-O43)),0),0),0),0),0) -> 0 | R43: =IF(H43<>"c",IF(E43>0,IF(AD43=W$5,IF(H43>0,IF(E43>AH$5,(AQ43-AI43)*G43*AE43,(52-AI43)*G43*AE43),0),0),0),0) -> -5200 | S43: =SUM(O43:R43) -> -10616.667 | T43: =$G43*$AE43*AF43 -> 0 | U43: =$G43*$AE43*AG43 -> 0 | V43: =$G43*$AE43*AH43 -> 0 | W43: =$G43*$AE43*AI43 -> 65000 | X43: =IF(H43<>"c",$G43*$AE43*AJ43,0) -> 91000 | Y43: =IF(H43<>"c",$G43*$AE43*AK43,0) -> 0 | Z43: =IF(H43<>"c",$G43*$AE43*AL43,0) -> 0 | AA43: =SUM(T43:Z43) -> 156000 | AB43: =G43*AI43/52 -> 5.7692308 | AD43: =IF(D43<=X$5,IF(D43<=W$5,IF(D43<=V$5,IF(D43<U$5,IF(D43<T$5,T$5,U$5),V$5),W$5),X$5),Y$5) -> 45838 | AE43: =IF(L43>1,N43/L43,0) -> 216.66667 | AF43: =IF(D43>0,IF($AD43=T$5,IF(E43=0,ROUND(($AD43-$D43)/7+0.5,0),ROUND(($AD43-$E43)/7+0.5,0)),0),0) -> 0 | AG43: =IF($D43>0,IF($AD43<=U$5,IF(SUM($AF43:AF43)>0,IF($L43-SUM($AF43:AF43)>52,52,$L43-SUM($AF43:AF43)),IF($AD43=U$5,IF(($D43+($L43*7))>=U$5,ROUND(($AD43-$D43)/7+0.5,0),$L43))),0),0) -> 0 | AH43: =IF($D43>0,IF($AD43<=V$5,IF(SUM($AF43:AG43)>0,IF($L43-SUM($AF43:AG43)>52,52,$L43-SUM($AF43:AG43)),IF($AD43=V$5,IF(($D43+($L43*7))>=V$5,ROUND(($AD43-$D43)/7+0.5,0),$L43))),0),0) -> 0 | AI43: =IF($D43>0,IF($AD43<=W$5,IF(SUM($AF43:AH43)>0,IF($L43-SUM($AF43:AH43)>52,52,$L43-SUM($AF43:AH43)),IF($AD43=W$5,IF(($D43+($L43*7))>=W$5,ROUND(($AD43-$D43)/7+0.5,0),$L43))),0),0) -> 25 | AJ43: =IF($D43>0,IF($AD43<=X$5,IF(SUM($AF43:AI43)>0,IF($L43-SUM($AF43:AI43)>52,52,$L43-SUM($AF43:AI43)),IF($AD43=X$5,IF(($D43+($L43*7))>=X$5,ROUND(($AD43-$D43)/7+0.5,0),$L43))),0),0) -> 35 | AK43: =IF($D43>0,IF($AD43<=Y$5,IF(SUM($AF43:AJ43)>0,IF($L43-SUM($AF43:AJ43)>52,52,$L43-SUM($AF43:AJ43)),IF($AD43=Y$5,IF(($D43+($L43*7))>=Y$5,ROUND(($AD43-$D43)/7+0.5,0),$L43))),0),0) -> 0 | AL43: =IF($D43>0,IF($AD43<=Z$5,IF(SUM($AF43:AK43)>0,IF($L43-SUM($AF43:AK43)>52,52,$L43-SUM($AF43:AK43)),IF($AD43=Z$5,IF(($D43+($L43*7))>=Z$5,ROUND(($AD43-$D43)/7+0.5,0),$L43))),0),0) -> 0 | AM43: =IF(W43<>0,IF(D43<>"",G43,0),IF(O43>0,G43,"")) -> 12 | AN43: =IF(W43<>0,IF(H43<>"c",IF(E43<>"",H43,""),""),IF(O43>0,H43,"")) -> 11 | AO43: =IF(AN43<>"",AM43,"") -> 12 | AP43: =IF(AN43<>"",AN43-AO43,"") -> -1 | AQ43: =IF(E43<>0,IF(E43>V$5,IF(E43<=W$5,IF(D43>V$5,ROUND(((D43-E43)/7+AI43+0.4),0),ROUND(((V$5-E43)/7+AI43+0.4),0)),0),52),AI43) -> 23 | AR43: =IF(D43<=V$5,IF(E43>V$5,IF(E43<=W$5,W$5,X$5),0),0) -> 0 | AS43: =IF(AR43>AD43,IF(E43<=W$5,ROUND(((V$5-E43)/7),0)*AE43*G43,-W43),0) -> 0 | AT43: =IF(H43<>" ",IF(H43<>"c",IF(H43<>0,H43-G43,0),-G43),0) -> -1 | AU43: =IF($AD43=T$5,$W43,0) -> 0 | AV43: =IF($AD43=V$5,$W43,0) -> 0 | AW43: =IF($AD43=W$5,$W43,0) -> 65000 | AX43: =IF(E43>0,E43,D43) -> 45680 | AY43: =IF(H43<>"C",IF(H43>0,H43,G43),0) -> 11 | AZ43: =W43+S43 -> 54383.333 | BA43: =IF(B43<>"",VLOOKUP(B43,'1 Pricing Length'!A$8:B$50,2),"") -> REL
B44: REL | C44: TOL | D44: 45057 | E44: 45057 | F44: =E44+61*7 -> 45484 | G44: 24 | H44: 22 | L44: =IF(B44<>"",IF(D44>0,IF(D44<=V$5,IF(M44>0,M44,VLOOKUP(B44,'1 Pricing Length'!A$8:C$50,3)),VLOOKUP(B44,'1 Pricing Length'!A$8:C$50,3)),0),0) -> 61 | M44: =IF(E44<>"",IF(F44<>"",(F44-E44)/7,0),0) -> 61 | N44: =IF(B44<>"",IF(D44<>0,IF(AD44<Y$5,IF(AD44<X$5,IF(AD44<W$5,IF(AD44<V$5,IF(AD44<U$5,VLOOKUP(B44,'1 Pricing Length'!A$8:I$50,4),VLOOKUP(B44,'1 Pricing Length'!A$8:I$50,5)),VLOOKUP(B44,'1 Pricing Length'!A$8:I$50,6)),VLOOKUP(B44,'1 Pricing Length'!A$8:I$50,7)),VLOOKUP(B44,'1 Pricing Length'!A$8:I$50,8)),0),0),0) -> 12000 | O44: =IF(H44<>"c",IF(H44<>"",IF(G44>0,W44*H44/G44-W44,IF(E44>V$5,IF(F44>W$5,ROUND((W$5-E44)/7,0)*AE44*H44,ROUND((F44-E44)/7,0)*AE44*H44),"enter budget")),0),-W44) -> -393.44262 | P44: ='3 CY Interim'!P44 -> 0 | Q44: =IF(G44>0,IF(H44<>"C",IF(H44<>"",IF(E44>0,IF(F44>0,IF(M44>0,(W44/(M44/L44)-W44),(O44/(M44/L44)-O44)),0),0),0),0),0) -> 0 | R44: =IF(H44<>"c",IF(E44>0,IF(AD44=W$5,IF(H44>0,IF(E44>AH$5,(AQ44-AI44)*G44*AE44,(52-AI44)*G44*AE44),0),0),0),0) -> 0 | S44: =SUM(O44:R44) -> -393.44262 | T44: =$G44*$AE44*AF44 -> 0 | U44: =$G44*$AE44*AG44 -> 37770.492 | V44: =$G44*$AE44*AH44 -> 245508.2 | W44: =$G44*$AE44*AI44 -> 4721.3115 | X44: =IF(H44<>"c",$G44*$AE44*AJ44,0) -> 0 | Y44: =IF(H44<>"c",$G44*$AE44*AK44,0) -> 0 | Z44: =IF(H44<>"c",$G44*$AE44*AL44,0) -> 0 | AA44: =SUM(T44:Z44) -> 288000 | AB44: =G44*AI44/52 -> 0.46153846 | AD44: =IF(D44<=X$5,IF(D44<=W$5,IF(D44<=V$5,IF(D44<U$5,IF(D44<T$5,T$5,U$5),V$5),W$5),X$5),Y$5) -> 45107 | AE44: =IF(L44>1,N44/L44,0) -> 196.72131 | AF44: =IF(D44>0,IF($AD44=T$5,IF(E44=0,ROUND(($AD44-$D44)/7+0.5,0),ROUND(($AD44-$E44)/7+0.5,0)),0),0) -> 0 | AG44: =IF($D44>0,IF($AD44<=U$5,IF(SUM($AF44:AF44)>0,IF($L44-SUM($AF44:AF44)>52,52,$L44-SUM($AF44:AF44)),IF($AD44=U$5,IF(($D44+($L44*7))>=U$5,ROUND(($AD44-$D44)/7+0.5,0),$L44))),0),0) -> 8 | AH44: =IF($D44>0,IF($AD44<=V$5,IF(SUM($AF44:AG44)>0,IF($L44-SUM($AF44:AG44)>52,52,$L44-SUM($AF44:AG44)),IF($AD44=V$5,IF(($D44+($L44*7))>=V$5,ROUND(($AD44-$D44)/7+0.5,0),$L44))),0),0) -> 52 | AI44: =IF($D44>0,IF($AD44<=W$5,IF(SUM($AF44:AH44)>0,IF($L44-SUM($AF44:AH44)>52,52,$L44-SUM($AF44:AH44)),IF($AD44=W$5,IF(($D44+($L44*7))>=W$5,ROUND(($AD44-$D44)/7+0.5,0),$L44))),0),0) -> 1 | AJ44: =IF($D44>0,IF($AD44<=X$5,IF(SUM($AF44:AI44)>0,IF($L44-SUM($AF44:AI44)>52,52,$L44-SUM($AF44:AI44)),IF($AD44=X$5,IF(($D44+($L44*7))>=X$5,ROUND(($AD44-$D44)/7+0.5,0),$L44))),0),0) -> 0 | AK44: =IF($D44>0,IF($AD44<=Y$5,IF(SUM($AF44:AJ44)>0,IF($L44-SUM($AF44:AJ44)>52,52,$L44-SUM($AF44:AJ44)),IF($AD44=Y$5,IF(($D44+($L44*7))>=Y$5,ROUND(($AD44-$D44)/7+0.5,0),$L44))),0),0) -> 0 | AL44: =IF($D44>0,IF($AD44<=Z$5,IF(SUM($AF44:AK44)>0,IF($L44-SUM($AF44:AK44)>52,52,$L44-SUM($AF44:AK44)),IF($AD44=Z$5,IF(($D44+($L44*7))>=Z$5,ROUND(($AD44-$D44)/7+0.5,0),$L44))),0),0) -> 0 | AM44: =IF(W44<>0,IF(D44<>"",G44,0),IF(O44>0,G44,"")) -> 24 | AN44: =IF(W44<>0,IF(H44<>"c",IF(E44<>"",H44,""),""),IF(O44>0,H44,"")) -> 22 | AO44: =IF(AN44<>"",AM44,"") -> 24 | AP44: =IF(AN44<>"",AN44-AO44,"") -> -2 | AQ44: =IF(E44<>0,IF(E44>V$5,IF(E44<=W$5,IF(D44>V$5,ROUND(((D44-E44)/7+AI44+0.4),0),ROUND(((V$5-E44)/7+AI44+0.4),0)),0),52),AI44) -> 52 | AR44: =IF(D44<=V$5,IF(E44>V$5,IF(E44<=W$5,W$5,X$5),0),0) -> 0 | AS44: =IF(AR44>AD44,IF(E44<=W$5,ROUND(((V$5-E44)/7),0)*AE44*G44,-W44),0) -> 0 | AT44: =IF(H44<>" ",IF(H44<>"c",IF(H44<>0,H44-G44,0),-G44),0) -> -2 | AU44: =IF($AD44=T$5,$W44,0) -> 0 | AV44: =IF($AD44=V$5,$W44,0) -> 0 | AW44: =IF($AD44=W$5,$W44,0) -> 0 | AX44: =IF(E44>0,E44,D44) -> 45057 | AY44: =IF(H44<>"C",IF(H44>0,H44,G44),0) -> 22 | AZ44: =W44+S44 -> 4327.8689 | BA44: =IF(B44<>"",VLOOKUP(B44,'1 Pricing Length'!A$8:B$50,2),"") -> REL
B45: REL | C45: AKR | D45: 45422 | E45: 45422 | F45: =E45+60*7 -> 45842 | G45: 21 | H45: 18 | L45: =IF(B45<>"",IF(D45>0,IF(D45<=V$5,IF(M45>0,M45,VLOOKUP(B45,'1 Pricing Length'!A$8:C$50,3)),VLOOKUP(B45,'1 Pricing Length'!A$8:C$50,3)),0),0) -> 60 | M45: =IF(E45<>"",IF(F45<>"",(F45-E45)/7,0),0) -> 60 | N45: =IF(B45<>"",IF(D45<>0,IF(AD45<Y$5,IF(AD45<X$5,IF(AD45<W$5,IF(AD45<V$5,IF(AD45<U$5,VLOOKUP(B45,'1 Pricing Length'!A$8:I$50,4),VLOOKUP(B45,'1 Pricing Length'!A$8:I$50,5)),VLOOKUP(B45,'1 Pricing Length'!A$8:I$50,6)),VLOOKUP(B45,'1 Pricing Length'!A$8:I$50,7)),VLOOKUP(B45,'1 Pricing Length'!A$8:I$50,8)),0),0),0) -> 12500 | O45: =IF(H45<>"c",IF(H45<>"",IF(G45>0,W45*H45/G45-W45,IF(E45>V$5,IF(F45>W$5,ROUND((W$5-E45)/7,0)*AE45*H45,ROUND((F45-E45)/7,0)*AE45*H45),"enter budget")),0),-W45) -> -32500 | P45: ='3 CY Interim'!P45 -> 251666.67 | Q45: =IF(G45>0,IF(H45<>"C",IF(H45<>"",IF(E45>0,IF(F45>0,IF(M45>0,(W45/(M45/L45)-W45),(O45/(M45/L45)-O45)),0),0),0),0),0) -> 0 | R45: =IF(H45<>"c",IF(E45>0,IF(AD45=W$5,IF(H45>0,IF(E45>AH$5,(AQ45-AI45)*G45*AE45,(52-AI45)*G45*AE45),0),0),0),0) -> 0 | S45: =SUM(O45:R45) -> 219166.67 | T45: =$G45*$AE45*AF45 -> 0 | U45: =$G45*$AE45*AG45 -> 0 | V45: =$G45*$AE45*AH45 -> 35000 | W45: =$G45*$AE45*AI45 -> 227500 | X45: =IF(H45<>"c",$G45*$AE45*AJ45,0) -> 0 | Y45: =IF(H45<>"c",$G45*$AE45*AK45,0) -> 0 | Z45: =IF(H45<>"c",$G45*$AE45*AL45,0) -> 0 | AA45: =SUM(T45:Z45) -> 262500 | AB45: =G45*AI45/52 -> 21 | AD45: =IF(D45<=X$5,IF(D45<=W$5,IF(D45<=V$5,IF(D45<U$5,IF(D45<T$5,T$5,U$5),V$5),W$5),X$5),Y$5) -> 45473 | AE45: =IF(L45>1,N45/L45,0) -> 208.33333 | AF45: =IF(D45>0,IF($AD45=T$5,IF(E45=0,ROUND(($AD45-$D45)/7+0.5,0),ROUND(($AD45-$E45)/7+0.5,0)),0),0) -> 0 | AG45: =IF($D45>0,IF($AD45<=U$5,IF(SUM($AF45:AF45)>0,IF($L45-SUM($AF45:AF45)>52,52,$L45-SUM($AF45:AF45)),IF($AD45=U$5,IF(($D45+($L45*7))>=U$5,ROUND(($AD45-$D45)/7+0.5,0),$L45))),0),0) -> 0 | AH45: =IF($D45>0,IF($AD45<=V$5,IF(SUM($AF45:AG45)>0,IF($L45-SUM($AF45:AG45)>52,52,$L45-SUM($AF45:AG45)),IF($AD45=V$5,IF(($D45+($L45*7))>=V$5,ROUND(($AD45-$D45)/7+0.5,0),$L45))),0),0) -> 8 | AI45: =IF($D45>0,IF($AD45<=W$5,IF(SUM($AF45:AH45)>0,IF($L45-SUM($AF45:AH45)>52,52,$L45-SUM($AF45:AH45)),IF($AD45=W$5,IF(($D45+($L45*7))>=W$5,ROUND(($AD45-$D45)/7+0.5,0),$L45))),0),0) -> 52 | AJ45: =IF($D45>0,IF($AD45<=X$5,IF(SUM($AF45:AI45)>0,IF($L45-SUM($AF45:AI45)>52,52,$L45-SUM($AF45:AI45)),IF($AD45=X$5,IF(($D45+($L45*7))>=X$5,ROUND(($AD45-$D45)/7+0.5,0),$L45))),0),0) -> 0 | AK45: =IF($D45>0,IF($AD45<=Y$5,IF(SUM($AF45:AJ45)>0,IF($L45-SUM($AF45:AJ45)>52,52,$L45-SUM($AF45:AJ45)),IF($AD45=Y$5,IF(($D45+($L45*7))>=Y$5,ROUND(($AD45-$D45)/7+0.5,0),$L45))),0),0) -> 0 | AL45: =IF($D45>0,IF($AD45<=Z$5,IF(SUM($AF45:AK45)>0,IF($L45-SUM($AF45:AK45)>52,52,$L45-SUM($AF45:AK45)),IF($AD45=Z$5,IF(($D45+($L45*7))>=Z$5,ROUND(($AD45-$D45)/7+0.5,0),$L45))),0),0) -> 0 | AM45: =IF(W45<>0,IF(D45<>"",G45,0),IF(O45>0,G45,"")) -> 21 | AN45: =IF(W45<>0,IF(H45<>"c",IF(E45<>"",H45,""),""),IF(O45>0,H45,"")) -> 18 | AO45: =IF(AN45<>"",AM45,"") -> 21 | AP45: =IF(AN45<>"",AN45-AO45,"") -> -3 | AQ45: =IF(E45<>0,IF(E45>V$5,IF(E45<=W$5,IF(D45>V$5,ROUND(((D45-E45)/7+AI45+0.4),0),ROUND(((V$5-E45)/7+AI45+0.4),0)),0),52),AI45) -> 52 | AR45: =IF(D45<=V$5,IF(E45>V$5,IF(E45<=W$5,W$5,X$5),0),0) -> 0 | AS45: =IF(AR45>AD45,IF(E45<=W$5,ROUND(((V$5-E45)/7),0)*AE45*G45,-W45),0) -> 0 | AT45: =IF(H45<>" ",IF(H45<>"c",IF(H45<>0,H45-G45,0),-G45),0) -> -3 | AU45: =IF($AD45=T$5,$W45,0) -> 0 | AV45: =IF($AD45=V$5,$W45,0) -> 227500 | AW45: =IF($AD45=W$5,$W45,0) -> 0 | AX45: =IF(E45>0,E45,D45) -> 45422 | AY45: =IF(H45<>"C",IF(H45>0,H45,G45),0) -> 18 | AZ45: =W45+S45 -> 446666.67 | BA45: =IF(B45<>"",VLOOKUP(B45,'1 Pricing Length'!A$8:B$50,2),"") -> REL
L46: =IF(B46<>"",IF(D46>0,IF(D46<=V$5,IF(M46>0,M46,VLOOKUP(B46,'1 Pricing Length'!A$8:C$50,3)),VLOOKUP(B46,'1 Pricing Length'!A$8:C$50,3)),0),0) -> 0 | M46: =IF(E46<>"",IF(F46<>"",(F46-E46)/7,0),0) -> 0 | N46: =IF(B46<>"",IF(D46<>0,IF(AD46<Y$5,IF(AD46<X$5,IF(AD46<W$5,IF(AD46<V$5,IF(AD46<U$5,VLOOKUP(B46,'1 Pricing Length'!A$8:I$50,4),VLOOKUP(B46,'1 Pricing Length'!A$8:I$50,5)),VLOOKUP(B46,'1 Pricing Length'!A$8:I$50,6)),VLOOKUP(B46,'1 Pricing Length'!A$8:I$50,7)),VLOOKUP(B46,'1 Pricing Length'!A$8:I$50,8)),0),0),0) -> 0 | O46: =IF(H46<>"c",IF(H46<>"",IF(G46>0,W46*H46/G46-W46,IF(E46>V$5,IF(F46>W$5,ROUND((W$5-E46)/7,0)*AE46*H46,ROUND((F46-E46)/7,0)*AE46*H46),"enter budget")),0),-W46) -> 0 | P46: ='3 CY Interim'!P46 -> 0 | Q46: =IF(G46>0,IF(H46<>"C",IF(H46<>"",IF(E46>0,IF(F46>0,IF(M46>0,(W46/(M46/L46)-W46),(O46/(M46/L46)-O46)),0),0),0),0),0) -> 0 | R46: =IF(H46<>"c",IF(E46>0,IF(AD46=W$5,IF(H46>0,IF(E46>AH$5,(AQ46-AI46)*G46*AE46,(52-AI46)*G46*AE46),0),0),0),0) -> 0 | S46: =SUM(O46:R46) -> 0 | T46: =$G46*$AE46*AF46 -> 0 | U46: =$G46*$AE46*AG46 -> 0 | V46: =$G46*$AE46*AH46 -> 0 | W46: =$G46*$AE46*AI46 -> 0 | X46: =IF(H46<>"c",$G46*$AE46*AJ46,0) -> 0 | Y46: =IF(H46<>"c",$G46*$AE46*AK46,0) -> 0 | Z46: =IF(H46<>"c",$G46*$AE46*AL46,0) -> 0 | AA46: =SUM(T46:Z46) -> 0 | AB46: =G46*AI46/52 -> 0 | AD46: =IF(D46<=X$5,IF(D46<=W$5,IF(D46<=V$5,IF(D46<U$5,IF(D46<T$5,T$5,U$5),V$5),W$5),X$5),Y$5) -> 44742 | AE46: =IF(L46>1,N46/L46,0) -> 0 | AF46: =IF(D46>0,IF($AD46=T$5,IF(E46=0,ROUND(($AD46-$D46)/7+0.5,0),ROUND(($AD46-$E46)/7+0.5,0)),0),0) -> 0 | AG46: =IF($D46>0,IF($AD46<=U$5,IF(SUM($AF46:AF46)>0,IF($L46-SUM($AF46:AF46)>52,52,$L46-SUM($AF46:AF46)),IF($AD46=U$5,IF(($D46+($L46*7))>=U$5,ROUND(($AD46-$D46)/7+0.5,0),$L46))),0),0) -> 0 | AH46: =IF($D46>0,IF($AD46<=V$5,IF(SUM($AF46:AG46)>0,IF($L46-SUM($AF46:AG46)>52,52,$L46-SUM($AF46:AG46)),IF($AD46=V$5,IF(($D46+($L46*7))>=V$5,ROUND(($AD46-$D46)/7+0.5,0),$L46))),0),0) -> 0 | AI46: =IF($D46>0,IF($AD46<=W$5,IF(SUM($AF46:AH46)>0,IF($L46-SUM($AF46:AH46)>52,52,$L46-SUM($AF46:AH46)),IF($AD46=W$5,IF(($D46+($L46*7))>=W$5,ROUND(($AD46-$D46)/7+0.5,0),$L46))),0),0) -> 0 | AJ46: =IF($D46>0,IF($AD46<=X$5,IF(SUM($AF46:AI46)>0,IF($L46-SUM($AF46:AI46)>52,52,$L46-SUM($AF46:AI46)),IF($AD46=X$5,IF(($D46+($L46*7))>=X$5,ROUND(($AD46-$D46)/7+0.5,0),$L46))),0),0) -> 0 | AK46: =IF($D46>0,IF($AD46<=Y$5,IF(SUM($AF46:AJ46)>0,IF($L46-SUM($AF46:AJ46)>52,52,$L46-SUM($AF46:AJ46)),IF($AD46=Y$5,IF(($D46+($L46*7))>=Y$5,ROUND(($AD46-$D46)/7+0.5,0),$L46))),0),0) -> 0 | AL46: =IF($D46>0,IF($AD46<=Z$5,IF(SUM($AF46:AK46)>0,IF($L46-SUM($AF46:AK46)>52,52,$L46-SUM($AF46:AK46)),IF($AD46=Z$5,IF(($D46+($L46*7))>=Z$5,ROUND(($AD46-$D46)/7+0.5,0),$L46))),0),0) -> 0 | AM46: =IF(W46<>0,IF(D46<>"",G46,0),IF(O46>0,G46,"")) | AN46: =IF(W46<>0,IF(H46<>"c",IF(E46<>"",H46,""),""),IF(O46>0,H46,"")) | AO46: =IF(AN46<>"",AM46,"") | AP46: =IF(AN46<>"",AN46-AO46,"") | AQ46: =IF(E46<>0,IF(E46>V$5,IF(E46<=W$5,IF(D46>V$5,ROUND(((D46-E46)/7+AI46+0.4),0),ROUND(((V$5-E46)/7+AI46+0.4),0)),0),52),AI46) -> 0 | AR46: =IF(D46<=V$5,IF(E46>V$5,IF(E46<=W$5,W$5,X$5),0),0) -> 0 | AS46: =IF(AR46>AD46,IF(E46<=W$5,ROUND(((V$5-E46)/7),0)*AE46*G46,-W46),0) -> 0 | AT46: =IF(H46<>" ",IF(H46<>"c",IF(H46<>0,H46-G46,0),-G46),0) -> 0 | AU46: =IF($AD46=T$5,$W46,0) -> 0 | AV46: =IF($AD46=V$5,$W46,0) -> 0 | AW46: =IF($AD46=W$5,$W46,0) -> 0 | AX46: =IF(E46>0,E46,D46) -> 0 | AY46: =IF(H46<>"C",IF(H46>0,H46,G46),0) -> 0 | AZ46: =W46+S46 -> 0 | BA46: =IF(B46<>"",VLOOKUP(B46,'1 Pricing Length'!A$8:B$50,2),"")
L47: =IF(B47<>"",IF(D47>0,IF(D47<=V$5,IF(M47>0,M47,VLOOKUP(B47,'1 Pricing Length'!A$8:C$50,3)),VLOOKUP(B47,'1 Pricing Length'!A$8:C$50,3)),0),0) -> 0 | M47: =IF(E47<>"",IF(F47<>"",(F47-E47)/7,0),0) -> 0 | N47: =IF(B47<>"",IF(D47<>0,IF(AD47<Y$5,IF(AD47<X$5,IF(AD47<W$5,IF(AD47<V$5,IF(AD47<U$5,VLOOKUP(B47,'1 Pricing Length'!A$8:I$50,4),VLOOKUP(B47,'1 Pricing Length'!A$8:I$50,5)),VLOOKUP(B47,'1 Pricing Length'!A$8:I$50,6)),VLOOKUP(B47,'1 Pricing Length'!A$8:I$50,7)),VLOOKUP(B47,'1 Pricing Length'!A$8:I$50,8)),0),0),0) -> 0 | O47: =IF(H47<>"c",IF(H47<>"",IF(G47>0,W47*H47/G47-W47,IF(E47>V$5,IF(F47>W$5,ROUND((W$5-E47)/7,0)*AE47*H47,ROUND((F47-E47)/7,0)*AE47*H47),"enter budget")),0),-W47) -> 0 | P47: ='3 CY Interim'!P47 -> 0 | Q47: =IF(G47>0,IF(H47<>"C",IF(H47<>"",IF(E47>0,IF(F47>0,IF(M47>0,(W47/(M47/L47)-W47),(O47/(M47/L47)-O47)),0),0),0),0),0) -> 0 | R47: =IF(H47<>"c",IF(E47>0,IF(AD47=W$5,IF(H47>0,IF(E47>AH$5,(AQ47-AI47)*G47*AE47,(52-AI47)*G47*AE47),0),0),0),0) -> 0 | S47: =SUM(O47:R47) -> 0 | T47: =$G47*$AE47*AF47 -> 0 | U47: =$G47*$AE47*AG47 -> 0 | V47: =$G47*$AE47*AH47 -> 0 | W47: =$G47*$AE47*AI47 -> 0 | X47: =IF(H47<>"c",$G47*$AE47*AJ47,0) -> 0 | Y47: =IF(H47<>"c",$G47*$AE47*AK47,0) -> 0 | Z47: =IF(H47<>"c",$G47*$AE47*AL47,0) -> 0 | AA47: =SUM(T47:Z47) -> 0 | AB47: =G47*AI47/52 -> 0 | AD47: =IF(D47<=X$5,IF(D47<=W$5,IF(D47<=V$5,IF(D47<U$5,IF(D47<T$5,T$5,U$5),V$5),W$5),X$5),Y$5) -> 44742 | AE47: =IF(L47>1,N47/L47,0) -> 0 | AF47: =IF(D47>0,IF($AD47=T$5,IF(E47=0,ROUND(($AD47-$D47)/7+0.5,0),ROUND(($AD47-$E47)/7+0.5,0)),0),0) -> 0 | AG47: =IF($D47>0,IF($AD47<=U$5,IF(SUM($AF47:AF47)>0,IF($L47-SUM($AF47:AF47)>52,52,$L47-SUM($AF47:AF47)),IF($AD47=U$5,IF(($D47+($L47*7))>=U$5,ROUND(($AD47-$D47)/7+0.5,0),$L47))),0),0) -> 0 | AH47: =IF($D47>0,IF($AD47<=V$5,IF(SUM($AF47:AG47)>0,IF($L47-SUM($AF47:AG47)>52,52,$L47-SUM($AF47:AG47)),IF($AD47=V$5,IF(($D47+($L47*7))>=V$5,ROUND(($AD47-$D47)/7+0.5,0),$L47))),0),0) -> 0 | AI47: =IF($D47>0,IF($AD47<=W$5,IF(SUM($AF47:AH47)>0,IF($L47-SUM($AF47:AH47)>52,52,$L47-SUM($AF47:AH47)),IF($AD47=W$5,IF(($D47+($L47*7))>=W$5,ROUND(($AD47-$D47)/7+0.5,0),$L47))),0),0) -> 0 | AJ47: =IF($D47>0,IF($AD47<=X$5,IF(SUM($AF47:AI47)>0,IF($L47-SUM($AF47:AI47)>52,52,$L47-SUM($AF47:AI47)),IF($AD47=X$5,IF(($D47+($L47*7))>=X$5,ROUND(($AD47-$D47)/7+0.5,0),$L47))),0),0) -> 0 | AK47: =IF($D47>0,IF($AD47<=Y$5,IF(SUM($AF47:AJ47)>0,IF($L47-SUM($AF47:AJ47)>52,52,$L47-SUM($AF47:AJ47)),IF($AD47=Y$5,IF(($D47+($L47*7))>=Y$5,ROUND(($AD47-$D47)/7+0.5,0),$L47))),0),0) -> 0 | AL47: =IF($D47>0,IF($AD47<=Z$5,IF(SUM($AF47:AK47)>0,IF($L47-SUM($AF47:AK47)>52,52,$L47-SUM($AF47:AK47)),IF($AD47=Z$5,IF(($D47+($L47*7))>=Z$5,ROUND(($AD47-$D47)/7+0.5,0),$L47))),0),0) -> 0 | AM47: =IF(W47<>0,IF(D47<>"",G47,0),IF(O47>0,G47,"")) | AN47: =IF(W47<>0,IF(H47<>"c",IF(E47<>"",H47,""),""),IF(O47>0,H47,"")) | AO47: =IF(AN47<>"",AM47,"") | AP47: =IF(AN47<>"",AN47-AO47,"") | AQ47: =IF(E47<>0,IF(E47>V$5,IF(E47<=W$5,IF(D47>V$5,ROUND(((D47-E47)/7+AI47+0.4),0),ROUND(((V$5-E47)/7+AI47+0.4),0)),0),52),AI47) -> 0 | AR47: =IF(D47<=V$5,IF(E47>V$5,IF(E47<=W$5,W$5,X$5),0),0) -> 0 | AS47: =IF(AR47>AD47,IF(E47<=W$5,ROUND(((V$5-E47)/7),0)*AE47*G47,-W47),0) -> 0 | AT47: =IF(H47<>" ",IF(H47<>"c",IF(H47<>0,H47-G47,0),-G47),0) -> 0 | AU47: =IF($AD47=T$5,$W47,0) -> 0 | AV47: =IF($AD47=V$5,$W47,0) -> 0 | AW47: =IF($AD47=W$5,$W47,0) -> 0 | AX47: =IF(E47>0,E47,D47) -> 0 | AY47: =IF(H47<>"C",IF(H47>0,H47,G47),0) -> 0 | AZ47: =W47+S47 -> 0 | BA47: =IF(B47<>"",VLOOKUP(B47,'1 Pricing Length'!A$8:B$50,2),"")
L48: =IF(B48<>"",IF(D48>0,IF(D48<=V$5,IF(M48>0,M48,VLOOKUP(B48,'1 Pricing Length'!A$8:C$50,3)),VLOOKUP(B48,'1 Pricing Length'!A$8:C$50,3)),0),0) -> 0 | M48: =IF(E48<>"",IF(F48<>"",(F48-E48)/7,0),0) -> 0 | N48: =IF(B48<>"",IF(D48<>0,IF(AD48<Y$5,IF(AD48<X$5,IF(AD48<W$5,IF(AD48<V$5,IF(AD48<U$5,VLOOKUP(B48,'1 Pricing Length'!A$8:I$50,4),VLOOKUP(B48,'1 Pricing Length'!A$8:I$50,5)),VLOOKUP(B48,'1 Pricing Length'!A$8:I$50,6)),VLOOKUP(B48,'1 Pricing Length'!A$8:I$50,7)),VLOOKUP(B48,'1 Pricing Length'!A$8:I$50,8)),0),0),0) -> 0 | O48: =IF(H48<>"c",IF(H48<>"",IF(G48>0,W48*H48/G48-W48,IF(E48>V$5,IF(F48>W$5,ROUND((W$5-E48)/7,0)*AE48*H48,ROUND((F48-E48)/7,0)*AE48*H48),"enter budget")),0),-W48) -> 0 | P48: ='3 CY Interim'!P48 -> 0 | Q48: =IF(G48>0,IF(H48<>"C",IF(H48<>"",IF(E48>0,IF(F48>0,IF(M48>0,(W48/(M48/L48)-W48),(O48/(M48/L48)-O48)),0),0),0),0),0) -> 0 | R48: =IF(H48<>"c",IF(E48>0,IF(AD48=W$5,IF(H48>0,IF(E48>AH$5,(AQ48-AI48)*G48*AE48,(52-AI48)*G48*AE48),0),0),0),0) -> 0 | S48: =SUM(O48:R48) -> 0 | T48: =$G48*$AE48*AF48 -> 0 | U48: =$G48*$AE48*AG48 -> 0 | V48: =$G48*$AE48*AH48 -> 0 | W48: =$G48*$AE48*AI48 -> 0 | X48: =IF(H48<>"c",$G48*$AE48*AJ48,0) -> 0 | Y48: =IF(H48<>"c",$G48*$AE48*AK48,0) -> 0 | Z48: =IF(H48<>"c",$G48*$AE48*AL48,0) -> 0 | AA48: =SUM(T48:Z48) -> 0 | AB48: =G48*AI48/52 -> 0 | AD48: =IF(D48<=X$5,IF(D48<=W$5,IF(D48<=V$5,IF(D48<U$5,IF(D48<T$5,T$5,U$5),V$5),W$5),X$5),Y$5) -> 44742 | AE48: =IF(L48>1,N48/L48,0) -> 0 | AF48: =IF(D48>0,IF($AD48=T$5,IF(E48=0,ROUND(($AD48-$D48)/7+0.5,0),ROUND(($AD48-$E48)/7+0.5,0)),0),0) -> 0 | AG48: =IF($D48>0,IF($AD48<=U$5,IF(SUM($AF48:AF48)>0,IF($L48-SUM($AF48:AF48)>52,52,$L48-SUM($AF48:AF48)),IF($AD48=U$5,IF(($D48+($L48*7))>=U$5,ROUND(($AD48-$D48)/7+0.5,0),$L48))),0),0) -> 0 | AH48: =IF($D48>0,IF($AD48<=V$5,IF(SUM($AF48:AG48)>0,IF($L48-SUM($AF48:AG48)>52,52,$L48-SUM($AF48:AG48)),IF($AD48=V$5,IF(($D48+($L48*7))>=V$5,ROUND(($AD48-$D48)/7+0.5,0),$L48))),0),0) -> 0 | AI48: =IF($D48>0,IF($AD48<=W$5,IF(SUM($AF48:AH48)>0,IF($L48-SUM($AF48:AH48)>52,52,$L48-SUM($AF48:AH48)),IF($AD48=W$5,IF(($D48+($L48*7))>=W$5,ROUND(($AD48-$D48)/7+0.5,0),$L48))),0),0) -> 0 | AJ48: =IF($D48>0,IF($AD48<=X$5,IF(SUM($AF48:AI48)>0,IF($L48-SUM($AF48:AI48)>52,52,$L48-SUM($AF48:AI48)),IF($AD48=X$5,IF(($D48+($L48*7))>=X$5,ROUND(($AD48-$D48)/7+0.5,0),$L48))),0),0) -> 0 | AK48: =IF($D48>0,IF($AD48<=Y$5,IF(SUM($AF48:AJ48)>0,IF($L48-SUM($AF48:AJ48)>52,52,$L48-SUM($AF48:AJ48)),IF($AD48=Y$5,IF(($D48+($L48*7))>=Y$5,ROUND(($AD48-$D48)/7+0.5,0),$L48))),0),0) -> 0 | AL48: =IF($D48>0,IF($AD48<=Z$5,IF(SUM($AF48:AK48)>0,IF($L48-SUM($AF48:AK48)>52,52,$L48-SUM($AF48:AK48)),IF($AD48=Z$5,IF(($D48+($L48*7))>=Z$5,ROUND(($AD48-$D48)/7+0.5,0),$L48))),0),0) -> 0 | AM48: =IF(W48<>0,IF(D48<>"",G48,0),IF(O48>0,G48,"")) | AN48: =IF(W48<>0,IF(H48<>"c",IF(E48<>"",H48,""),""),IF(O48>0,H48,"")) | AO48: =IF(AN48<>"",AM48,"") | AP48: =IF(AN48<>"",AN48-AO48,"") | AQ48: =IF(E48<>0,IF(E48>V$5,IF(E48<=W$5,IF(D48>V$5,ROUND(((D48-E48)/7+AI48+0.4),0),ROUND(((V$5-E48)/7+AI48+0.4),0)),0),52),AI48) -> 0 | AR48: =IF(D48<=V$5,IF(E48>V$5,IF(E48<=W$5,W$5,X$5),0),0) -> 0 | AS48: =IF(AR48>AD48,IF(E48<=W$5,ROUND(((V$5-E48)/7),0)*AE48*G48,-W48),0) -> 0 | AT48: =IF(H48<>" ",IF(H48<>"c",IF(H48<>0,H48-G48,0),-G48),0) -> 0 | AU48: =IF($AD48=T$5,$W48,0) -> 0 | AV48: =IF($AD48=V$5,$W48,0) -> 0 | AW48: =IF($AD48=W$5,$W48,0) -> 0 | AX48: =IF(E48>0,E48,D48) -> 0 | AY48: =IF(H48<>"C",IF(H48>0,H48,G48),0) -> 0 | AZ48: =W48+S48 -> 0 | BA48: =IF(B48<>"",VLOOKUP(B48,'1 Pricing Length'!A$8:B$50,2),"")
L49: =IF(B49<>"",IF(D49>0,IF(D49<=V$5,IF(M49>0,M49,VLOOKUP(B49,'1 Pricing Length'!A$8:C$50,3)),VLOOKUP(B49,'1 Pricing Length'!A$8:C$50,3)),0),0) -> 0 | M49: =IF(E49<>"",IF(F49<>"",(F49-E49)/7,0),0) -> 0 | N49: =IF(B49<>"",IF(D49<>0,IF(AD49<Y$5,IF(AD49<X$5,IF(AD49<W$5,IF(AD49<V$5,IF(AD49<U$5,VLOOKUP(B49,'1 Pricing Length'!A$8:I$50,4),VLOOKUP(B49,'1 Pricing Length'!A$8:I$50,5)),VLOOKUP(B49,'1 Pricing Length'!A$8:I$50,6)),VLOOKUP(B49,'1 Pricing Length'!A$8:I$50,7)),VLOOKUP(B49,'1 Pricing Length'!A$8:I$50,8)),0),0),0) -> 0 | O49: =IF(H49<>"c",IF(H49<>"",IF(G49>0,W49*H49/G49-W49,IF(E49>V$5,IF(F49>W$5,ROUND((W$5-E49)/7,0)*AE49*H49,ROUND((F49-E49)/7,0)*AE49*H49),"enter budget")),0),-W49) -> 0 | P49: ='3 CY Interim'!P49 -> 0 | Q49: =IF(G49>0,IF(H49<>"C",IF(H49<>"",IF(E49>0,IF(F49>0,IF(M49>0,(W49/(M49/L49)-W49),(O49/(M49/L49)-O49)),0),0),0),0),0) -> 0 | R49: =IF(H49<>"c",IF(E49>0,IF(AD49=W$5,IF(H49>0,IF(E49>AH$5,(AQ49-AI49)*G49*AE49,(52-AI49)*G49*AE49),0),0),0),0) -> 0 | S49: =SUM(O49:R49) -> 0 | T49: =$G49*$AE49*AF49 -> 0 | U49: =$G49*$AE49*AG49 -> 0 | V49: =$G49*$AE49*AH49 -> 0 | W49: =$G49*$AE49*AI49 -> 0 | X49: =IF(H49<>"c",$G49*$AE49*AJ49,0) -> 0 | Y49: =IF(H49<>"c",$G49*$AE49*AK49,0) -> 0 | Z49: =IF(H49<>"c",$G49*$AE49*AL49,0) -> 0 | AA49: =SUM(T49:Z49) -> 0 | AB49: =G49*AI49/52 -> 0 | AD49: =IF(D49<=X$5,IF(D49<=W$5,IF(D49<=V$5,IF(D49<U$5,IF(D49<T$5,T$5,U$5),V$5),W$5),X$5),Y$5) -> 44742 | AE49: =IF(L49>1,N49/L49,0) -> 0 | AF49: =IF(D49>0,IF($AD49=T$5,IF(E49=0,ROUND(($AD49-$D49)/7+0.5,0),ROUND(($AD49-$E49)/7+0.5,0)),0),0) -> 0 | AG49: =IF($D49>0,IF($AD49<=U$5,IF(SUM($AF49:AF49)>0,IF($L49-SUM($AF49:AF49)>52,52,$L49-SUM($AF49:AF49)),IF($AD49=U$5,IF(($D49+($L49*7))>=U$5,ROUND(($AD49-$D49)/7+0.5,0),$L49))),0),0) -> 0 | AH49: =IF($D49>0,IF($AD49<=V$5,IF(SUM($AF49:AG49)>0,IF($L49-SUM($AF49:AG49)>52,52,$L49-SUM($AF49:AG49)),IF($AD49=V$5,IF(($D49+($L49*7))>=V$5,ROUND(($AD49-$D49)/7+0.5,0),$L49))),0),0) -> 0 | AI49: =IF($D49>0,IF($AD49<=W$5,IF(SUM($AF49:AH49)>0,IF($L49-SUM($AF49:AH49)>52,52,$L49-SUM($AF49:AH49)),IF($AD49=W$5,IF(($D49+($L49*7))>=W$5,ROUND(($AD49-$D49)/7+0.5,0),$L49))),0),0) -> 0 | AJ49: =IF($D49>0,IF($AD49<=X$5,IF(SUM($AF49:AI49)>0,IF($L49-SUM($AF49:AI49)>52,52,$L49-SUM($AF49:AI49)),IF($AD49=X$5,IF(($D49+($L49*7))>=X$5,ROUND(($AD49-$D49)/7+0.5,0),$L49))),0),0) -> 0 | AK49: =IF($D49>0,IF($AD49<=Y$5,IF(SUM($AF49:AJ49)>0,IF($L49-SUM($AF49:AJ49)>52,52,$L49-SUM($AF49:AJ49)),IF($AD49=Y$5,IF(($D49+($L49*7))>=Y$5,ROUND(($AD49-$D49)/7+0.5,0),$L49))),0),0) -> 0 | AL49: =IF($D49>0,IF($AD49<=Z$5,IF(SUM($AF49:AK49)>0,IF($L49-SUM($AF49:AK49)>52,52,$L49-SUM($AF49:AK49)),IF($AD49=Z$5,IF(($D49+($L49*7))>=Z$5,ROUND(($AD49-$D49)/7+0.5,0),$L49))),0),0) -> 0 | AM49: =IF(W49<>0,IF(D49<>"",G49,0),IF(O49>0,G49,"")) | AN49: =IF(W49<>0,IF(H49<>"c",IF(E49<>"",H49,""),""),IF(O49>0,H49,"")) | AO49: =IF(AN49<>"",AM49,"") | AP49: =IF(AN49<>"",AN49-AO49,"") | AQ49: =IF(E49<>0,IF(E49>V$5,IF(E49<=W$5,IF(D49>V$5,ROUND(((D49-E49)/7+AI49+0.4),0),ROUND(((V$5-E49)/7+AI49+0.4),0)),0),52),AI49) -> 0 | AR49: =IF(D49<=V$5,IF(E49>V$5,IF(E49<=W$5,W$5,X$5),0),0) -> 0 | AS49: =IF(AR49>AD49,IF(E49<=W$5,ROUND(((V$5-E49)/7),0)*AE49*G49,-W49),0) -> 0 | AT49: =IF(H49<>" ",IF(H49<>"c",IF(H49<>0,H49-G49,0),-G49),0) -> 0 | AU49: =IF($AD49=T$5,$W49,0) -> 0 | AV49: =IF($AD49=V$5,$W49,0) -> 0 | AW49: =IF($AD49=W$5,$W49,0) -> 0 | AX49: =IF(E49>0,E49,D49) -> 0 | AY49: =IF(H49<>"C",IF(H49>0,H49,G49),0) -> 0 | AZ49: =W49+S49 -> 0 | BA49: =IF(B49<>"",VLOOKUP(B49,'1 Pricing Length'!A$8:B$50,2),"")
L50: =IF(B50<>"",IF(D50>0,IF(D50<=V$5,IF(M50>0,M50,VLOOKUP(B50,'1 Pricing Length'!A$8:C$50,3)),VLOOKUP(B50,'1 Pricing Length'!A$8:C$50,3)),0),0) -> 0 | M50: =IF(E50<>"",IF(F50<>"",(F50-E50)/7,0),0) -> 0 | N50: =IF(B50<>"",IF(D50<>0,IF(AD50<Y$5,IF(AD50<X$5,IF(AD50<W$5,IF(AD50<V$5,IF(AD50<U$5,VLOOKUP(B50,'1 Pricing Length'!A$8:I$50,4),VLOOKUP(B50,'1 Pricing Length'!A$8:I$50,5)),VLOOKUP(B50,'1 Pricing Length'!A$8:I$50,6)),VLOOKUP(B50,'1 Pricing Length'!A$8:I$50,7)),VLOOKUP(B50,'1 Pricing Length'!A$8:I$50,8)),0),0),0) -> 0 | O50: =IF(H50<>"c",IF(H50<>"",IF(G50>0,W50*H50/G50-W50,IF(E50>V$5,IF(F50>W$5,ROUND((W$5-E50)/7,0)*AE50*H50,ROUND((F50-E50)/7,0)*AE50*H50),"enter budget")),0),-W50) -> 0 | P50: ='3 CY Interim'!P50 -> 0 | Q50: =IF(G50>0,IF(H50<>"C",IF(H50<>"",IF(E50>0,IF(F50>0,IF(M50>0,(W50/(M50/L50)-W50),(O50/(M50/L50)-O50)),0),0),0),0),0) -> 0 | R50: =IF(H50<>"c",IF(E50>0,IF(AD50=W$5,IF(H50>0,IF(E50>AH$5,(AQ50-AI50)*G50*AE50,(52-AI50)*G50*AE50),0),0),0),0) -> 0 | S50: =SUM(O50:R50) -> 0 | T50: =$G50*$AE50*AF50 -> 0 | U50: =$G50*$AE50*AG50 -> 0 | V50: =$G50*$AE50*AH50 -> 0 | W50: =$G50*$AE50*AI50 -> 0 | X50: =IF(H50<>"c",$G50*$AE50*AJ50,0) -> 0 | Y50: =IF(H50<>"c",$G50*$AE50*AK50,0) -> 0 | Z50: =IF(H50<>"c",$G50*$AE50*AL50,0) -> 0 | AA50: =SUM(T50:Z50) -> 0 | AB50: =G50*AI50/52 -> 0 | AD50: =IF(D50<=X$5,IF(D50<=W$5,IF(D50<=V$5,IF(D50<U$5,IF(D50<T$5,T$5,U$5),V$5),W$5),X$5),Y$5) -> 44742 | AE50: =IF(L50>1,N50/L50,0) -> 0 | AF50: =IF(D50>0,IF($AD50=T$5,IF(E50=0,ROUND(($AD50-$D50)/7+0.5,0),ROUND(($AD50-$E50)/7+0.5,0)),0),0) -> 0 | AG50: =IF($D50>0,IF($AD50<=U$5,IF(SUM($AF50:AF50)>0,IF($L50-SUM($AF50:AF50)>52,52,$L50-SUM($AF50:AF50)),IF($AD50=U$5,IF(($D50+($L50*7))>=U$5,ROUND(($AD50-$D50)/7+0.5,0),$L50))),0),0) -> 0 | AH50: =IF($D50>0,IF($AD50<=V$5,IF(SUM($AF50:AG50)>0,IF($L50-SUM($AF50:AG50)>52,52,$L50-SUM($AF50:AG50)),IF($AD50=V$5,IF(($D50+($L50*7))>=V$5,ROUND(($AD50-$D50)/7+0.5,0),$L50))),0),0) -> 0 | AI50: =IF($D50>0,IF($AD50<=W$5,IF(SUM($AF50:AH50)>0,IF($L50-SUM($AF50:AH50)>52,52,$L50-SUM($AF50:AH50)),IF($AD50=W$5,IF(($D50+($L50*7))>=W$5,ROUND(($AD50-$D50)/7+0.5,0),$L50))),0),0) -> 0 | AJ50: =IF($D50>0,IF($AD50<=X$5,IF(SUM($AF50:AI50)>0,IF($L50-SUM($AF50:AI50)>52,52,$L50-SUM($AF50:AI50)),IF($AD50=X$5,IF(($D50+($L50*7))>=X$5,ROUND(($AD50-$D50)/7+0.5,0),$L50))),0),0) -> 0 | AK50: =IF($D50>0,IF($AD50<=Y$5,IF(SUM($AF50:AJ50)>0,IF($L50-SUM($AF50:AJ50)>52,52,$L50-SUM($AF50:AJ50)),IF($AD50=Y$5,IF(($D50+($L50*7))>=Y$5,ROUND(($AD50-$D50)/7+0.5,0),$L50))),0),0) -> 0 | AL50: =IF($D50>0,IF($AD50<=Z$5,IF(SUM($AF50:AK50)>0,IF($L50-SUM($AF50:AK50)>52,52,$L50-SUM($AF50:AK50)),IF($AD50=Z$5,IF(($D50+($L50*7))>=Z$5,ROUND(($AD50-$D50)/7+0.5,0),$L50))),0),0) -> 0 | AM50: =IF(W50<>0,IF(D50<>"",G50,0),IF(O50>0,G50,"")) | AN50: =IF(W50<>0,IF(H50<>"c",IF(E50<>"",H50,""),""),IF(O50>0,H50,"")) | AO50: =IF(AN50<>"",AM50,"") | AP50: =IF(AN50<>"",AN50-AO50,"") | AQ50: =IF(E50<>0,IF(E50>V$5,IF(E50<=W$5,IF(D50>V$5,ROUND(((D50-E50)/7+AI50+0.4),0),ROUND(((V$5-E50)/7+AI50+0.4),0)),0),52),AI50) -> 0 | AR50: =IF(D50<=V$5,IF(E50>V$5,IF(E50<=W$5,W$5,X$5),0),0) -> 0 | AS50: =IF(AR50>AD50,IF(E50<=W$5,ROUND(((V$5-E50)/7),0)*AE50*G50,-W50),0) -> 0 | AT50: =IF(H50<>" ",IF(H50<>"c",IF(H50<>0,H50-G50,0),-G50),0) -> 0 | AU50: =IF($AD50=T$5,$W50,0) -> 0 | AV50: =IF($AD50=V$5,$W50,0) -> 0 | AW50: =IF($AD50=W$5,$W50,0) -> 0 | AX50: =IF(E50>0,E50,D50) -> 0 | AY50: =IF(H50<>"C",IF(H50>0,H50,G50),0) -> 0 | AZ50: =W50+S50 -> 0 | BA50: =IF(B50<>"",VLOOKUP(B50,'1 Pricing Length'!A$8:B$50,2),"")
L51: =IF(B51<>"",IF(D51>0,IF(D51<=V$5,IF(M51>0,M51,VLOOKUP(B51,'1 Pricing Length'!A$8:C$50,3)),VLOOKUP(B51,'1 Pricing Length'!A$8:C$50,3)),0),0) -> 0 | M51: =IF(E51<>"",IF(F51<>"",(F51-E51)/7,0),0) -> 0 | N51: =IF(B51<>"",IF(D51<>0,IF(AD51<Y$5,IF(AD51<X$5,IF(AD51<W$5,IF(AD51<V$5,IF(AD51<U$5,VLOOKUP(B51,'1 Pricing Length'!A$8:I$50,4),VLOOKUP(B51,'1 Pricing Length'!A$8:I$50,5)),VLOOKUP(B51,'1 Pricing Length'!A$8:I$50,6)),VLOOKUP(B51,'1 Pricing Length'!A$8:I$50,7)),VLOOKUP(B51,'1 Pricing Length'!A$8:I$50,8)),0),0),0) -> 0 | O51: =IF(H51<>"c",IF(H51<>"",IF(G51>0,W51*H51/G51-W51,IF(E51>V$5,IF(F51>W$5,ROUND((W$5-E51)/7,0)*AE51*H51,ROUND((F51-E51)/7,0)*AE51*H51),"enter budget")),0),-W51) -> 0 | P51: ='3 CY Interim'!P51 -> 0 | Q51: =IF(G51>0,IF(H51<>"C",IF(H51<>"",IF(E51>0,IF(F51>0,IF(M51>0,(W51/(M51/L51)-W51),(O51/(M51/L51)-O51)),0),0),0),0),0) -> 0 | R51: =IF(H51<>"c",IF(E51>0,IF(AD51=W$5,IF(H51>0,IF(E51>AH$5,(AQ51-AI51)*G51*AE51,(52-AI51)*G51*AE51),0),0),0),0) -> 0 | S51: =SUM(O51:R51) -> 0 | T51: =$G51*$AE51*AF51 -> 0 | U51: =$G51*$AE51*AG51 -> 0 | V51: =$G51*$AE51*AH51 -> 0 | W51: =$G51*$AE51*AI51 -> 0 | X51: =IF(H51<>"c",$G51*$AE51*AJ51,0) -> 0 | Y51: =IF(H51<>"c",$G51*$AE51*AK51,0) -> 0 | Z51: =IF(H51<>"c",$G51*$AE51*AL51,0) -> 0 | AA51: =SUM(T51:Z51) -> 0 | AB51: =G51*AI51/52 -> 0 | AD51: =IF(D51<=X$5,IF(D51<=W$5,IF(D51<=V$5,IF(D51<U$5,IF(D51<T$5,T$5,U$5),V$5),W$5),X$5),Y$5) -> 44742 | AE51: =IF(L51>1,N51/L51,0) -> 0 | AF51: =IF(D51>0,IF($AD51=T$5,IF(E51=0,ROUND(($AD51-$D51)/7+0.5,0),ROUND(($AD51-$E51)/7+0.5,0)),0),0) -> 0 | AG51: =IF($D51>0,IF($AD51<=U$5,IF(SUM($AF51:AF51)>0,IF($L51-SUM($AF51:AF51)>52,52,$L51-SUM($AF51:AF51)),IF($AD51=U$5,IF(($D51+($L51*7))>=U$5,ROUND(($AD51-$D51)/7+0.5,0),$L51))),0),0) -> 0 | AH51: =IF($D51>0,IF($AD51<=V$5,IF(SUM($AF51:AG51)>0,IF($L51-SUM($AF51:AG51)>52,52,$L51-SUM($AF51:AG51)),IF($AD51=V$5,IF(($D51+($L51*7))>=V$5,ROUND(($AD51-$D51)/7+0.5,0),$L51))),0),0) -> 0 | AI51: =IF($D51>0,IF($AD51<=W$5,IF(SUM($AF51:AH51)>0,IF($L51-SUM($AF51:AH51)>52,52,$L51-SUM($AF51:AH51)),IF($AD51=W$5,IF(($D51+($L51*7))>=W$5,ROUND(($AD51-$D51)/7+0.5,0),$L51))),0),0) -> 0 | AJ51: =IF($D51>0,IF($AD51<=X$5,IF(SUM($AF51:AI51)>0,IF($L51-SUM($AF51:AI51)>52,52,$L51-SUM($AF51:AI51)),IF($AD51=X$5,IF(($D51+($L51*7))>=X$5,ROUND(($AD51-$D51)/7+0.5,0),$L51))),0),0) -> 0 | AK51: =IF($D51>0,IF($AD51<=Y$5,IF(SUM($AF51:AJ51)>0,IF($L51-SUM($AF51:AJ51)>52,52,$L51-SUM($AF51:AJ51)),IF($AD51=Y$5,IF(($D51+($L51*7))>=Y$5,ROUND(($AD51-$D51)/7+0.5,0),$L51))),0),0) -> 0 | AL51: =IF($D51>0,IF($AD51<=Z$5,IF(SUM($AF51:AK51)>0,IF($L51-SUM($AF51:AK51)>52,52,$L51-SUM($AF51:AK51)),IF($AD51=Z$5,IF(($D51+($L51*7))>=Z$5,ROUND(($AD51-$D51)/7+0.5,0),$L51))),0),0) -> 0 | AM51: =IF(W51<>0,IF(D51<>"",G51,0),IF(O51>0,G51,"")) | AN51: =IF(W51<>0,IF(H51<>"c",IF(E51<>"",H51,""),""),IF(O51>0,H51,"")) | AO51: =IF(AN51<>"",AM51,"") | AP51: =IF(AN51<>"",AN51-AO51,"") | AQ51: =IF(E51<>0,IF(E51>V$5,IF(E51<=W$5,IF(D51>V$5,ROUND(((D51-E51)/7+AI51+0.4),0),ROUND(((V$5-E51)/7+AI51+0.4),0)),0),52),AI51) -> 0 | AR51: =IF(D51<=V$5,IF(E51>V$5,IF(E51<=W$5,W$5,X$5),0),0) -> 0 | AS51: =IF(AR51>AD51,IF(E51<=W$5,ROUND(((V$5-E51)/7),0)*AE51*G51,-W51),0) -> 0 | AT51: =IF(H51<>" ",IF(H51<>"c",IF(H51<>0,H51-G51,0),-G51),0) -> 0 | AU51: =IF($AD51=T$5,$W51,0) -> 0 | AV51: =IF($AD51=V$5,$W51,0) -> 0 | AW51: =IF($AD51=W$5,$W51,0) -> 0 | AX51: =IF(E51>0,E51,D51) -> 0 | AY51: =IF(H51<>"C",IF(H51>0,H51,G51),0) -> 0 | AZ51: =W51+S51 -> 0 | BA51: =IF(B51<>"",VLOOKUP(B51,'1 Pricing Length'!A$8:B$50,2),"")
L52: =IF(B52<>"",IF(D52>0,IF(D52<=V$5,IF(M52>0,M52,VLOOKUP(B52,'1 Pricing Length'!A$8:C$50,3)),VLOOKUP(B52,'1 Pricing Length'!A$8:C$50,3)),0),0) -> 0 | M52: =IF(E52<>"",IF(F52<>"",(F52-E52)/7,0),0) -> 0 | N52: =IF(B52<>"",IF(D52<>0,IF(AD52<Y$5,IF(AD52<X$5,IF(AD52<W$5,IF(AD52<V$5,IF(AD52<U$5,VLOOKUP(B52,'1 Pricing Length'!A$8:I$50,4),VLOOKUP(B52,'1 Pricing Length'!A$8:I$50,5)),VLOOKUP(B52,'1 Pricing Length'!A$8:I$50,6)),VLOOKUP(B52,'1 Pricing Length'!A$8:I$50,7)),VLOOKUP(B52,'1 Pricing Length'!A$8:I$50,8)),0),0),0) -> 0 | O52: =IF(H52<>"c",IF(H52<>"",IF(G52>0,W52*H52/G52-W52,IF(E52>V$5,IF(F52>W$5,ROUND((W$5-E52)/7,0)*AE52*H52,ROUND((F52-E52)/7,0)*AE52*H52),"enter budget")),0),-W52) -> 0 | P52: ='3 CY Interim'!P52 -> 0 | Q52: =IF(G52>0,IF(H52<>"C",IF(H52<>"",IF(E52>0,IF(F52>0,IF(M52>0,(W52/(M52/L52)-W52),(O52/(M52/L52)-O52)),0),0),0),0),0) -> 0 | R52: =IF(H52<>"c",IF(E52>0,IF(AD52=W$5,IF(H52>0,IF(E52>AH$5,(AQ52-AI52)*G52*AE52,(52-AI52)*G52*AE52),0),0),0),0) -> 0 | S52: =SUM(O52:R52) -> 0 | T52: =$G52*$AE52*AF52 -> 0 | U52: =$G52*$AE52*AG52 -> 0 | V52: =$G52*$AE52*AH52 -> 0 | W52: =$G52*$AE52*AI52 -> 0 | X52: =IF(H52<>"c",$G52*$AE52*AJ52,0) -> 0 | Y52: =IF(H52<>"c",$G52*$AE52*AK52,0) -> 0 | Z52: =IF(H52<>"c",$G52*$AE52*AL52,0) -> 0 | AA52: =SUM(T52:Z52) -> 0 | AB52: =G52*AI52/52 -> 0 | AD52: =IF(D52<=X$5,IF(D52<=W$5,IF(D52<=V$5,IF(D52<U$5,IF(D52<T$5,T$5,U$5),V$5),W$5),X$5),Y$5) -> 44742 | AE52: =IF(L52>1,N52/L52,0) -> 0 | AF52: =IF(D52>0,IF($AD52=T$5,IF(E52=0,ROUND(($AD52-$D52)/7+0.5,0),ROUND(($AD52-$E52)/7+0.5,0)),0),0) -> 0 | AG52: =IF($D52>0,IF($AD52<=U$5,IF(SUM($AF52:AF52)>0,IF($L52-SUM($AF52:AF52)>52,52,$L52-SUM($AF52:AF52)),IF($AD52=U$5,IF(($D52+($L52*7))>=U$5,ROUND(($AD52-$D52)/7+0.5,0),$L52))),0),0) -> 0 | AH52: =IF($D52>0,IF($AD52<=V$5,IF(SUM($AF52:AG52)>0,IF($L52-SUM($AF52:AG52)>52,52,$L52-SUM($AF52:AG52)),IF($AD52=V$5,IF(($D52+($L52*7))>=V$5,ROUND(($AD52-$D52)/7+0.5,0),$L52))),0),0) -> 0 | AI52: =IF($D52>0,IF($AD52<=W$5,IF(SUM($AF52:AH52)>0,IF($L52-SUM($AF52:AH52)>52,52,$L52-SUM($AF52:AH52)),IF($AD52=W$5,IF(($D52+($L52*7))>=W$5,ROUND(($AD52-$D52)/7+0.5,0),$L52))),0),0) -> 0 | AJ52: =IF($D52>0,IF($AD52<=X$5,IF(SUM($AF52:AI52)>0,IF($L52-SUM($AF52:AI52)>52,52,$L52-SUM($AF52:AI52)),IF($AD52=X$5,IF(($D52+($L52*7))>=X$5,ROUND(($AD52-$D52)/7+0.5,0),$L52))),0),0) -> 0 | AK52: =IF($D52>0,IF($AD52<=Y$5,IF(SUM($AF52:AJ52)>0,IF($L52-SUM($AF52:AJ52)>52,52,$L52-SUM($AF52:AJ52)),IF($AD52=Y$5,IF(($D52+($L52*7))>=Y$5,ROUND(($AD52-$D52)/7+0.5,0),$L52))),0),0) -> 0 | AL52: =IF($D52>0,IF($AD52<=Z$5,IF(SUM($AF52:AK52)>0,IF($L52-SUM($AF52:AK52)>52,52,$L52-SUM($AF52:AK52)),IF($AD52=Z$5,IF(($D52+($L52*7))>=Z$5,ROUND(($AD52-$D52)/7+0.5,0),$L52))),0),0) -> 0 | AM52: =IF(W52<>0,IF(D52<>"",G52,0),IF(O52>0,G52,"")) | AN52: =IF(W52<>0,IF(H52<>"c",IF(E52<>"",H52,""),""),IF(O52>0,H52,"")) | AO52: =IF(AN52<>"",AM52,"") | AP52: =IF(AN52<>"",AN52-AO52,"") | AQ52: =IF(E52<>0,IF(E52>V$5,IF(E52<=W$5,IF(D52>V$5,ROUND(((D52-E52)/7+AI52+0.4),0),ROUND(((V$5-E52)/7+AI52+0.4),0)),0),52),AI52) -> 0 | AR52: =IF(D52<=V$5,IF(E52>V$5,IF(E52<=W$5,W$5,X$5),0),0) -> 0 | AS52: =IF(AR52>AD52,IF(E52<=W$5,ROUND(((V$5-E52)/7),0)*AE52*G52,-W52),0) -> 0 | AT52: =IF(H52<>" ",IF(H52<>"c",IF(H52<>0,H52-G52,0),-G52),0) -> 0 | AU52: =IF($AD52=T$5,$W52,0) -> 0 | AV52: =IF($AD52=V$5,$W52,0) -> 0 | AW52: =IF($AD52=W$5,$W52,0) -> 0 | AX52: =IF(E52>0,E52,D52) -> 0 | AY52: =IF(H52<>"C",IF(H52>0,H52,G52),0) -> 0 | AZ52: =W52+S52 -> 0 | BA52: =IF(B52<>"",VLOOKUP(B52,'1 Pricing Length'!A$8:B$50,2),"")
L53: =IF(B53<>"",IF(D53>0,IF(D53<=V$5,IF(M53>0,M53,VLOOKUP(B53,'1 Pricing Length'!A$8:C$50,3)),VLOOKUP(B53,'1 Pricing Length'!A$8:C$50,3)),0),0) -> 0 | M53: =IF(E53<>"",IF(F53<>"",(F53-E53)/7,0),0) -> 0 | N53: =IF(B53<>"",IF(D53<>0,IF(AD53<Y$5,IF(AD53<X$5,IF(AD53<W$5,IF(AD53<V$5,IF(AD53<U$5,VLOOKUP(B53,'1 Pricing Length'!A$8:I$50,4),VLOOKUP(B53,'1 Pricing Length'!A$8:I$50,5)),VLOOKUP(B53,'1 Pricing Length'!A$8:I$50,6)),VLOOKUP(B53,'1 Pricing Length'!A$8:I$50,7)),VLOOKUP(B53,'1 Pricing Length'!A$8:I$50,8)),0),0),0) -> 0 | O53: =IF(H53<>"c",IF(H53<>"",IF(G53>0,W53*H53/G53-W53,IF(E53>V$5,IF(F53>W$5,ROUND((W$5-E53)/7,0)*AE53*H53,ROUND((F53-E53)/7,0)*AE53*H53),"enter budget")),0),-W53) -> 0 | P53: ='3 CY Interim'!P53 -> 0 | Q53: =IF(G53>0,IF(H53<>"C",IF(H53<>"",IF(E53>0,IF(F53>0,IF(M53>0,(W53/(M53/L53)-W53),(O53/(M53/L53)-O53)),0),0),0),0),0) -> 0 | R53: =IF(H53<>"c",IF(E53>0,IF(AD53=W$5,IF(H53>0,IF(E53>AH$5,(AQ53-AI53)*G53*AE53,(52-AI53)*G53*AE53),0),0),0),0) -> 0 | S53: =SUM(O53:R53) -> 0 | T53: =$G53*$AE53*AF53 -> 0 | U53: =$G53*$AE53*AG53 -> 0 | V53: =$G53*$AE53*AH53 -> 0 | W53: =$G53*$AE53*AI53 -> 0 | X53: =IF(H53<>"c",$G53*$AE53*AJ53,0) -> 0 | Y53: =IF(H53<>"c",$G53*$AE53*AK53,0) -> 0 | Z53: =IF(H53<>"c",$G53*$AE53*AL53,0) -> 0 | AA53: =SUM(T53:Z53) -> 0 | AB53: =G53*AI53/52 -> 0 | AD53: =IF(D53<=X$5,IF(D53<=W$5,IF(D53<=V$5,IF(D53<U$5,IF(D53<T$5,T$5,U$5),V$5),W$5),X$5),Y$5) -> 44742 | AE53: =IF(L53>1,N53/L53,0) -> 0 | AF53: =IF(D53>0,IF($AD53=T$5,IF(E53=0,ROUND(($AD53-$D53)/7+0.5,0),ROUND(($AD53-$E53)/7+0.5,0)),0),0) -> 0 | AG53: =IF($D53>0,IF($AD53<=U$5,IF(SUM($AF53:AF53)>0,IF($L53-SUM($AF53:AF53)>52,52,$L53-SUM($AF53:AF53)),IF($AD53=U$5,IF(($D53+($L53*7))>=U$5,ROUND(($AD53-$D53)/7+0.5,0),$L53))),0),0) -> 0 | AH53: =IF($D53>0,IF($AD53<=V$5,IF(SUM($AF53:AG53)>0,IF($L53-SUM($AF53:AG53)>52,52,$L53-SUM($AF53:AG53)),IF($AD53=V$5,IF(($D53+($L53*7))>=V$5,ROUND(($AD53-$D53)/7+0.5,0),$L53))),0),0) -> 0 | AI53: =IF($D53>0,IF($AD53<=W$5,IF(SUM($AF53:AH53)>0,IF($L53-SUM($AF53:AH53)>52,52,$L53-SUM($AF53:AH53)),IF($AD53=W$5,IF(($D53+($L53*7))>=W$5,ROUND(($AD53-$D53)/7+0.5,0),$L53))),0),0) -> 0 | AJ53: =IF($D53>0,IF($AD53<=X$5,IF(SUM($AF53:AI53)>0,IF($L53-SUM($AF53:AI53)>52,52,$L53-SUM($AF53:AI53)),IF($AD53=X$5,IF(($D53+($L53*7))>=X$5,ROUND(($AD53-$D53)/7+0.5,0),$L53))),0),0) -> 0 | AK53: =IF($D53>0,IF($AD53<=Y$5,IF(SUM($AF53:AJ53)>0,IF($L53-SUM($AF53:AJ53)>52,52,$L53-SUM($AF53:AJ53)),IF($AD53=Y$5,IF(($D53+($L53*7))>=Y$5,ROUND(($AD53-$D53)/7+0.5,0),$L53))),0),0) -> 0 | AL53: =IF($D53>0,IF($AD53<=Z$5,IF(SUM($AF53:AK53)>0,IF($L53-SUM($AF53:AK53)>52,52,$L53-SUM($AF53:AK53)),IF($AD53=Z$5,IF(($D53+($L53*7))>=Z$5,ROUND(($AD53-$D53)/7+0.5,0),$L53))),0),0) -> 0 | AM53: =IF(W53<>0,IF(D53<>"",G53,0),IF(O53>0,G53,"")) | AN53: =IF(W53<>0,IF(H53<>"c",IF(E53<>"",H53,""),""),IF(O53>0,H53,"")) | AO53: =IF(AN53<>"",AM53,"") | AP53: =IF(AN53<>"",AN53-AO53,"") | AQ53: =IF(E53<>0,IF(E53>V$5,IF(E53<=W$5,IF(D53>V$5,ROUND(((D53-E53)/7+AI53+0.4),0),ROUND(((V$5-E53)/7+AI53+0.4),0)),0),52),AI53) -> 0 | AR53: =IF(D53<=V$5,IF(E53>V$5,IF(E53<=W$5,W$5,X$5),0),0) -> 0 | AS53: =IF(AR53>AD53,IF(E53<=W$5,ROUND(((V$5-E53)/7),0)*AE53*G53,-W53),0) -> 0 | AT53: =IF(H53<>" ",IF(H53<>"c",IF(H53<>0,H53-G53,0),-G53),0) -> 0 | AU53: =IF($AD53=T$5,$W53,0) -> 0 | AV53: =IF($AD53=V$5,$W53,0) -> 0 | AW53: =IF($AD53=W$5,$W53,0) -> 0 | AX53: =IF(E53>0,E53,D53) -> 0 | AY53: =IF(H53<>"C",IF(H53>0,H53,G53),0) -> 0 | AZ53: =W53+S53 -> 0 | BA53: =IF(B53<>"",VLOOKUP(B53,'1 Pricing Length'!A$8:B$50,2),"")
L54: =IF(B54<>"",IF(D54>0,IF(D54<=V$5,IF(M54>0,M54,VLOOKUP(B54,'1 Pricing Length'!A$8:C$50,3)),VLOOKUP(B54,'1 Pricing Length'!A$8:C$50,3)),0),0) -> 0 | M54: =IF(E54<>"",IF(F54<>"",(F54-E54)/7,0),0) -> 0 | N54: =IF(B54<>"",IF(D54<>0,IF(AD54<Y$5,IF(AD54<X$5,IF(AD54<W$5,IF(AD54<V$5,IF(AD54<U$5,VLOOKUP(B54,'1 Pricing Length'!A$8:I$50,4),VLOOKUP(B54,'1 Pricing Length'!A$8:I$50,5)),VLOOKUP(B54,'1 Pricing Length'!A$8:I$50,6)),VLOOKUP(B54,'1 Pricing Length'!A$8:I$50,7)),VLOOKUP(B54,'1 Pricing Length'!A$8:I$50,8)),0),0),0) -> 0 | O54: =IF(H54<>"c",IF(H54<>"",IF(G54>0,W54*H54/G54-W54,IF(E54>V$5,IF(F54>W$5,ROUND((W$5-E54)/7,0)*AE54*H54,ROUND((F54-E54)/7,0)*AE54*H54),"enter budget")),0),-W54) -> 0 | P54: ='3 CY Interim'!P54 -> 0 | Q54: =IF(G54>0,IF(H54<>"C",IF(H54<>"",IF(E54>0,IF(F54>0,IF(M54>0,(W54/(M54/L54)-W54),(O54/(M54/L54)-O54)),0),0),0),0),0) -> 0 | R54: =IF(H54<>"c",IF(E54>0,IF(AD54=W$5,IF(H54>0,IF(E54>AH$5,(AQ54-AI54)*G54*AE54,(52-AI54)*G54*AE54),0),0),0),0) -> 0 | S54: =SUM(O54:R54) -> 0 | T54: =$G54*$AE54*AF54 -> 0 | U54: =$G54*$AE54*AG54 -> 0 | V54: =$G54*$AE54*AH54 -> 0 | W54: =$G54*$AE54*AI54 -> 0 | X54: =IF(H54<>"c",$G54*$AE54*AJ54,0) -> 0 | Y54: =IF(H54<>"c",$G54*$AE54*AK54,0) -> 0 | Z54: =IF(H54<>"c",$G54*$AE54*AL54,0) -> 0 | AA54: =SUM(T54:Z54) -> 0 | AB54: =G54*AI54/52 -> 0 | AD54: =IF(D54<=X$5,IF(D54<=W$5,IF(D54<=V$5,IF(D54<U$5,IF(D54<T$5,T$5,U$5),V$5),W$5),X$5),Y$5) -> 44742 | AE54: =IF(L54>1,N54/L54,0) -> 0 | AF54: =IF(D54>0,IF($AD54=T$5,IF(E54=0,ROUND(($AD54-$D54)/7+0.5,0),ROUND(($AD54-$E54)/7+0.5,0)),0),0) -> 0 | AG54: =IF($D54>0,IF($AD54<=U$5,IF(SUM($AF54:AF54)>0,IF($L54-SUM($AF54:AF54)>52,52,$L54-SUM($AF54:AF54)),IF($AD54=U$5,IF(($D54+($L54*7))>=U$5,ROUND(($AD54-$D54)/7+0.5,0),$L54))),0),0) -> 0 | AH54: =IF($D54>0,IF($AD54<=V$5,IF(SUM($AF54:AG54)>0,IF($L54-SUM($AF54:AG54)>52,52,$L54-SUM($AF54:AG54)),IF($AD54=V$5,IF(($D54+($L54*7))>=V$5,ROUND(($AD54-$D54)/7+0.5,0),$L54))),0),0) -> 0 | AI54: =IF($D54>0,IF($AD54<=W$5,IF(SUM($AF54:AH54)>0,IF($L54-SUM($AF54:AH54)>52,52,$L54-SUM($AF54:AH54)),IF($AD54=W$5,IF(($D54+($L54*7))>=W$5,ROUND(($AD54-$D54)/7+0.5,0),$L54))),0),0) -> 0 | AJ54: =IF($D54>0,IF($AD54<=X$5,IF(SUM($AF54:AI54)>0,IF($L54-SUM($AF54:AI54)>52,52,$L54-SUM($AF54:AI54)),IF($AD54=X$5,IF(($D54+($L54*7))>=X$5,ROUND(($AD54-$D54)/7+0.5,0),$L54))),0),0) -> 0 | AK54: =IF($D54>0,IF($AD54<=Y$5,IF(SUM($AF54:AJ54)>0,IF($L54-SUM($AF54:AJ54)>52,52,$L54-SUM($AF54:AJ54)),IF($AD54=Y$5,IF(($D54+($L54*7))>=Y$5,ROUND(($AD54-$D54)/7+0.5,0),$L54))),0),0) -> 0 | AL54: =IF($D54>0,IF($AD54<=Z$5,IF(SUM($AF54:AK54)>0,IF($L54-SUM($AF54:AK54)>52,52,$L54-SUM($AF54:AK54)),IF($AD54=Z$5,IF(($D54+($L54*7))>=Z$5,ROUND(($AD54-$D54)/7+0.5,0),$L54))),0),0) -> 0 | AM54: =IF(W54<>0,IF(D54<>"",G54,0),IF(O54>0,G54,"")) | AN54: =IF(W54<>0,IF(H54<>"c",IF(E54<>"",H54,""),""),IF(O54>0,H54,"")) | AO54: =IF(AN54<>"",AM54,"") | AP54: =IF(AN54<>"",AN54-AO54,"") | AQ54: =IF(E54<>0,IF(E54>V$5,IF(E54<=W$5,IF(D54>V$5,ROUND(((D54-E54)/7+AI54+0.4),0),ROUND(((V$5-E54)/7+AI54+0.4),0)),0),52),AI54) -> 0 | AR54: =IF(D54<=V$5,IF(E54>V$5,IF(E54<=W$5,W$5,X$5),0),0) -> 0 | AS54: =IF(AR54>AD54,IF(E54<=W$5,ROUND(((V$5-E54)/7),0)*AE54*G54,-W54),0) -> 0 | AT54: =IF(H54<>" ",IF(H54<>"c",IF(H54<>0,H54-G54,0),-G54),0) -> 0 | AU54: =IF($AD54=T$5,$W54,0) -> 0 | AV54: =IF($AD54=V$5,$W54,0) -> 0 | AW54: =IF($AD54=W$5,$W54,0) -> 0 | AX54: =IF(E54>0,E54,D54) -> 0 | AY54: =IF(H54<>"C",IF(H54>0,H54,G54),0) -> 0 | AZ54: =W54+S54 -> 0 | BA54: =IF(B54<>"",VLOOKUP(B54,'1 Pricing Length'!A$8:B$50,2),"")
L55: =IF(B55<>"",IF(D55>0,IF(D55<=V$5,IF(M55>0,M55,VLOOKUP(B55,'1 Pricing Length'!A$8:C$50,3)),VLOOKUP(B55,'1 Pricing Length'!A$8:C$50,3)),0),0) -> 0 | M55: =IF(E55<>"",IF(F55<>"",(F55-E55)/7,0),0) -> 0 | N55: =IF(B55<>"",IF(D55<>0,IF(AD55<Y$5,IF(AD55<X$5,IF(AD55<W$5,IF(AD55<V$5,IF(AD55<U$5,VLOOKUP(B55,'1 Pricing Length'!A$8:I$50,4),VLOOKUP(B55,'1 Pricing Length'!A$8:I$50,5)),VLOOKUP(B55,'1 Pricing Length'!A$8:I$50,6)),VLOOKUP(B55,'1 Pricing Length'!A$8:I$50,7)),VLOOKUP(B55,'1 Pricing Length'!A$8:I$50,8)),0),0),0) -> 0 | O55: =IF(H55<>"c",IF(H55<>"",IF(G55>0,W55*H55/G55-W55,IF(E55>V$5,IF(F55>W$5,ROUND((W$5-E55)/7,0)*AE55*H55,ROUND((F55-E55)/7,0)*AE55*H55),"enter budget")),0),-W55) -> 0 | P55: ='3 CY Interim'!P55 -> 0 | Q55: =IF(G55>0,IF(H55<>"C",IF(H55<>"",IF(E55>0,IF(F55>0,IF(M55>0,(W55/(M55/L55)-W55),(O55/(M55/L55)-O55)),0),0),0),0),0) -> 0 | R55: =IF(H55<>"c",IF(E55>0,IF(AD55=W$5,IF(H55>0,IF(E55>AH$5,(AQ55-AI55)*G55*AE55,(52-AI55)*G55*AE55),0),0),0),0) -> 0 | S55: =SUM(O55:R55) -> 0 | T55: =$G55*$AE55*AF55 -> 0 | U55: =$G55*$AE55*AG55 -> 0 | V55: =$G55*$AE55*AH55 -> 0 | W55: =$G55*$AE55*AI55 -> 0 | X55: =IF(H55<>"c",$G55*$AE55*AJ55,0) -> 0 | Y55: =IF(H55<>"c",$G55*$AE55*AK55,0) -> 0 | Z55: =IF(H55<>"c",$G55*$AE55*AL55,0) -> 0 | AA55: =SUM(T55:Z55) -> 0 | AB55: =G55*AI55/52 -> 0 | AD55: =IF(D55<=X$5,IF(D55<=W$5,IF(D55<=V$5,IF(D55<U$5,IF(D55<T$5,T$5,U$5),V$5),W$5),X$5),Y$5) -> 44742 | AE55: =IF(L55>1,N55/L55,0) -> 0 | AF55: =IF(D55>0,IF($AD55=T$5,IF(E55=0,ROUND(($AD55-$D55)/7+0.5,0),ROUND(($AD55-$E55)/7+0.5,0)),0),0) -> 0 | AG55: =IF($D55>0,IF($AD55<=U$5,IF(SUM($AF55:AF55)>0,IF($L55-SUM($AF55:AF55)>52,52,$L55-SUM($AF55:AF55)),IF($AD55=U$5,IF(($D55+($L55*7))>=U$5,ROUND(($AD55-$D55)/7+0.5,0),$L55))),0),0) -> 0 | AH55: =IF($D55>0,IF($AD55<=V$5,IF(SUM($AF55:AG55)>0,IF($L55-SUM($AF55:AG55)>52,52,$L55-SUM($AF55:AG55)),IF($AD55=V$5,IF(($D55+($L55*7))>=V$5,ROUND(($AD55-$D55)/7+0.5,0),$L55))),0),0) -> 0 | AI55: =IF($D55>0,IF($AD55<=W$5,IF(SUM($AF55:AH55)>0,IF($L55-SUM($AF55:AH55)>52,52,$L55-SUM($AF55:AH55)),IF($AD55=W$5,IF(($D55+($L55*7))>=W$5,ROUND(($AD55-$D55)/7+0.5,0),$L55))),0),0) -> 0 | AJ55: =IF($D55>0,IF($AD55<=X$5,IF(SUM($AF55:AI55)>0,IF($L55-SUM($AF55:AI55)>52,52,$L55-SUM($AF55:AI55)),IF($AD55=X$5,IF(($D55+($L55*7))>=X$5,ROUND(($AD55-$D55)/7+0.5,0),$L55))),0),0) -> 0 | AK55: =IF($D55>0,IF($AD55<=Y$5,IF(SUM($AF55:AJ55)>0,IF($L55-SUM($AF55:AJ55)>52,52,$L55-SUM($AF55:AJ55)),IF($AD55=Y$5,IF(($D55+($L55*7))>=Y$5,ROUND(($AD55-$D55)/7+0.5,0),$L55))),0),0) -> 0 | AL55: =IF($D55>0,IF($AD55<=Z$5,IF(SUM($AF55:AK55)>0,IF($L55-SUM($AF55:AK55)>52,52,$L55-SUM($AF55:AK55)),IF($AD55=Z$5,IF(($D55+($L55*7))>=Z$5,ROUND(($AD55-$D55)/7+0.5,0),$L55))),0),0) -> 0 | AM55: =IF(W55<>0,IF(D55<>"",G55,0),IF(O55>0,G55,"")) | AN55: =IF(W55<>0,IF(H55<>"c",IF(E55<>"",H55,""),""),IF(O55>0,H55,"")) | AO55: =IF(AN55<>"",AM55,"") | AP55: =IF(AN55<>"",AN55-AO55,"") | AQ55: =IF(E55<>0,IF(E55>V$5,IF(E55<=W$5,IF(D55>V$5,ROUND(((D55-E55)/7+AI55+0.4),0),ROUND(((V$5-E55)/7+AI55+0.4),0)),0),52),AI55) -> 0 | AR55: =IF(D55<=V$5,IF(E55>V$5,IF(E55<=W$5,W$5,X$5),0),0) -> 0 | AS55: =IF(AR55>AD55,IF(E55<=W$5,ROUND(((V$5-E55)/7),0)*AE55*G55,-W55),0) -> 0 | AT55: =IF(H55<>" ",IF(H55<>"c",IF(H55<>0,H55-G55,0),-G55),0) -> 0 | AU55: =IF($AD55=T$5,$W55,0) -> 0 | AV55: =IF($AD55=V$5,$W55,0) -> 0 | AW55: =IF($AD55=W$5,$W55,0) -> 0 | AX55: =IF(E55>0,E55,D55) -> 0 | AY55: =IF(H55<>"C",IF(H55>0,H55,G55),0) -> 0 | AZ55: =W55+S55 -> 0 | BA55: =IF(B55<>"",VLOOKUP(B55,'1 Pricing Length'!A$8:B$50,2),"")
L56: =IF(B56<>"",IF(D56>0,IF(D56<=V$5,IF(M56>0,M56,VLOOKUP(B56,'1 Pricing Length'!A$8:C$50,3)),VLOOKUP(B56,'1 Pricing Length'!A$8:C$50,3)),0),0) -> 0 | M56: =IF(E56<>"",IF(F56<>"",(F56-E56)/7,0),0) -> 0 | N56: =IF(B56<>"",IF(D56<>0,IF(AD56<Y$5,IF(AD56<X$5,IF(AD56<W$5,IF(AD56<V$5,IF(AD56<U$5,VLOOKUP(B56,'1 Pricing Length'!A$8:I$50,4),VLOOKUP(B56,'1 Pricing Length'!A$8:I$50,5)),VLOOKUP(B56,'1 Pricing Length'!A$8:I$50,6)),VLOOKUP(B56,'1 Pricing Length'!A$8:I$50,7)),VLOOKUP(B56,'1 Pricing Length'!A$8:I$50,8)),0),0),0) -> 0 | O56: =IF(H56<>"c",IF(H56<>"",IF(G56>0,W56*H56/G56-W56,IF(E56>V$5,IF(F56>W$5,ROUND((W$5-E56)/7,0)*AE56*H56,ROUND((F56-E56)/7,0)*AE56*H56),"enter budget")),0),-W56) -> 0 | P56: ='3 CY Interim'!P56 -> 0 | Q56: =IF(G56>0,IF(H56<>"C",IF(H56<>"",IF(E56>0,IF(F56>0,IF(M56>0,(W56/(M56/L56)-W56),(O56/(M56/L56)-O56)),0),0),0),0),0) -> 0 | R56: =IF(H56<>"c",IF(E56>0,IF(AD56=W$5,IF(H56>0,IF(E56>AH$5,(AQ56-AI56)*G56*AE56,(52-AI56)*G56*AE56),0),0),0),0) -> 0 | S56: =SUM(O56:R56) -> 0 | T56: =$G56*$AE56*AF56 -> 0 | U56: =$G56*$AE56*AG56 -> 0 | V56: =$G56*$AE56*AH56 -> 0 | W56: =$G56*$AE56*AI56 -> 0 | X56: =IF(H56<>"c",$G56*$AE56*AJ56,0) -> 0 | Y56: =IF(H56<>"c",$G56*$AE56*AK56,0) -> 0 | Z56: =IF(H56<>"c",$G56*$AE56*AL56,0) -> 0 | AA56: =SUM(T56:Z56) -> 0 | AB56: =G56*AI56/52 -> 0 | AD56: =IF(D56<=X$5,IF(D56<=W$5,IF(D56<=V$5,IF(D56<U$5,IF(D56<T$5,T$5,U$5),V$5),W$5),X$5),Y$5) -> 44742 | AE56: =IF(L56>1,N56/L56,0) -> 0 | AF56: =IF(D56>0,IF($AD56=T$5,IF(E56=0,ROUND(($AD56-$D56)/7+0.5,0),ROUND(($AD56-$E56)/7+0.5,0)),0),0) -> 0 | AG56: =IF($D56>0,IF($AD56<=U$5,IF(SUM($AF56:AF56)>0,IF($L56-SUM($AF56:AF56)>52,52,$L56-SUM($AF56:AF56)),IF($AD56=U$5,IF(($D56+($L56*7))>=U$5,ROUND(($AD56-$D56)/7+0.5,0),$L56))),0),0) -> 0 | AH56: =IF($D56>0,IF($AD56<=V$5,IF(SUM($AF56:AG56)>0,IF($L56-SUM($AF56:AG56)>52,52,$L56-SUM($AF56:AG56)),IF($AD56=V$5,IF(($D56+($L56*7))>=V$5,ROUND(($AD56-$D56)/7+0.5,0),$L56))),0),0) -> 0 | AI56: =IF($D56>0,IF($AD56<=W$5,IF(SUM($AF56:AH56)>0,IF($L56-SUM($AF56:AH56)>52,52,$L56-SUM($AF56:AH56)),IF($AD56=W$5,IF(($D56+($L56*7))>=W$5,ROUND(($AD56-$D56)/7+0.5,0),$L56))),0),0) -> 0 | AJ56: =IF($D56>0,IF($AD56<=X$5,IF(SUM($AF56:AI56)>0,IF($L56-SUM($AF56:AI56)>52,52,$L56-SUM($AF56:AI56)),IF($AD56=X$5,IF(($D56+($L56*7))>=X$5,ROUND(($AD56-$D56)/7+0.5,0),$L56))),0),0) -> 0 | AK56: =IF($D56>0,IF($AD56<=Y$5,IF(SUM($AF56:AJ56)>0,IF($L56-SUM($AF56:AJ56)>52,52,$L56-SUM($AF56:AJ56)),IF($AD56=Y$5,IF(($D56+($L56*7))>=Y$5,ROUND(($AD56-$D56)/7+0.5,0),$L56))),0),0) -> 0 | AL56: =IF($D56>0,IF($AD56<=Z$5,IF(SUM($AF56:AK56)>0,IF($L56-SUM($AF56:AK56)>52,52,$L56-SUM($AF56:AK56)),IF($AD56=Z$5,IF(($D56+($L56*7))>=Z$5,ROUND(($AD56-$D56)/7+0.5,0),$L56))),0),0) -> 0 | AM56: =IF(W56<>0,IF(D56<>"",G56,0),IF(O56>0,G56,"")) | AN56: =IF(W56<>0,IF(H56<>"c",IF(E56<>"",H56,""),""),IF(O56>0,H56,"")) | AO56: =IF(AN56<>"",AM56,"") | AP56: =IF(AN56<>"",AN56-AO56,"") | AQ56: =IF(E56<>0,IF(E56>V$5,IF(E56<=W$5,IF(D56>V$5,ROUND(((D56-E56)/7+AI56+0.4),0),ROUND(((V$5-E56)/7+AI56+0.4),0)),0),52),AI56) -> 0 | AR56: =IF(D56<=V$5,IF(E56>V$5,IF(E56<=W$5,W$5,X$5),0),0) -> 0 | AS56: =IF(AR56>AD56,IF(E56<=W$5,ROUND(((V$5-E56)/7),0)*AE56*G56,-W56),0) -> 0 | AT56: =IF(H56<>" ",IF(H56<>"c",IF(H56<>0,H56-G56,0),-G56),0) -> 0 | AU56: =IF($AD56=T$5,$W56,0) -> 0 | AV56: =IF($AD56=V$5,$W56,0) -> 0 | AW56: =IF($AD56=W$5,$W56,0) -> 0 | AX56: =IF(E56>0,E56,D56) -> 0 | AY56: =IF(H56<>"C",IF(H56>0,H56,G56),0) -> 0 | AZ56: =W56+S56 -> 0 | BA56: =IF(B56<>"",VLOOKUP(B56,'1 Pricing Length'!A$8:B$50,2),"")
L57: =IF(B57<>"",IF(D57>0,IF(D57<=V$5,IF(M57>0,M57,VLOOKUP(B57,'1 Pricing Length'!A$8:C$50,3)),VLOOKUP(B57,'1 Pricing Length'!A$8:C$50,3)),0),0) -> 0 | M57: =IF(E57<>"",IF(F57<>"",(F57-E57)/7,0),0) -> 0 | N57: =IF(B57<>"",IF(D57<>0,IF(AD57<Y$5,IF(AD57<X$5,IF(AD57<W$5,IF(AD57<V$5,IF(AD57<U$5,VLOOKUP(B57,'1 Pricing Length'!A$8:I$50,4),VLOOKUP(B57,'1 Pricing Length'!A$8:I$50,5)),VLOOKUP(B57,'1 Pricing Length'!A$8:I$50,6)),VLOOKUP(B57,'1 Pricing Length'!A$8:I$50,7)),VLOOKUP(B57,'1 Pricing Length'!A$8:I$50,8)),0),0),0) -> 0 | O57: =IF(H57<>"c",IF(H57<>"",IF(G57>0,W57*H57/G57-W57,IF(E57>V$5,IF(F57>W$5,ROUND((W$5-E57)/7,0)*AE57*H57,ROUND((F57-E57)/7,0)*AE57*H57),"enter budget")),0),-W57) -> 0 | P57: ='3 CY Interim'!P57 -> 0 | Q57: =IF(G57>0,IF(H57<>"C",IF(H57<>"",IF(E57>0,IF(F57>0,IF(M57>0,(W57/(M57/L57)-W57),(O57/(M57/L57)-O57)),0),0),0),0),0) -> 0 | R57: =IF(H57<>"c",IF(E57>0,IF(AD57=W$5,IF(H57>0,IF(E57>AH$5,(AQ57-AI57)*G57*AE57,(52-AI57)*G57*AE57),0),0),0),0) -> 0 | S57: =SUM(O57:R57) -> 0 | T57: =$G57*$AE57*AF57 -> 0 | U57: =$G57*$AE57*AG57 -> 0 | V57: =$G57*$AE57*AH57 -> 0 | W57: =$G57*$AE57*AI57 -> 0 | X57: =IF(H57<>"c",$G57*$AE57*AJ57,0) -> 0 | Y57: =IF(H57<>"c",$G57*$AE57*AK57,0) -> 0 | Z57: =IF(H57<>"c",$G57*$AE57*AL57,0) -> 0 | AA57: =SUM(T57:Z57) -> 0 | AB57: =G57*AI57/52 -> 0 | AD57: =IF(D57<=X$5,IF(D57<=W$5,IF(D57<=V$5,IF(D57<U$5,IF(D57<T$5,T$5,U$5),V$5),W$5),X$5),Y$5) -> 44742 | AE57: =IF(L57>1,N57/L57,0) -> 0 | AF57: =IF(D57>0,IF($AD57=T$5,IF(E57=0,ROUND(($AD57-$D57)/7+0.5,0),ROUND(($AD57-$E57)/7+0.5,0)),0),0) -> 0 | AG57: =IF($D57>0,IF($AD57<=U$5,IF(SUM($AF57:AF57)>0,IF($L57-SUM($AF57:AF57)>52,52,$L57-SUM($AF57:AF57)),IF($AD57=U$5,IF(($D57+($L57*7))>=U$5,ROUND(($AD57-$D57)/7+0.5,0),$L57))),0),0) -> 0 | AH57: =IF($D57>0,IF($AD57<=V$5,IF(SUM($AF57:AG57)>0,IF($L57-SUM($AF57:AG57)>52,52,$L57-SUM($AF57:AG57)),IF($AD57=V$5,IF(($D57+($L57*7))>=V$5,ROUND(($AD57-$D57)/7+0.5,0),$L57))),0),0) -> 0 | AI57: =IF($D57>0,IF($AD57<=W$5,IF(SUM($AF57:AH57)>0,IF($L57-SUM($AF57:AH57)>52,52,$L57-SUM($AF57:AH57)),IF($AD57=W$5,IF(($D57+($L57*7))>=W$5,ROUND(($AD57-$D57)/7+0.5,0),$L57))),0),0) -> 0 | AJ57: =IF($D57>0,IF($AD57<=X$5,IF(SUM($AF57:AI57)>0,IF($L57-SUM($AF57:AI57)>52,52,$L57-SUM($AF57:AI57)),IF($AD57=X$5,IF(($D57+($L57*7))>=X$5,ROUND(($AD57-$D57)/7+0.5,0),$L57))),0),0) -> 0 | AK57: =IF($D57>0,IF($AD57<=Y$5,IF(SUM($AF57:AJ57)>0,IF($L57-SUM($AF57:AJ57)>52,52,$L57-SUM($AF57:AJ57)),IF($AD57=Y$5,IF(($D57+($L57*7))>=Y$5,ROUND(($AD57-$D57)/7+0.5,0),$L57))),0),0) -> 0 | AL57: =IF($D57>0,IF($AD57<=Z$5,IF(SUM($AF57:AK57)>0,IF($L57-SUM($AF57:AK57)>52,52,$L57-SUM($AF57:AK57)),IF($AD57=Z$5,IF(($D57+($L57*7))>=Z$5,ROUND(($AD57-$D57)/7+0.5,0),$L57))),0),0) -> 0 | AM57: =IF(W57<>0,IF(D57<>"",G57,0),IF(O57>0,G57,"")) | AN57: =IF(W57<>0,IF(H57<>"c",IF(E57<>"",H57,""),""),IF(O57>0,H57,"")) | AO57: =IF(AN57<>"",AM57,"") | AP57: =IF(AN57<>"",AN57-AO57,"") | AQ57: =IF(E57<>0,IF(E57>V$5,IF(E57<=W$5,IF(D57>V$5,ROUND(((D57-E57)/7+AI57+0.4),0),ROUND(((V$5-E57)/7+AI57+0.4),0)),0),52),AI57) -> 0 | AR57: =IF(D57<=V$5,IF(E57>V$5,IF(E57<=W$5,W$5,X$5),0),0) -> 0 | AS57: =IF(AR57>AD57,IF(E57<=W$5,ROUND(((V$5-E57)/7),0)*AE57*G57,-W57),0) -> 0 | AT57: =IF(H57<>" ",IF(H57<>"c",IF(H57<>0,H57-G57,0),-G57),0) -> 0 | AU57: =IF($AD57=T$5,$W57,0) -> 0 | AV57: =IF($AD57=V$5,$W57,0) -> 0 | AW57: =IF($AD57=W$5,$W57,0) -> 0 | AX57: =IF(E57>0,E57,D57) -> 0 | AY57: =IF(H57<>"C",IF(H57>0,H57,G57),0) -> 0 | AZ57: =W57+S57 -> 0 | BA57: =IF(B57<>"",VLOOKUP(B57,'1 Pricing Length'!A$8:B$50,2),"")
... L250: =IF(B250<>"",IF(D250>0,IF(D250<=V$5,IF(M250>0,M250,VLOOKUP(B250,'1 Pricing Length'!A$8:C$50,3)),VLOOKUP(B250,'1 Pricing Length'!A$8:C$50,3)),0),0) -> 0 | M250: =IF(E250<>"",IF(F250<>"",(F250-E250)/7,0),0) -> 0 | N250: =IF(B250<>"",IF(D250<>0,IF(AD250<Y$5,IF(AD250<X$5,IF(AD250<W$5,IF(AD250<V$5,IF(AD250<U$5,VLOOKUP(B250,'1 Pricing Length'!A$8:I$50,4),VLOOKUP(B250,'1 Pricing Length'!A$8:I$50,5)),VLOOKUP(B250,'1 Pricing Length'!A$8:I$50,6)),VLOOKUP(B250,'1 Pricing Length'!A$8:I$50,7)),VLOOKUP(B250,'1 Pricing Length'!A$8:I$50,8)),0),0),0) -> 0 | O250: =IF(H250<>"c",IF(H250<>"",IF(G250>0,W250*H250/G250-W250,IF(E250>V$5,IF(F250>W$5,ROUND((W$5-E250)/7,0)*AE250*H250,ROUND((F250-E250)/7,0)*AE250*H250),"enter budget")),0),-W250) -> 0 | P250: ='3 CY Interim'!P250 -> 0 | Q250: =IF(G250>0,IF(H250<>"C",IF(H250<>"",IF(E250>0,IF(F250>0,IF(M250>0,(W250/(M250/L250)-W250),(O250/(M250/L250)-O250)),0),0),0),0),0) -> 0 | R250: =IF(H250<>"c",IF(E250>0,IF(AD250=W$5,IF(H250>0,IF(E250>AH$5,(AQ250-AI250)*G250*AE250,(52-AI250)*G250*AE250),0),0),0),0) -> 0 | S250: =SUM(O250:R250) -> 0 | T250: =$G250*$AE250*AF250 -> 0 | U250: =$G250*$AE250*AG250 -> 0 | V250: =$G250*$AE250*AH250 -> 0 | W250: =$G250*$AE250*AI250 -> 0 | X250: =IF(H250<>"c",$G250*$AE250*AJ250,0) -> 0 | Y250: =IF(H250<>"c",$G250*$AE250*AK250,0) -> 0 | Z250: =IF(H250<>"c",$G250*$AE250*AL250,0) -> 0 | AA250: =SUM(T250:Z250) -> 0 | AB250: =G250*AI250/52 -> 0 | AD250: =IF(D250<=X$5,IF(D250<=W$5,IF(D250<=V$5,IF(D250<U$5,IF(D250<T$5,T$5,U$5),V$5),W$5),X$5),Y$5) -> 44742 | AE250: =IF(L250>1,N250/L250,0) -> 0 | AF250: =IF(D250>0,IF($AD250=T$5,IF(E250=0,ROUND(($AD250-$D250)/7+0.5,0),ROUND(($AD250-$E250)/7+0.5,0)),0),0) -> 0 | AG250: =IF($D250>0,IF($AD250<=U$5,IF(SUM($AF250:AF250)>0,IF($L250-SUM($AF250:AF250)>52,52,$L250-SUM($AF250:AF250)),IF($AD250=U$5,IF(($D250+($L250*7))>=U$5,ROUND(($AD250-$D250)/7+0.5,0),$L250))),0),0) -> 0 | AH250: =IF($D250>0,IF($AD250<=V$5,IF(SUM($AF250:AG250)>0,IF($L250-SUM($AF250:AG250)>52,52,$L250-SUM($AF250:AG250)),IF($AD250=V$5,IF(($D250+($L250*7))>=V$5,ROUND(($AD250-$D250)/7+0.5,0),$L250))),0),0) -> 0 | AI250: =IF($D250>0,IF($AD250<=W$5,IF(SUM($AF250:AH250)>0,IF($L250-SUM($AF250:AH250)>52,52,$L250-SUM($AF250:AH250)),IF($AD250=W$5,IF(($D250+($L250*7))>=W$5,ROUND(($AD250-$D250)/7+0.5,0),$L250))),0),0) -> 0 | AJ250: =IF($D250>0,IF($AD250<=X$5,IF(SUM($AF250:AI250)>0,IF($L250-SUM($AF250:AI250)>52,52,$L250-SUM($AF250:AI250)),IF($AD250=X$5,IF(($D250+($L250*7))>=X$5,ROUND(($AD250-$D250)/7+0.5,0),$L250))),0),0) -> 0 | AK250: =IF($D250>0,IF($AD250<=Y$5,IF(SUM($AF250:AJ250)>0,IF($L250-SUM($AF250:AJ250)>52,52,$L250-SUM($AF250:AJ250)),IF($AD250=Y$5,IF(($D250+($L250*7))>=Y$5,ROUND(($AD250-$D250)/7+0.5,0),$L250))),0),0) -> 0 | AL250: =IF($D250>0,IF($AD250<=Z$5,IF(SUM($AF250:AK250)>0,IF($L250-SUM($AF250:AK250)>52,52,$L250-SUM($AF250:AK250)),IF($AD250=Z$5,IF(($D250+($L250*7))>=Z$5,ROUND(($AD250-$D250)/7+0.5,0),$L250))),0),0) -> 0 | AM250: =IF(W250<>0,IF(D250<>"",G250,0),IF(O250>0,G250,"")) | AN250: =IF(W250<>0,IF(H250<>"c",IF(E250<>"",H250,""),""),IF(O250>0,H250,"")) | AO250: =IF(AN250<>"",AM250,"") | AP250: =IF(AN250<>"",AN250-AO250,"") | AQ250: =IF(E250<>0,IF(E250>V$5,IF(E250<=W$5,IF(D250>V$5,ROUND(((D250-E250)/7+AI250+0.4),0),ROUND(((V$5-E250)/7+AI250+0.4),0)),0),52),AI250) -> 0 | AR250: =IF(D250<=V$5,IF(E250>V$5,IF(E250<=W$5,W$5,X$5),0),0) -> 0 | AS250: =IF(AR250>AD250,IF(E250<=W$5,ROUND(((V$5-E250)/7),0)*AE250*G250,-W250),0) -> 0 | AT250: =IF(H250<>" ",IF(H250<>"c",IF(H250<>0,H250-G250,0),-G250),0) -> 0 | AU250: =IF($AD250=T$5,$W250,0) -> 0 | AV250: =IF($AD250=V$5,$W250,0) -> 0 | AW250: =IF($AD250=W$5,$W250,0) -> 0 | AX250: =IF(E250>0,E250,D250) -> 0 | AY250: =IF(H250<>"C",IF(H250>0,H250,G250),0) -> 0 | AZ250: =W250+S250 -> 0 | BA250: =IF(B250<>"",VLOOKUP(B250,'1 Pricing Length'!A$8:B$50,2),"")
AM251: =IF(AO251<>"",AN251,"")
O252: =SUBTOTAL(9,O10:O250) -> -442527.92 | P252: =SUBTOTAL(9,P10:P250) -> 337710.74 | Q252: =SUBTOTAL(9,Q10:Q250) -> 4556089.3 | R252: =SUBTOTAL(9,R10:R250) -> -39392.424 | S252: =SUBTOTAL(9,S10:S250) -> 4411879.7 | T252: =SUBTOTAL(9,T10:T250) -> 0 | U252: =SUBTOTAL(9,U10:U250) -> 61566.019 | V252: =SUBTOTAL(9,V10:V250) -> 1250399.4 | W252: =SUBTOTAL(9,W10:W250) -> 5102609.1
L253: Average start | AL253: Average | AM253: =SUBTOTAL(1,AM10:AM250) -> 18.742857 | AN253: =SUBTOTAL(1,AN10:AN250) -> 17.8 | AO253: =SUBTOTAL(1,AO10:AO250) -> 19.066667 | AP253: =SUBTOTAL(1,AP10:AP250) -> -1.2666667 | AQ253: =SUBTOTAL(1,AQ10:AQ250) -> 5.746888 | AT253: =SUM(AT250:AT251) -> 0 | AY253: =SUM(AY10:AY252) -> 603
L254: =AO253 -> 19.066667 | M254: =AN253 -> 17.8 | O254: =M254-L254 -> -1.2666667 | S254: Add: | T254: Small Program estimate | W254: =895244 -> 895244 | X254: from main budget file "OTHERS & FEES" | AL254: Totals | AM254: =SUBTOTAL(9,AM10:AM250) -> 656 | AN254: =SUBTOTAL(9,AN10:AN250) -> 534 | AO254: =SUBTOTAL(9,AO10:AO250) -> 572 | AP254: =SUBTOTAL(9,AP10:AP250) -> -38
T255: Gen Ed course estimate | AL255: Variance | AO255: =AO254-AN254 -> 38
O256: Note that cohorts with blank 'Actual' start and end dates and blank 'Begin' populations have not yet started
T257: Gross Total | W257: =IF(W252<>SUM(W10:W250),W252,W252+W254+W255) -> 5997853.1

Sheet 3 CY Interim
A2: ='1 Pricing Length'!E1 -> Example College
C3: Current Year Period | G3: 1. Enter the various dates when you wish to perform interim population measurements | O3: =Instructions!G2 -> Version 2025.1
C4: ='2 Current Year'!V5+1 -> 45474 | D4: - | E4: ='2 Current Year'!W5 -> 45838 | G4: 2. Enter the current populations as of each date in columns G through N (M1 - M8)
A5: CY Interim Populations
A7: Identifier | B7: Program | C7: Site | D7: Actual | F7: End Date | G7: M1 | H7: M2 | I7: M3 | J7: M4 | K7: M5 | L7: M6 | M7: M7 | N7: M8 | O7: Projected | P7: Tot Interim
D8: Start Date | G8: ='1 Pricing Length'!G7+63 -> 45536 | H8: =G8+30 -> 45566 | I8: =H8+31 -> 45597 | J8: =I8+30 -> 45627 | K8: =J8+62 -> 45689 | L8: =K8+28 -> 45717 | M8: =L8+31 -> 45748 | N8: =M8+30 -> 45778 | O8: Start | P8: Variance
G9: =IF(G252>0,IF(G8<$C4,"ENTER DATE",""),"") | H9: =IF(H252>0,IF(H8<$C4,"ENTER DATE",""),"") | I9: =IF(I252>0,IF(I8<$C4,"ENTER DATE",""),"") | J9: =IF(J252>0,IF(J8<$C4,"ENTER DATE",""),"") | K9: =IF(K252>0,IF(K8<$C4,"ENTER DATE",""),"") | L9: =IF(L252>0,IF(L8<$C4,"ENTER DATE",""),"") | M9: =IF(M252>0,IF(M8<$C4,"ENTER DATE",""),"") | N9: =IF(N252>0,IF(N8<$C4,"ENTER DATE",""),"") | P9: =P252 -> 337710.74
A10: =IF('2 Current Year'!A10<>"",'2 Current Year'!A10,"") | B10: =IF('2 Current Year'!B10<>"",'2 Current Year'!B10,"") -> AA | C10: =IF('2 Current Year'!C10<>"",'2 Current Year'!C10,"") -> CAM | E10: =IF('2 Current Year'!E10<>"",'2 Current Year'!E10,"") -> 45501 | F10: =IF('2 Current Year'!F10<>"",'2 Current Year'!F10,"") -> 46465 | G10: 14 | H10: 13 | I10: 15 | J10: 13 | L10: 15 | M10: 13 | P10: =SUM(Q10:X10) -> -29012.987 | Q10: =IF(G10>0,IF(G$8<$AD10,IF(G$8>=$C$4,IF($AA10>0,IF($AA10<>"C",IF(H10="",($AD10-G$8)/7/$AB10*($Z10+$AC10)*(G10-$AA10)/$AA10,IF(H$8<$AD10,(H$8-G$8)/7/$AB10*($Z10+$AC10)*(G10-$AA10)/$AA10,($AD10-G$8)/7/$AB10*($Z10+$AC10)*(G10-$AA10)/$AA10)),0),0),0),0),0) -> -1558.4416 | R10: =IF(H10>0,IF(H$8<$AD10,IF(H$8>=$C$4,IF($AA10>0,IF($AA10<>"C",IF(I10="",($AD10-H$8)/7/$AB10*($Z10+$AC10)*(H10-$AA10)/$AA10,IF(I$8<$AD10,(I$8-H$8)/7/$AB10*($Z10+$AC10)*(H10-$AA10)/$AA10,($AD10-H$8)/7/$AB10*($Z10+$AC10)*(H10-$AA10)/$AA10)),0),0),0),0),0) -> -2415.5844 | S10: =IF(I10>0,IF(I$8<$AD10,IF(I$8>=$C$4,IF($AA10>0,IF($AA10<>"C",IF(J10="",($AD10-I$8)/7/$AB10*($Z10+$AC10)*(I10-$AA10)/$AA10,IF(J$8<$AD10,(J$8-I$8)/7/$AB10*($Z10+$AC10)*(I10-$AA10)/$AA10,($AD10-I$8)/7/$AB10*($Z10+$AC10)*(I10-$AA10)/$AA10)),0),0),0),0),0) -> -779.22078 | T10: =IF(J10>0,IF(J$8<$AD10,IF(J$8>=$C$4,IF($AA10>0,IF($AA10<>"C",IF(K10="",($AD10-J$8)/7/$AB10*($Z10+$AC10)*(J10-$AA10)/$AA10,IF(K$8<$AD10,(K$8-J$8)/7/$AB10*($Z10+$AC10)*(J10-$AA10)/$AA10,($AD10-J$8)/7/$AB10*($Z10+$AC10)*(J10-$AA10)/$AA10)),0),0),0),0),0) -> -16441.558 | U10: =IF(K10>0,IF(K$8<$AD10,IF(K$8>=$C$4,IF($AA10>0,IF($AA10<>"C",IF(L10="",($AD10-K$8)/7/$AB10*($Z10+$AC10)*(K10-$AA10)/$AA10,IF(L$8<$AD10,(L$8-K$8)/7/$AB10*($Z10+$AC10)*(K10-$AA10)/$AA10,($AD10-K$8)/7/$AB10*($Z10+$AC10)*(K10-$AA10)/$AA10)),0),0),0),0),0) -> 0 | V10: =IF(L10>0,IF(L$8<$AD10,IF(L$8>=$C$4,IF($AA10>0,IF($AA10<>"C",IF(M10="",($AD10-L$8)/7/$AB10*($Z10+$AC10)*(L10-$AA10)/$AA10,IF(M$8<$AD10,(M$8-L$8)/7/$AB10*($Z10+$AC10)*(L10-$AA10)/$AA10,($AD10-L$8)/7/$AB10*($Z10+$AC10)*(L10-$AA10)/$AA10)),0),0),0),0),0) -> -805.19481 | W10: =IF(M10>0,IF(M$8<$AD10,IF(M$8>=$C$4,IF($AA10>0,IF($AA10<>"C",IF(N10="",($AD10-M$8)/7/$AB10*($Z10+$AC10)*(M10-$AA10)/$AA10,IF(N$8<$AD10,(N$8-M$8)/7/$AB10*($Z10+$AC10)*(M10-$AA10)/$AA10,($AD10-M$8)/7/$AB10*($Z10+$AC10)*(M10-$AA10)/$AA10)),0),0),0),0),0) -> -7012.987 | X10: =IF(N10>0,IF(N$8<$AD10,IF(N$8>=$C$4,IF($AA10>0,IF($AA10<>"C",($AD10-N$8)/7/$AB10*($Z10+$AC10)*(N10-$AA10)/$AA10,0),0),0),0),0) -> 0 | Z10: ='2 Current Year'!W10 -> 267272.73 | AA10: ='2 Current Year'!H10 -> 16 | AB10: ='2 Current Year'!AI10 -> 49 | AC10: ='2 Current Year'!O10 -> -124727.27 | AD10: =IF(F10<=E$4,F10,E$4) -> 45838 | AE10: =IF(N10="", IF(M10="",IF(L10="",IF(K10="",IF(J10="",IF(I10="",IF(H10="",IF(G10="","",G10),H10),I10),J10),K10),L10),M10),N10) -> 13
A11: =IF('2 Current Year'!A11<>"",'2 Current Year'!A11,"") | B11: =IF('2 Current Year'!B11<>"",'2 Current Year'!B11,"") -> AA | C11: =IF('2 Current Year'!C11<>"",'2 Current Year'!C11,"") -> ONL | E11: =IF('2 Current Year'!E11<>"",'2 Current Year'!E11,"") -> 45529 | F11: =IF('2 Current Year'!F11<>"",'2 Current Year'!F11,"") -> 46500 | G11: 23 | P11: =SUM(Q11:X11) -> 0 | Q11: =IF(G11>0,IF(G$8<$AD11,IF(G$8>=$C$4,IF($AA11>0,IF($AA11<>"C",IF(H11="",($AD11-G$8)/7/$AB11*($Z11+$AC11)*(G11-$AA11)/$AA11,IF(H$8<$AD11,(H$8-G$8)/7/$AB11*($Z11+$AC11)*(G11-$AA11)/$AA11,($AD11-G$8)/7/$AB11*($Z11+$AC11)*(G11-$AA11)/$AA11)),0),0),0),0),0) -> 0 | R11: =IF(H11>0,IF(H$8<$AD11,IF(H$8>=$C$4,IF($AA11>0,IF($AA11<>"C",IF(I11="",($AD11-H$8)/7/$AB11*($Z11+$AC11)*(H11-$AA11)/$AA11,IF(I$8<$AD11,(I$8-H$8)/7/$AB11*($Z11+$AC11)*(H11-$AA11)/$AA11,($AD11-H$8)/7/$AB11*($Z11+$AC11)*(H11-$AA11)/$AA11)),0),0),0),0),0) -> 0 | S11: =IF(I11>0,IF(I$8<$AD11,IF(I$8>=$C$4,IF($AA11>0,IF($AA11<>"C",IF(J11="",($AD11-I$8)/7/$AB11*($Z11+$AC11)*(I11-$AA11)/$AA11,IF(J$8<$AD11,(J$8-I$8)/7/$AB11*($Z11+$AC11)*(I11-$AA11)/$AA11,($AD11-I$8)/7/$AB11*($Z11+$AC11)*(I11-$AA11)/$AA11)),0),0),0),0),0) -> 0 | T11: =IF(J11>0,IF(J$8<$AD11,IF(J$8>=$C$4,IF($AA11>0,IF($AA11<>"C",IF(K11="",($AD11-J$8)/7/$AB11*($Z11+$AC11)*(J11-$AA11)/$AA11,IF(K$8<$AD11,(K$8-J$8)/7/$AB11*($Z11+$AC11)*(J11-$AA11)/$AA11,($AD11-J$8)/7/$AB11*($Z11+$AC11)*(J11-$AA11)/$AA11)),0),0),0),0),0) -> 0 | U11: =IF(K11>0,IF(K$8<$AD11,IF(K$8>=$C$4,IF($AA11>0,IF($AA11<>"C",IF(L11="",($AD11-K$8)/7/$AB11*($Z11+$AC11)*(K11-$AA11)/$AA11,IF(L$8<$AD11,(L$8-K$8)/7/$AB11*($Z11+$AC11)*(K11-$AA11)/$AA11,($AD11-K$8)/7/$AB11*($Z11+$AC11)*(K11-$AA11)/$AA11)),0),0),0),0),0) -> 0 | V11: =IF(L11>0,IF(L$8<$AD11,IF(L$8>=$C$4,IF($AA11>0,IF($AA11<>"C",IF(M11="",($AD11-L$8)/7/$AB11*($Z11+$AC11)*(L11-$AA11)/$AA11,IF(M$8<$AD11,(M$8-L$8)/7/$AB11*($Z11+$AC11)*(L11-$AA11)/$AA11,($AD11-L$8)/7/$AB11*($Z11+$AC11)*(L11-$AA11)/$AA11)),0),0),0),0),0) -> 0 | W11: =IF(M11>0,IF(M$8<$AD11,IF(M$8>=$C$4,IF($AA11>0,IF($AA11<>"C",IF(N11="",($AD11-M$8)/7/$AB11*($Z11+$AC11)*(M11-$AA11)/$AA11,IF(N$8<$AD11,(N$8-M$8)/7/$AB11*($Z11+$AC11)*(M11-$AA11)/$AA11,($AD11-M$8)/7/$AB11*($Z11+$AC11)*(M11-$AA11)/$AA11)),0),0),0),0),0) -> 0 | X11: =IF(N11>0,IF(N$8<$AD11,IF(N$8>=$C$4,IF($AA11>0,IF($AA11<>"C",($AD11-N$8)/7/$AB11*($Z11+$AC11)*(N11-$AA11)/$AA11,0),0),0),0),0) -> 0 | Z11: ='2 Current Year'!W11 -> 245454.55 | AA11: ='2 Current Year'!H11 -> 23 | AB11: ='2 Current Year'!AI11 -> 45 | AC11: ='2 Current Year'!O11 -> -57272.727 | AD11: =IF(F11<=E$4,F11,E$4) -> 45838 | AE11: =IF(N11="", IF(M11="",IF(L11="",IF(K11="",IF(J11="",IF(I11="",IF(H11="",IF(G11="","",G11),H11),I11),J11),K11),L11),M11),N11) -> 23
A12: =IF('2 Current Year'!A12<>"",'2 Current Year'!A12,"") | B12: =IF('2 Current Year'!B12<>"",'2 Current Year'!B12,"") -> AA | C12: =IF('2 Current Year'!C12<>"",'2 Current Year'!C12,"") -> CLV | E12: =IF('2 Current Year'!E12<>"",'2 Current Year'!E12,"") -> 45564 | F12: =IF('2 Current Year'!F12<>"",'2 Current Year'!F12,"") -> 46173 | P12: =SUM(Q12:X12) -> 0 | Q12: =IF(G12>0,IF(G$8<$AD12,IF(G$8>=$C$4,IF($AA12>0,IF($AA12<>"C",IF(H12="",($AD12-G$8)/7/$AB12*($Z12+$AC12)*(G12-$AA12)/$AA12,IF(H$8<$AD12,(H$8-G$8)/7/$AB12*($Z12+$AC12)*(G12-$AA12)/$AA12,($AD12-G$8)/7/$AB12*($Z12+$AC12)*(G12-$AA12)/$AA12)),0),0),0),0),0) -> 0 | R12: =IF(H12>0,IF(H$8<$AD12,IF(H$8>=$C$4,IF($AA12>0,IF($AA12<>"C",IF(I12="",($AD12-H$8)/7/$AB12*($Z12+$AC12)*(H12-$AA12)/$AA12,IF(I$8<$AD12,(I$8-H$8)/7/$AB12*($Z12+$AC12)*(H12-$AA12)/$AA12,($AD12-H$8)/7/$AB12*($Z12+$AC12)*(H12-$AA12)/$AA12)),0),0),0),0),0) -> 0 | S12: =IF(I12>0,IF(I$8<$AD12,IF(I$8>=$C$4,IF($AA12>0,IF($AA12<>"C",IF(J12="",($AD12-I$8)/7/$AB12*($Z12+$AC12)*(I12-$AA12)/$AA12,IF(J$8<$AD12,(J$8-I$8)/7/$AB12*($Z12+$AC12)*(I12-$AA12)/$AA12,($AD12-I$8)/7/$AB12*($Z12+$AC12)*(I12-$AA12)/$AA12)),0),0),0),0),0) -> 0 | T12: =IF(J12>0,IF(J$8<$AD12,IF(J$8>=$C$4,IF($AA12>0,IF($AA12<>"C",IF(K12="",($AD12-J$8)/7/$AB12*($Z12+$AC12)*(J12-$AA12)/$AA12,IF(K$8<$AD12,(K$8-J$8)/7/$AB12*($Z12+$AC12)*(J12-$AA12)/$AA12,($AD12-J$8)/7/$AB12*($Z12+$AC12)*(J12-$AA12)/$AA12)),0),0),0),0),0) -> 0 | U12: =IF(K12>0,IF(K$8<$AD12,IF(K$8>=$C$4,IF($AA12>0,IF($AA12<>"C",IF(L12="",($AD12-K$8)/7/$AB12*($Z12+$AC12)*(K12-$AA12)/$AA12,IF(L$8<$AD12,(L$8-K$8)/7/$AB12*($Z12+$AC12)*(K12-$AA12)/$AA12,($AD12-K$8)/7/$AB12*($Z12+$AC12)*(K12-$AA12)/$AA12)),0),0),0),0),0) -> 0 | V12: =IF(L12>0,IF(L$8<$AD12,IF(L$8>=$C$4,IF($AA12>0,IF($AA12<>"C",IF(M12="",($AD12-L$8)/7/$AB12*($Z12+$AC12)*(L12-$AA12)/$AA12,IF(M$8<$AD12,(M$8-L$8)/7/$AB12*($Z12+$AC12)*(L12-$AA12)/$AA12,($AD12-L$8)/7/$AB12*($Z12+$AC12)*(L12-$AA12)/$AA12)),0),0),0),0),0) -> 0 | W12: =IF(M12>0,IF(M$8<$AD12,IF(M$8>=$C$4,IF($AA12>0,IF($AA12<>"C",IF(N12="",($AD12-M$8)/7/$AB12*($Z12+$AC12)*(M12-$AA12)/$AA12,IF(N$8<$AD12,(N$8-M$8)/7/$AB12*($Z12+$AC12)*(M12-$AA12)/$AA12,($AD12-M$8)/7/$AB12*($Z12+$AC12)*(M12-$AA12)/$AA12)),0),0),0),0),0) -> 0 | X12: =IF(N12>0,IF(N$8<$AD12,IF(N$8>=$C$4,IF($AA12>0,IF($AA12<>"C",($AD12-N$8)/7/$AB12*($Z12+$AC12)*(N12-$AA12)/$AA12,0),0),0),0),0) -> 0 | Z12: ='2 Current Year'!W12 -> 218181.82 | AA12: ='2 Current Year'!H12 -> 32 | AB12: ='2 Current Year'!AI12 -> 40 | AC12: ='2 Current Year'!O12 -> 14545.455 | AD12: =IF(F12<=E$4,F12,E$4) -> 45838 | AE12: =IF(N12="", IF(M12="",IF(L12="",IF(K12="",IF(J12="",IF(I12="",IF(H12="",IF(G12="","",G12),H12),I12),J12),K12),L12),M12),N12)
A13: =IF('2 Current Year'!A13<>"",'2 Current Year'!A13,"") | B13: =IF('2 Current Year'!B13<>"",'2 Current Year'!B13,"") -> AA | C13: =IF('2 Current Year'!C13<>"",'2 Current Year'!C13,"") -> DET | E13: =IF('2 Current Year'!E13<>"",'2 Current Year'!E13,"") -> 45592 | F13: =IF('2 Current Year'!F13<>"",'2 Current Year'!F13,"") -> 45622 | P13: =SUM(Q13:X13) -> 0 | Q13: =IF(G13>0,IF(G$8<$AD13,IF(G$8>=$C$4,IF($AA13>0,IF($AA13<>"C",IF(H13="",($AD13-G$8)/7/$AB13*($Z13+$AC13)*(G13-$AA13)/$AA13,IF(H$8<$AD13,(H$8-G$8)/7/$AB13*($Z13+$AC13)*(G13-$AA13)/$AA13,($AD13-G$8)/7/$AB13*($Z13+$AC13)*(G13-$AA13)/$AA13)),0),0),0),0),0) -> 0 | R13: =IF(H13>0,IF(H$8<$AD13,IF(H$8>=$C$4,IF($AA13>0,IF($AA13<>"C",IF(I13="",($AD13-H$8)/7/$AB13*($Z13+$AC13)*(H13-$AA13)/$AA13,IF(I$8<$AD13,(I$8-H$8)/7/$AB13*($Z13+$AC13)*(H13-$AA13)/$AA13,($AD13-H$8)/7/$AB13*($Z13+$AC13)*(H13-$AA13)/$AA13)),0),0),0),0),0) -> 0 | S13: =IF(I13>0,IF(I$8<$AD13,IF(I$8>=$C$4,IF($AA13>0,IF($AA13<>"C",IF(J13="",($AD13-I$8)/7/$AB13*($Z13+$AC13)*(I13-$AA13)/$AA13,IF(J$8<$AD13,(J$8-I$8)/7/$AB13*($Z13+$AC13)*(I13-$AA13)/$AA13,($AD13-I$8)/7/$AB13*($Z13+$AC13)*(I13-$AA13)/$AA13)),0),0),0),0),0) -> 0 | T13: =IF(J13>0,IF(J$8<$AD13,IF(J$8>=$C$4,IF($AA13>0,IF($AA13<>"C",IF(K13="",($AD13-J$8)/7/$AB13*($Z13+$AC13)*(J13-$AA13)/$AA13,IF(K$8<$AD13,(K$8-J$8)/7/$AB13*($Z13+$AC13)*(J13-$AA13)/$AA13,($AD13-J$8)/7/$AB13*($Z13+$AC13)*(J13-$AA13)/$AA13)),0),0),0),0),0) -> 0 | U13: =IF(K13>0,IF(K$8<$AD13,IF(K$8>=$C$4,IF($AA13>0,IF($AA13<>"C",IF(L13="",($AD13-K$8)/7/$AB13*($Z13+$AC13)*(K13-$AA13)/$AA13,IF(L$8<$AD13,(L$8-K$8)/7/$AB13*($Z13+$AC13)*(K13-$AA13)/$AA13,($AD13-K$8)/7/$AB13*($Z13+$AC13)*(K13-$AA13)/$AA13)),0),0),0),0),0) -> 0 | V13: =IF(L13>0,IF(L$8<$AD13,IF(L$8>=$C$4,IF($AA13>0,IF($AA13<>"C",IF(M13="",($AD13-L$8)/7/$AB13*($Z13+$AC13)*(L13-$AA13)/$AA13,IF(M$8<$AD13,(M$8-L$8)/7/$AB13*($Z13+$AC13)*(L13-$AA13)/$AA13,($AD13-L$8)/7/$AB13*($Z13+$AC13)*(L13-$AA13)/$AA13)),0),0),0),0),0) -> 0 | W13: =IF(M13>0,IF(M$8<$AD13,IF(M$8>=$C$4,IF($AA13>0,IF($AA13<>"C",IF(N13="",($AD13-M$8)/7/$AB13*($Z13+$AC13)*(M13-$AA13)/$AA13,IF(N$8<$AD13,(N$8-M$8)/7/$AB13*($Z13+$AC13)*(M13-$AA13)/$AA13,($AD13-M$8)/7/$AB13*($Z13+$AC13)*(M13-$AA13)/$AA13)),0),0),0),0),0) -> 0 | X13: =IF(N13>0,IF(N$8<$AD13,IF(N$8>=$C$4,IF($AA13>0,IF($AA13<>"C",($AD13-N$8)/7/$AB13*($Z13+$AC13)*(N13-$AA13)/$AA13,0),0),0),0),0) -> 0 | Z13: ='2 Current Year'!W13 -> 196363.64 | AA13: ='2 Current Year'!H13 -> 29 | AB13: ='2 Current Year'!AI13 -> 36 | AC13: ='2 Current Year'!O13 -> -6545.4545 | AD13: =IF(F13<=E$4,F13,E$4) -> 45622 | AE13: =IF(N13="", IF(M13="",IF(L13="",IF(K13="",IF(J13="",IF(I13="",IF(H13="",IF(G13="","",G13),H13),I13),J13),K13),L13),M13),N13)
